Workbook
Name age_group: #REF!
Name age_group: #REF!
Name Full_detailed: 'Bloodstream Antibiogram'!$A$6:$AE$766
Name Full_detailed: #REF!
Name lhin: #REF!
Name lhin: #REF!
Name Overall: #REF!
Name Overall: #REF!
Name setting: #REF!
Name setting: #REF!
Name Slicer_age_group: #N/A
Name Slicer_age_group1: #N/A
Name Slicer_Gram_stain: #N/A
Name Slicer_Gram_Stain1: #N/A
Name Slicer_lhin: #N/A
Name Slicer_LHIN_Name: #N/A
Name Slicer_LHIN_Name1: #N/A
Name Slicer_setting: #N/A
Name Slicer_setting1: #N/A
Name Slicer_View: #N/A
Name Slicer_year: #N/A
Name year: #REF!
Name year: #REF!

Sheet DropLists
A1: Service area | B1: Service (unit) | C1: Specimens | D1: Specimens (site-specific) | E1: Species | F1: Species (ARO) | G1: Antibiotic
A2: All Inpatient / Nonspecified | B2: Inpatient (non-ICU) | C2: All specimens / Nonspecified | D2: All Non-Urine | E2: ~~~GRAM NEGATIVE BACTERIA~~~ | F2: non-ESBL | G2: Amikacin
B3: ICU | D3: Urine | E3: Acinetobacter baumannii complex | F3: ESBL | G3: Amoxicillin-Clavulanic acid
D4: All Non-Blood | E4: Acinetobacter sp. | F4: methicillin-susceptible (MSSA) | G4: Ampicillin / Amoxicillin
D5: Blood | E5: Burkholderia cepacia | F5: methicillin-resistant (MRSA) | G5: Ampicillin-Sulbactam
D6: Respiratory | E6: Citrobacter braakii | F6: vancomycin-susceptible | G6: Azithromycin
E7: Citrobacter diversus | F7: vancomycin-resistant (VRE) | G7: Aztreonam
E8: Citrobacter freundii | F8: vancomycin-susceptible (vanA+) | G8: Cefalotin
E9: Citrobacter koseri | G9: Cefazolin
E10: Citrobacter sp. | G10: Cefepime
E11: Citrobacter youngae | G11: Cefixime
E12: Enterobacter aerogenes | G12: Cefotaxime
E13: Enterobacter cloacae complex | G13: Cefotaxime (meningitis)
E14: Enterobacter sp. | G14: Cefotaxime (non-meningitis)
E15: Escherichia coli - non ESBL | G15: Cefotetan
E16: Escherichia coli - ESBL | G16: Cefoxitin
E17: Escherichia coli - ALL | G17: Cefpodoxime
E18: Haemophilus influenzae | G18: Ceftazidime
E19: Klebsiella oxytoca | G19: Ceftriaxone
E20: Klebsiella ozaenae | G20: Ceftriaxone (meningitis)
... E50: Streptococcus, viridans group | G50: Rifampin
G51: Sulfamethoxazole
G52: Tetracycline
G53: Ticarcillin-Clavulanate
G54: Tigecycline
G55: Tobramycin
G56: Trimethoprim-Sulfamethoxazole
G57: Vancomycin

Sheet Antibiogram Entry
A1: Corporation | B1: Hospital | C1: OHA Hospital Type | D1: LHIN Code | E1: LHIN Name | F1: Year | G1: Gram stain | H1: Species | I1: # isolates | J1: Antibiotic | K1: Susceptibility rate (%) | L1: # susceptible isolates | M1: NOTES!!! | N1: #isolates interhospital
A2: Alexandra Marine and General Hospital and Huron Perth Healthcare Alliance | B2: Alexandra Marine and General Hospital and Huron Perth Healthcare Alliance | C2: Small Community | D2: LHIN2 | E2: South West | F2: 2019-20 | G2: =VLOOKUP(H2,'GN and GP categories'!A:B,2,FALSE) -> Gram-negative | H2: Enterobacter sp. | I2: 25 | J2: Ampicillin / Amoxicillin | K2: 0 | L2: =IF(K2="","",K2*I2/100) -> 0
A3: Alexandra Marine and General Hospital and Huron Perth Healthcare Alliance | B3: Alexandra Marine and General Hospital and Huron Perth Healthcare Alliance | C3: Small Community | D3: LHIN2 | E3: South West | F3: 2019-20 | G3: =VLOOKUP(H3,'GN and GP categories'!A:B,2,FALSE) -> Gram-negative | H3: Enterobacter sp. | I3: 25 | J3: Cloxacillin | K3: 0 | L3: =IF(K3="","",K3*I3/100) -> 0
A4: Alexandra Marine and General Hospital and Huron Perth Healthcare Alliance | B4: Alexandra Marine and General Hospital and Huron Perth Healthcare Alliance | C4: Small Community | D4: LHIN2 | E4: South West | F4: 2019-20 | G4: =VLOOKUP(H4,'GN and GP categories'!A:B,2,FALSE) -> Gram-negative | H4: Enterobacter sp. | I4: 25 | J4: penicillin | K4: 0 | L4: =IF(K4="","",K4*I4/100) -> 0
A5: Alexandra Marine and General Hospital and Huron Perth Healthcare Alliance | B5: Alexandra Marine and General Hospital and Huron Perth Healthcare Alliance | C5: Small Community | D5: LHIN2 | E5: South West | F5: 2019-20 | G5: =VLOOKUP(H5,'GN and GP categories'!A:B,2,FALSE) -> Gram-negative | H5: Enterobacter sp. | I5: 25 | J5: Piperacillin-Tazobactam | K5: 67 | L5: =IF(K5="","",K5*I5/100) -> 16.75
A6: Alexandra Marine and General Hospital and Huron Perth Healthcare Alliance | B6: Alexandra Marine and General Hospital and Huron Perth Healthcare Alliance | C6: Small Community | D6: LHIN2 | E6: South West | F6: 2019-20 | G6: =VLOOKUP(H6,'GN and GP categories'!A:B,2,FALSE) -> Gram-negative | H6: Enterobacter sp. | I6: 25 | J6: Cefazolin | K6: 0 | L6: =IF(K6="","",K6*I6/100) -> 0
A7: Alexandra Marine and General Hospital and Huron Perth Healthcare Alliance | B7: Alexandra Marine and General Hospital and Huron Perth Healthcare Alliance | C7: Small Community | D7: LHIN2 | E7: South West | F7: 2019-20 | G7: =VLOOKUP(H7,'GN and GP categories'!A:B,2,FALSE) -> Gram-negative | H7: Enterobacter sp. | I7: 25 | J7: ceftriaxone | K7: 67 | L7: =IF(K7="","",K7*I7/100) -> 16.75
A8: Alexandra Marine and General Hospital and Huron Perth Healthcare Alliance | B8: Alexandra Marine and General Hospital and Huron Perth Healthcare Alliance | C8: Small Community | D8: LHIN2 | E8: South West | F8: 2019-20 | G8: =VLOOKUP(H8,'GN and GP categories'!A:B,2,FALSE) -> Gram-negative | H8: Enterobacter sp. | I8: 25 | J8: Meropenem | K8: 100 | L8: =IF(K8="","",K8*I8/100) -> 25
A9: Alexandra Marine and General Hospital and Huron Perth Healthcare Alliance | B9: Alexandra Marine and General Hospital and Huron Perth Healthcare Alliance | C9: Small Community | D9: LHIN2 | E9: South West | F9: 2019-20 | G9: =VLOOKUP(H9,'GN and GP categories'!A:B,2,FALSE) -> Gram-negative | H9: Enterobacter sp. | I9: 25 | J9: Ciprofloxacin | K9: 92 | L9: =IF(K9="","",K9*I9/100) -> 23
A10: Alexandra Marine and General Hospital and Huron Perth Healthcare Alliance | B10: Alexandra Marine and General Hospital and Huron Perth Healthcare Alliance | C10: Small Community | D10: LHIN2 | E10: South West | F10: 2019-20 | G10: =VLOOKUP(H10,'GN and GP categories'!A:B,2,FALSE) -> Gram-negative | H10: Enterobacter sp. | I10: 25 | J10: Gentamicin | K10: 100 | L10: =IF(K10="","",K10*I10/100) -> 25
A11: Alexandra Marine and General Hospital and Huron Perth Healthcare Alliance | B11: Alexandra Marine and General Hospital and Huron Perth Healthcare Alliance | C11: Small Community | D11: LHIN2 | E11: South West | F11: 2019-20 | G11: =VLOOKUP(H11,'GN and GP categories'!A:B,2,FALSE) -> Gram-negative | H11: Enterobacter sp. | I11: 25 | J11: Tobramycin | K11: 96 | L11: =IF(K11="","",K11*I11/100) -> 24
A12: Alexandra Marine and General Hospital and Huron Perth Healthcare Alliance | B12: Alexandra Marine and General Hospital and Huron Perth Healthcare Alliance | C12: Small Community | D12: LHIN2 | E12: South West | F12: 2019-20 | G12: =VLOOKUP(H12,'GN and GP categories'!A:B,2,FALSE) -> Gram-negative | H12: Enterobacter sp. | I12: 25 | J12: Trimethoprim-Sulfamethoxazole | K12: 96 | L12: =IF(K12="","",K12*I12/100) -> 24
A13: Alexandra Marine and General Hospital and Huron Perth Healthcare Alliance | B13: Alexandra Marine and General Hospital and Huron Perth Healthcare Alliance | C13: Small Community | D13: LHIN2 | E13: South West | F13: 2019-20 | G13: =VLOOKUP(H13,'GN and GP categories'!A:B,2,FALSE) -> Gram-negative | H13: Escherichia coli - ALL | I13: 151 | J13: Amoxicillin-Clavulanic acid | K13: 75 | L13: =IF(K13="","",K13*I13/100) -> 113.25
... A148: Alexandra Marine and General Hospital and Huron Perth Healthcare Alliance | B148: Alexandra Marine and General Hospital and Huron Perth Healthcare Alliance | C148: Small Community | D148: LHIN2 | E148: South West | F148: 2019-20 | G148: =VLOOKUP(H148,'GN and GP categories'!A:B,2,FALSE) -> Gram-positive | H148: Staphylococcus aureus | I148: 171 | J148: Vancomycin | K148: 100 | L148: =IF(K148="","",K148*I148/100) -> 171
A149: MICs Group | B149: Anson General Hospital, Lady Minto, Bingham Memorial | C149: Small community | D149: LHIN13 | E149: North East | F149: 2018 | G149: =VLOOKUP(H149,'GN and GP categories'!A:B,2,FALSE) -> Gram-negative | H149: Escherichia coli - ALL | I149: 498 | J149: Ampicillin / Amoxicillin | K149: 55 | L149: =IF(K149="","",K149*I149/100) -> 273.9
A150: MICs Group | B150: Anson General Hospital, Lady Minto, Bingham Memorial | C150: Small community | D150: LHIN13 | E150: North East | F150: 2018 | G150: =VLOOKUP(H150,'GN and GP categories'!A:B,2,FALSE) -> Gram-negative | H150: Escherichia coli - ALL | I150: 242 | J150: Amoxicillin-Clavulanic acid | K150: 88 | L150: =IF(K150="","",K150*I150/100) -> 212.96
A151: MICs Group | B151: Anson General Hospital, Lady Minto, Bingham Memorial | C151: Small community | D151: LHIN13 | E151: North East | F151: 2018 | G151: =VLOOKUP(H151,'GN and GP categories'!A:B,2,FALSE) -> Gram-negative | H151: Escherichia coli - ALL | I151: 492 | J151: cephalexin | K151: 91 | L151: =IF(K151="","",K151*I151/100) -> 447.72
A152: MICs Group | B152: Anson General Hospital, Lady Minto, Bingham Memorial | C152: Small community | D152: LHIN13 | E152: North East | F152: 2018 | G152: =VLOOKUP(H152,'GN and GP categories'!A:B,2,FALSE) -> Gram-negative | H152: Escherichia coli - ALL | I152: 499 | J152: Cefazolin | K152: 91 | L152: =IF(K152="","",K152*I152/100) -> 454.09
A153: MICs Group | B153: Anson General Hospital, Lady Minto, Bingham Memorial | C153: Small community | D153: LHIN13 | E153: North East | F153: 2018 | G153: =VLOOKUP(H153,'GN and GP categories'!A:B,2,FALSE) -> Gram-negative | H153: Escherichia coli - ALL | I153: 483 | J153: Ciprofloxacin | K153: 75 | L153: =IF(K153="","",K153*I153/100) -> 362.25
A154: MICs Group | B154: Anson General Hospital, Lady Minto, Bingham Memorial | C154: Small community | D154: LHIN13 | E154: North East | F154: 2018 | G154: =VLOOKUP(H154,'GN and GP categories'!A:B,2,FALSE) -> Gram-negative | H154: Escherichia coli - ALL | I154: 500 | J154: Nitrofurantoin (urine) | K154: 97 | L154: =IF(K154="","",K154*I154/100) -> 485
A155: MICs Group | B155: Anson General Hospital, Lady Minto, Bingham Memorial | C155: Small community | D155: LHIN13 | E155: North East | F155: 2018 | G155: =VLOOKUP(H155,'GN and GP categories'!A:B,2,FALSE) -> Gram-negative | H155: Escherichia coli - ALL | I155: 513 | J155: Trimethoprim-Sulfamethoxazole | K155: 70 | L155: =IF(K155="","",K155*I155/100) -> 359.1
A156: MICs Group | B156: Anson General Hospital, Lady Minto, Bingham Memorial | C156: Small community | D156: LHIN13 | E156: North East | F156: 2018 | G156: =VLOOKUP(H156,'GN and GP categories'!A:B,2,FALSE) -> Gram-negative | H156: Escherichia coli - ALL | I156: 508 | J156: Gentamicin | K156: 96 | L156: =IF(K156="","",K156*I156/100) -> 487.68
A157: MICs Group | B157: Anson General Hospital, Lady Minto, Bingham Memorial | C157: Small community | D157: LHIN13 | E157: North East | F157: 2018 | G157: =VLOOKUP(H157,'GN and GP categories'!A:B,2,FALSE) -> Gram-negative | H157: Klebsiella sp. | I157: 24 | J157: Amoxicillin-Clavulanic acid | K157: 96 | L157: =IF(K157="","",K157*I157/100) -> 23.04
A158: MICs Group | B158: Anson General Hospital, Lady Minto, Bingham Memorial | C158: Small community | D158: LHIN13 | E158: North East | F158: 2018 | G158: =VLOOKUP(H158,'GN and GP categories'!A:B,2,FALSE) -> Gram-negative | H158: Klebsiella sp. | I158: 54 | J158: cephalexin | K158: 91 | L158: =IF(K158="","",K158*I158/100) -> 49.14
A159: MICs Group | B159: Anson General Hospital, Lady Minto, Bingham Memorial | C159: Small community | D159: LHIN13 | E159: North East | F159: 2018 | G159: =VLOOKUP(H159,'GN and GP categories'!A:B,2,FALSE) -> Gram-negative | H159: Klebsiella sp. | I159: 56 | J159: Cefazolin | K159: 91 | L159: =IF(K159="","",K159*I159/100) -> 50.96
A160: MICs Group | B160: Anson General Hospital, Lady Minto, Bingham Memorial | C160: Small community | D160: LHIN13 | E160: North East | F160: 2018 | G160: =VLOOKUP(H160,'GN and GP categories'!A:B,2,FALSE) -> Gram-negative | H160: Klebsiella sp. | I160: 58 | J160: Ciprofloxacin | K160: 95 | L160: =IF(K160="","",K160*I160/100) -> 55.1
... A173: MICs Group | B173: Anson General Hospital, Lady Minto, Bingham Memorial | C173: Small community | D173: LHIN13 | E173: North East | F173: 2018 | G173: =VLOOKUP(H173,'GN and GP categories'!A:B,2,FALSE) -> Gram-positive | H173: Enterococcus faecalis | I173: 28 | J173: Nitrofurantoin (urine) | K173: 96 | L173: =IF(K173="","",K173*I173/100) -> 26.88
A174: Baycrest Hospital | B174: Baycrest Hospital | C174: Ccc & Rehab | D174: LHIN7 | E174: Toronto Central | F174: 2020 | G174: =VLOOKUP(H174,'GN and GP categories'!A:B,2,FALSE) -> Gram-negative | H174: Escherichia coli - ALL | I174: 120 | J174: Ampicillin / Amoxicillin | K174: 5 | L174: =IF(K174="","",K174*I174/100) -> 6 | M174: urine only antibiogram for baycrest
A175: Baycrest Hospital | B175: Baycrest Hospital | C175: Ccc & Rehab | D175: LHIN7 | E175: Toronto Central | F175: 2020 | G175: =VLOOKUP(H175,'GN and GP categories'!A:B,2,FALSE) -> Gram-negative | H175: Escherichia coli - ALL | I175: 120 | J175: Amoxicillin-Clavulanic acid | K175: 63 | L175: =IF(K175="","",K175*I175/100) -> 75.6
A176: Baycrest Hospital | B176: Baycrest Hospital | C176: Ccc & Rehab | D176: LHIN7 | E176: Toronto Central | F176: 2020 | G176: =VLOOKUP(H176,'GN and GP categories'!A:B,2,FALSE) -> Gram-negative | H176: Escherichia coli - ALL | I176: 120 | J176: Piperacillin-Tazobactam | K176: 71 | L176: =IF(K176="","",K176*I176/100) -> 85.2
A177: Baycrest Hospital | B177: Baycrest Hospital | C177: Ccc & Rehab | D177: LHIN7 | E177: Toronto Central | F177: 2020 | G177: =VLOOKUP(H177,'GN and GP categories'!A:B,2,FALSE) -> Gram-negative | H177: Escherichia coli - ALL | I177: 120 | J177: Meropenem | K177: 99 | L177: =IF(K177="","",K177*I177/100) -> 118.8
A178: Baycrest Hospital | B178: Baycrest Hospital | C178: Ccc & Rehab | D178: LHIN7 | E178: Toronto Central | F178: 2020 | G178: =VLOOKUP(H178,'GN and GP categories'!A:B,2,FALSE) -> Gram-negative | H178: Escherichia coli - ALL | I178: 120 | J178: ertapenem | K178: 100 | L178: =IF(K178="","",K178*I178/100) -> 120
A179: Baycrest Hospital | B179: Baycrest Hospital | C179: Ccc & Rehab | D179: LHIN7 | E179: Toronto Central | F179: 2020 | G179: =VLOOKUP(H179,'GN and GP categories'!A:B,2,FALSE) -> Gram-negative | H179: Escherichia coli - ALL | I179: 120 | J179: Cefazolin | K179: 70 | L179: =IF(K179="","",K179*I179/100) -> 84
A180: Baycrest Hospital | B180: Baycrest Hospital | C180: Ccc & Rehab | D180: LHIN7 | E180: Toronto Central | F180: 2020 | G180: =VLOOKUP(H180,'GN and GP categories'!A:B,2,FALSE) -> Gram-negative | H180: Escherichia coli - ALL | I180: 120 | J180: ceftriaxone | K180: 73 | L180: =IF(K180="","",K180*I180/100) -> 87.6
A181: Baycrest Hospital | B181: Baycrest Hospital | C181: Ccc & Rehab | D181: LHIN7 | E181: Toronto Central | F181: 2020 | G181: =VLOOKUP(H181,'GN and GP categories'!A:B,2,FALSE) -> Gram-negative | H181: Escherichia coli - ALL | I181: 120 | J181: Ceftazidime | K181: 73 | L181: =IF(K181="","",K181*I181/100) -> 87.6
A182: Baycrest Hospital | B182: Baycrest Hospital | C182: Ccc & Rehab | D182: LHIN7 | E182: Toronto Central | F182: 2020 | G182: =VLOOKUP(H182,'GN and GP categories'!A:B,2,FALSE) -> Gram-negative | H182: Escherichia coli - ALL | I182: 120 | J182: doxycycline | K182: 75 | L182: =IF(K182="","",K182*I182/100) -> 90
A183: Baycrest Hospital | B183: Baycrest Hospital | C183: Ccc & Rehab | D183: LHIN7 | E183: Toronto Central | F183: 2020 | G183: =VLOOKUP(H183,'GN and GP categories'!A:B,2,FALSE) -> Gram-negative | H183: Escherichia coli - ALL | I183: 120 | J183: Ciprofloxacin | K183: 61 | L183: =IF(K183="","",K183*I183/100) -> 73.2
A184: Baycrest Hospital | B184: Baycrest Hospital | C184: Ccc & Rehab | D184: LHIN7 | E184: Toronto Central | F184: 2020 | G184: =VLOOKUP(H184,'GN and GP categories'!A:B,2,FALSE) -> Gram-negative | H184: Escherichia coli - ALL | I184: 120 | J184: Trimethoprim-Sulfamethoxazole | K184: 67 | L184: =IF(K184="","",K184*I184/100) -> 80.4
A185: Baycrest Hospital | B185: Baycrest Hospital | C185: Ccc & Rehab | D185: LHIN7 | E185: Toronto Central | F185: 2020 | G185: =VLOOKUP(H185,'GN and GP categories'!A:B,2,FALSE) -> Gram-negative | H185: Escherichia coli - ALL | I185: 120 | J185: Nitrofurantoin (urine) | K185: 92 | L185: =IF(K185="","",K185*I185/100) -> 110.4
A186: Baycrest Hospital | B186: Baycrest Hospital | C186: Ccc & Rehab | D186: LHIN7 | E186: Toronto Central | F186: 2020 | G186: =VLOOKUP(H186,'GN and GP categories'!A:B,2,FALSE) -> Gram-negative | H186: Escherichia coli - ALL | I186: 120 | J186: Gentamicin | K186: 84 | L186: =IF(K186="","",K186*I186/100) -> 100.8
...

Sheet Hospital Antibiogram
A1: Ontario Hospital Antibiogram
A2: % Susceptible 2018-2021 Data
A3: Consult the Technical Notes for details about how this antibiogram was prepared
C5: amikacin | E5: Amoxicillin-Clavulanic acid | G5: Ampicillin / Amoxicillin | I5: Cefazolin | K5: Ceftazidime | M5: Ceftriaxone | O5: Ciprofloxacin | Q5: Cloxacillin | S5: Doxycycline | U5: ertapenem | W5: Fosfomycin (urine) | Y5: Gentamicin | AA5: levofloxacin | AC5: Meropenem | AE5: Nitrofurantoin (urine) | AG5: Penicillin | AI5: Piperacillin-Tazobactam | AK5: tetracycline | AM5: Tobramycin | AO5: Trimethoprim-Sulfamethoxazole
C6: # | D6: % S | E6: # | F6: % S | G6: # | H6: % S | I6: # | J6: % S | K6: # | L6: % S | M6: # | N6: % S | O6: # | P6: % S | Q6: # | R6: % S | S6: # | T6: % S | U6: # | V6: % S | W6: # | X6: % S | Y6: # | Z6: % S | AA6: # | AB6: % S | AC6: # | AD6: % S | AE6: # | AF6: % S | AG6: # | AH6: % S | AI6: # | AJ6: % S | AK6: # | AL6: % S | AM6: # | AN6: % S | AO6: # | AP6: % S
B7: Acinetobacter sp. | C7: 115 | D7: 95.278261 | E7: 3 | F7: 0 | G7: 3 | H7: 0 | I7: 3 | J7: 0 | K7: 122 | L7: 89.540984 | M7: 3 | N7: 0 | O7: 124 | P7: 86.016129 | Y7: 79 | Z7: 93.468354 | AC7: 124 | AD7: 95.08871 | AE7: 3 | AF7: 0 | AI7: 121 | AJ7: 87.77686 | AK7: 7 | AL7: 100 | AM7: 122 | AN7: 94.459016 | AO7: 79 | AP7: 87.291139
B8: Citrobacter sp. | C8: 539 | D8: 100 | E8: 288 | F8: 1.3993056 | G8: 493 | H8: 0.16227181 | I8: 500 | J8: 0 | K8: 374 | L8: 29.433155 | M8: 468 | N8: 18.559829 | O8: 1421 | P8: 89.707952 | S8: 15 | T8: 87 | U8: 618 | V8: 98.404531 | Y8: 1334 | Z8: 95.497001 | AA8: 22 | AB8: 81.863636 | AC8: 1425 | AD8: 99.586667 | AE8: 834 | AF8: 85.119904 | AI8: 565 | AJ8: 31.40885 | AK8: 59 | AL8: 81.271186 | AM8: 1096 | AN8: 96.32573 | AO8: 1425 | AP8: 89.672281
B9: Enterobacter sp. | C9: 1661 | D9: 99.731487 | E9: 842 | F9: 0 | G9: 1492 | H9: 0 | I9: 1583 | J9: 0 | K9: 952 | L9: 41.840336 | M9: 1534 | N9: 40.016949 | O9: 4148 | P9: 91.641562 | Q9: 25 | R9: 0 | S9: 41 | T9: 34.146341 | U9: 1855 | V9: 89.047224 | Y9: 3846 | Z9: 96.845554 | AA9: 253 | AB9: 92.573123 | AC9: 3957 | AD9: 97.890826 | AE9: 1903 | AF9: 38.650552 | AG9: 25 | AH9: 0 | AI9: 1967 | AJ9: 36.120488 | AK9: 240 | AL9: 92.675 | AM9: 3425 | AN9: 96.220438 | AO9: 3969 | AP9: 91.922499
B10: Escherichia coli - ALL | C10: 23299 | D10: 99.754706 | E10: 35967 | F10: 78.864737 | G10: 59083 | H10: 55.251477 | I10: 51558 | J10: 82.238818 | K10: 30018 | L10: 85.904957 | M10: 53179 | N10: 87.176179 | O10: 59570 | P10: 74.857848 | S10: 643 | T10: 32.099533 | U10: 26570 | V10: 99.744976 | W10: 748 | X10: 98.589572 | Y10: 55422 | Z10: 92.596965 | AA10: 1638 | AB10: 76.111111 | AC10: 51932 | AD10: 99.669687 | AE10: 38624 | AF10: 96.51745 | AI10: 52799 | AJ10: 89.650088 | AK10: 5355 | AL10: 94.069281 | AM10: 46885 | AN10: 92.190807 | AO10: 58316 | AP10: 77.875712
B11: Haemophilus influenzae | E11: 14 | F11: 100 | G11: 228 | H11: 68.732456 | K11: 14 | L11: 100 | M11: 14 | N11: 100 | AC11: 14 | AD11: 100 | AI11: 14 | AJ11: 100
B12: Klebsiella sp. | C12: 5880 | D12: 99.66932 | E12: 8393 | F12: 91.944716 | G12: 8581 | H12: 0.4162685 | I12: 12230 | J12: 79.422976 | K12: 7930 | L12: 90.935561 | M12: 13387 | N12: 90.914439 | O12: 14443 | P12: 89.888389 | S12: 47 | T12: 95.659574 | U12: 6308 | V12: 98.6487 | Y12: 13270 | Z12: 96.732645 | AA12: 580 | AB12: 91.868966 | AC12: 13152 | AD12: 98.97392 | AE12: 7840 | AF12: 45.790179 | AI12: 13479 | AJ12: 92.076905 | AK12: 422 | AL12: 86.938389 | AM12: 11681 | AN12: 95.690489 | AO12: 13815 | AP12: 90.673398
B13: Morganella morganii | C13: 239 | D13: 99.690377 | E13: 62 | F13: 0 | G13: 273 | H13: 0 | I13: 265 | J13: 0 | K13: 92 | L13: 25.108696 | M13: 270 | N13: 10.333333 | O13: 398 | P13: 76.582915 | U13: 152 | V13: 100 | Y13: 272 | Z13: 89.694853 | AA13: 30 | AB13: 72 | AC13: 398 | AD13: 99.41206 | AE13: 50 | AF13: 0 | AI13: 270 | AJ13: 29.925926 | AK13: 18 | AL13: 16.444444 | AM13: 365 | AN13: 91.676712 | AO13: 398 | AP13: 78.389447
B14: Pseudomonas aeruginosa | C14: 5481 | D14: 97.117132 | E14: 240 | F14: 0 | G14: 240 | H14: 0 | I14: 645 | J14: 4.0372093 | K14: 11170 | L14: 89.582041 | M14: 376 | N14: 3.4574468 | O14: 11068 | P14: 84.661673 | U14: 123 | V14: 0 | Y14: 10244 | Z14: 93.791234 | AA14: 444 | AB14: 80.358108 | AC14: 10875 | AD14: 89.099825 | AE14: 277 | AF14: 12.956679 | AI14: 11100 | AJ14: 88.696955 | AK14: 197 | AL14: 87 | AM14: 9351 | AN14: 97.313314 | AO14: 422 | AP14: 10.168246
B15: Serratia sp. | C15: 630 | D15: 99.687302 | E15: 132 | F15: 0 | G15: 521 | H15: 0 | I15: 546 | J15: 0 | K15: 109 | L15: 14.697248 | M15: 389 | N15: 25.809769 | O15: 956 | P15: 94.26046 | U15: 325 | V15: 97.676923 | Y15: 848 | Z15: 99.668632 | AC15: 923 | AD15: 99.329361 | AE15: 169 | AF15: 0 | AI15: 481 | AJ15: 57.723493 | AK15: 7 | AL15: 14 | AM15: 810 | AN15: 96.453086 | AO15: 956 | AP15: 99.212343
B16: Stenotrophomonas maltophilia | K16: 17 | L16: 71 | AA16: 18 | AB16: 94 | AO16: 18 | AP16: 94
A20: Last updated: March 2022

Sheet Urine WISCA
A1: setting | B1: age_group | C1: lhin | D1: LHIN Name | E1: organism2 | F1: count | G1: Amoxicillin | H1: Nitrofurantoin | I1: TMP-SMX | J1: Ciprofloxacin | K1: AMINOGLYCOSIDES | L1: Cefazolin
A2: Inpatient | B2: <18 | C2: All | D2: =VLOOKUP(C2,LHIN!$A$2:$C$16,2,FALSE) -> All LHINs | E2: Escherichia coli | F2: 797 | G2: 50.690088 | H2: 97.741531 | I2: 72.521957 | J2: 61.104141 | K2: 91.091593 | L2: 86.449184
A3: Inpatient | B3: 18-64 | C3: All | D3: =VLOOKUP(C3,LHIN!$A$2:$C$16,2,FALSE) -> All LHINs | E3: Escherichia coli | F3: 4672 | G3: 50.021404 | H3: 96.767979 | I3: 74.785959 | J3: 77.183219 | K3: 88.505993 | L3: 79.837329
A4: Inpatient | B4: 65+ | C4: All | D4: =VLOOKUP(C4,LHIN!$A$2:$C$16,2,FALSE) -> All LHINs | E4: Escherichia coli | F4: 14381 | G4: 54.724984 | H4: 96.27286 | I4: 78.84709 | J4: 72.762673 | K4: 89.79904 | L4: 81.253042
A5: LTC | B5: 18-64 | C5: All | D5: =VLOOKUP(C5,LHIN!$A$2:$C$16,2,FALSE) -> All LHINs | E5: Escherichia coli | F5: 954 | G5: 44.025157 | H5: 93.291405 | I5: 70.230608 | J5: 53.144654 | K5: 85.220126 | L5: 78.616352
A6: LTC | B6: 65+ | C6: All | D6: =VLOOKUP(C6,LHIN!$A$2:$C$16,2,FALSE) -> All LHINs | E6: Escherichia coli | F6: 22256 | G6: 47.079439 | H6: 94.711538 | I6: 72.313084 | J6: 55.69734 | K6: 86.542955 | L6: 81.029835
A7: Outpatient | B7: <18 | C7: All | D7: =VLOOKUP(C7,LHIN!$A$2:$C$16,2,FALSE) -> All LHINs | E7: Escherichia coli | F7: 30040 | G7: 57.969374 | H7: 98.418775 | I7: 78.781625 | J7: 70.016644 | K7: 92.473369 | L7: 91.900799
A8: Outpatient | B8: 18-64 | C8: All | D8: =VLOOKUP(C8,LHIN!$A$2:$C$16,2,FALSE) -> All LHINs | E8: Escherichia coli | F8: 273881 | G8: 59.63758 | H8: 97.988542 | I8: 79.228935 | J8: 89.47134 | K8: 92.710338 | L8: 91.746415
A9: Outpatient | B9: 65+ | C9: All | D9: =VLOOKUP(C9,LHIN!$A$2:$C$16,2,FALSE) -> All LHINs | E9: Escherichia coli | F9: 150665 | G9: 60.166595 | H9: 96.838018 | I9: 81.052003 | J9: 82.071483 | K9: 91.937079 | L9: 89.870242
A10: Inpatient | B10: 18-64 | C10: All | D10: =VLOOKUP(C10,LHIN!$A$2:$C$16,2,FALSE) -> All LHINs | E10: Klebsiella sp. Other | F10: 9 | G10: 0 | H10: 33.333333 | I10: 100 | J10: 100 | K10: 100 | L10: 88.888889
A11: Inpatient | B11: 65+ | C11: All | D11: =VLOOKUP(C11,LHIN!$A$2:$C$16,2,FALSE) -> All LHINs | E11: Klebsiella sp. Other | F11: 26 | G11: 0 | H11: 53.846154 | I11: 96.153846 | J11: 92.307692 | K11: 96.153846 | L11: 57.692308
A12: LTC | B12: 18-64 | C12: All | D12: =VLOOKUP(C12,LHIN!$A$2:$C$16,2,FALSE) -> All LHINs | E12: Klebsiella sp. Other | F12: 30 | G12: 0 | H12: 40 | I12: 86.666667 | J12: 86.666667 | K12: 90 | L12: 86.666667
A13: LTC | B13: 65+ | C13: All | D13: =VLOOKUP(C13,LHIN!$A$2:$C$16,2,FALSE) -> All LHINs | E13: Klebsiella sp. Other | F13: 731 | G13: 0 | H13: 49.384405 | I13: 94.254446 | J13: 95.485636 | K13: 97.53762 | L13: 93.570451
... A157: Outpatient | B157: 65+ | C157: All | D157: =VLOOKUP(C157,LHIN!$A$2:$C$16,2,FALSE) -> All LHINs | E157: All organisms | F157: 233391 | G157: 44.735658 | H157: 77.395015 | I157: 80.690772 | J157: 85.379471 | K157: 89.689405 | L157: 77.906175
A158: Inpatient | B158: <18 | C158: 10 | D158: =VLOOKUP(C158,LHIN!$A$2:$C$16,2,FALSE) -> South East | E158: All organisms | F158: 7 | G158: 14.285714 | H158: 85.714286 | I158: 71.428571 | J158: 71.428571 | K158: 57.142857 | L158: 57.142857
A159: Inpatient | B159: <18 | C159: 11 | D159: =VLOOKUP(C159,LHIN!$A$2:$C$16,2,FALSE) -> Champlain | E159: All organisms | F159: 16 | G159: 43.75 | H159: 68.75 | I159: 56.25 | J159: 62.5 | K159: 50 | L159: 43.75
A160: Inpatient | B160: <18 | C160: 12 | D160: =VLOOKUP(C160,LHIN!$A$2:$C$16,2,FALSE) -> North Simcoe Muskoka | E160: All organisms | F160: 24 | G160: 50 | H160: 83.333333 | I160: 66.666667 | J160: 75 | K160: 62.5 | L160: 54.166667
A161: Inpatient | B161: <18 | C161: 13 | D161: =VLOOKUP(C161,LHIN!$A$2:$C$16,2,FALSE) -> North East | E161: All organisms | F161: 57 | G161: 40.350877 | H161: 87.719298 | I161: 66.666667 | J161: 70.175439 | K161: 84.210526 | L161: 63.157895
A162: Inpatient | B162: <18 | C162: 14 | D162: =VLOOKUP(C162,LHIN!$A$2:$C$16,2,FALSE) -> North West | E162: All organisms | F162: 8 | G162: 12.5 | H162: 87.5 | I162: 50 | J162: 50 | K162: 75 | L162: 100
A163: Inpatient | B163: <18 | C163: 2 | D163: =VLOOKUP(C163,LHIN!$A$2:$C$16,2,FALSE) -> South West | E163: All organisms | F163: 49 | G163: 61.22449 | H163: 93.877551 | I163: 85.714286 | J163: 91.836735 | K163: 85.714286 | L163: 75.510204
A164: Inpatient | B164: <18 | C164: 3 | D164: =VLOOKUP(C164,LHIN!$A$2:$C$16,2,FALSE) -> Waterloo Wellington | E164: All organisms | F164: 78 | G164: 47.435897 | H164: 88.461538 | I164: 73.076923 | J164: 69.230769 | K164: 78.205128 | L164: 76.923077
A165: Inpatient | B165: <18 | C165: 4 | D165: =VLOOKUP(C165,LHIN!$A$2:$C$16,2,FALSE) -> Hamilton Niagara Brant | E165: All organisms | F165: 123 | G165: 65.04065 | H165: 83.739837 | I165: 66.666667 | J165: 69.105691 | K165: 80.487805 | L165: 70.731707
A166: Inpatient | B166: <18 | C166: 5 | D166: =VLOOKUP(C166,LHIN!$A$2:$C$16,2,FALSE) -> Central West | E166: All organisms | F166: 236 | G166: 42.79661 | H166: 85.59322 | I166: 67.372881 | J166: 60.169492 | K166: 78.389831 | L166: 67.372881
A167: Inpatient | B167: <18 | C167: 6 | D167: =VLOOKUP(C167,LHIN!$A$2:$C$16,2,FALSE) -> Mississauga Halton | E167: All organisms | F167: 214 | G167: 42.056075 | H167: 80.373832 | I167: 64.485981 | J167: 69.626168 | K167: 80.373832 | L167: 62.616822
A168: Inpatient | B168: <18 | C168: 7 | D168: =VLOOKUP(C168,LHIN!$A$2:$C$16,2,FALSE) -> Toronto Central | E168: All organisms | F168: 55 | G168: 38.181818 | H168: 83.636364 | I168: 80 | J168: 69.090909 | K168: 78.181818 | L168: 65.454545
A169: Inpatient | B169: <18 | C169: 8 | D169: =VLOOKUP(C169,LHIN!$A$2:$C$16,2,FALSE) -> Central | E169: All organisms | F169: 85 | G169: 40 | H169: 80 | I169: 65.882353 | J169: 63.529412 | K169: 80 | L169: 69.411765
... A1645: Outpatient | B1645: 65+ | C1645: 9 | D1645: =VLOOKUP(C1645,LHIN!$A$2:$C$16,2,FALSE) -> Central East | E1645: Acinetobacter sp. | F1645: 55 | G1645: 0 | H1645: 0 | I1645: 90.909091 | J1645: 98.181818 | K1645: 96.363636 | L1645: 0

Sheet Urinary Antibiogram
B1: Ontario Urinary Antibiogram
B2: % Susceptible, 2016-2017 Data
B3: Consult the Technical Notes for details about how this antibiogram was prepared
B11: Row Labels | C11: # isolates | D11: Amoxicillin | E11: Cephalexin | F11: Nitrofurantoin | G11: Ciprofloxacin | H11: TMP-SMX
B12: All organisms | C12: 233391 | D12: 44.735658 | E12: 77.906175 | F12: 77.395015 | G12: 85.379471 | H12: 80.690772
B13: Acinetobacter sp. | C13: 348 | D13: 0 | E13: 0 | F13: 0 | G13: 92.241379 | H13: 92.241379
B14: Citrobacter freundii | C14: 3440 | D14: 0.029069767 | E14: 0.029069767 | F14: 94.476744 | G14: 95.581395 | H14: 87.55814
B15: Citrobacter koseri | C15: 3545 | D15: 0 | E15: 0.62059238 | F15: 79.520451 | G15: 99.492243 | H15: 99.125529
B16: Citrobacter sp. Other | C16: 890 | D16: 0.11235955 | E16: 0.2247191 | F16: 80 | G16: 96.966292 | H16: 94.719101
B17: Enterobacter cloacae | C17: 4810 | D17: 0 | E17: 0.020790021 | F17: 39.87526 | G17: 96.174636 | H17: 89.459459
B18: Enterococcus faecalis | C18: 2350 | D18: 99.574468 | E18: 0 | F18: 98.893617 | G18: 74.765957 | H18: 0.17021277
B19: Enterococcus faecium | C19: 196 | D19: 16.326531 | E19: 0.51020408 | F19: 22.959184 | G19: 9.1836735 | H19: 0.51020408
B20: Enterococcus sp. Other | C20: 2884 | D20: 95.110957 | E20: 0 | F20: 94.556172 | G20: 52.565881 | H20: 0.069348128
B21: Escherichia coli | C21: 150665 | D21: 60.166595 | E21: 89.870242 | F21: 96.838018 | G21: 82.071483 | H21: 81.052003
B22: Klebsiella aerogenes | C22: 2495 | D22: 0 | E22: 0 | F22: 17.314629 | G22: 98.316633 | H22: 97.675351
B23: Klebsiella oxytoca | C23: 4671 | D23: 0 | E23: 48.790409 | F23: 82.915864 | G23: 97.002783 | H23: 95.225862
... B32: Staphylococcus sp. Other | C32: 893 | D32: 24.74804 | E32: 66.181411 | F32: 82.530795 | G32: 40.761478 | H32: 76.819709
B34: Last Updated: March 2022

Sheet Bloodstream Antibiogram
A1: Ontario Bloodstream Antibiogram
A2: % Susceptible, 2016-2020 Data
A4: Consult the Technical Notes for details about how this antibiogram was prepared
S5: Last Updated: March 2022
A6: Organism | B6: Gram Stain | C6: View | D6: Setting | E6: Age Group | F6: Region | G6: Year | H6: Count | I6: Amikacin | J6: Amoxicillin-Clav | K6: Ampicillin | L6: Cefazolin | M6: Ceftazidime | N6: Ceftriaxone | O6: Ciprofloxacin | P6: Clindamycin | Q6: Cloxacillin | R6: Daptomycin | S6: Doxycycline | T6: Ertapenem | U6: Erythromycin | V6: Gentamicin | W6: Levofloxacin | X6: Linezolid | Y6: Meropenem | Z6: Moxifloxacin | AA6: Penicillin | AB6: Piperacillin-Tazo | AC6: TMP-SMX | AD6: Tobramycin | AE6: Vancomycin
A7: Escherichia coli | B7: =VLOOKUP(Table1[[#This Row],[Organism]],'GN and GP categories'!A:B,2,) -> Gram-negative | C7: Specific | D7: Inpatient (ICU) | E7: 18-64 | F7: Hamilton Niagara Haldimand Brant | G7: 2017 | H7: 31 | I7: >81 | J7: 71 | K7: 35 | L7: 52 | M7: >81 | N7: >81 | O7: 58 | P7: 0 | Q7: 0 | R7: 0 | S7: 61 | T7: >81 | U7: 0 | V7: 81 | W7: 58 | X7: 0 | Y7: >81 | Z7: 58 | AA7: 0 | AB7: 65 | AC7: 61 | AD7: 77 | AE7: 0
A8: Escherichia coli | B8: =VLOOKUP(Table1[[#This Row],[Organism]],'GN and GP categories'!A:B,2,) -> Gram-negative | C8: Specific | D8: Inpatient (ICU) | E8: 18-64 | F8: Hamilton Niagara Haldimand Brant | G8: 2018 | H8: 39 | I8: >85 | J8: >85 | K8: 62 | L8: 72 | M8: >85 | N8: >85 | O8: 74 | P8: 0 | Q8: 0 | R8: 0 | S8: 59 | T8: >85 | U8: 0 | V8: >85 | W8: 74 | X8: 0 | Y8: 100 | Z8: 74 | AA8: 0 | AB8: >85 | AC8: 72 | AD8: >85 | AE8: 0
A9: Escherichia coli | B9: =VLOOKUP(Table1[[#This Row],[Organism]],'GN and GP categories'!A:B,2,) -> Gram-negative | C9: Specific | D9: Inpatient (ICU) | E9: 18-64 | F9: Hamilton Niagara Haldimand Brant | G9: 2020 | H9: 44 | I9: >86 | J9: 73 | K9: 48 | L9: 55 | M9: 82 | N9: 82 | O9: 70 | P9: 0 | Q9: 0 | R9: 0 | S9: 55 | T9: >86 | U9: 0 | V9: 77 | W9: 70 | X9: 0 | Y9: >86 | Z9: 72 | AA9: 0 | AB9: 73 | AC9: 64 | AD9: 77 | AE9: 0
A10: Escherichia coli | B10: =VLOOKUP(Table1[[#This Row],[Organism]],'GN and GP categories'!A:B,2,) -> Gram-negative | C10: Specific | D10: Inpatient (ICU) | E10: 18-64 | F10: Central West | G10: 2020 | H10: 34 | I10: 100 | J10: 56 | K10: 50 | L10: 50 | M10: 68 | N10: 68 | O10: 53 | P10: 0 | Q10: 0 | R10: 0 | S10: 53 | T10: 100 | U10: 0 | V10: >82 | W10: 53 | X10: 0 | Y10: 100 | Z10: 55 | AA10: 0 | AB10: 65 | AC10: 59 | AD10: 76 | AE10: 0
A11: Escherichia coli | B11: =VLOOKUP(Table1[[#This Row],[Organism]],'GN and GP categories'!A:B,2,) -> Gram-negative | C11: Specific | D11: Inpatient (ICU) | E11: 18-64 | F11: Mississsauga Halton | G11: 2017 | H11: 33 | I11: >82 | J11: 73 | K11: 52 | L11: 58 | M11: 82 | N11: 79 | O11: 67 | P11: 0 | Q11: 0 | R11: 0 | S11: 64 | T11: >82 | U11: 0 | V11: >82 | W11: 70 | X11: 0 | Y11: >82 | Z11: 68 | AA11: 0 | AB11: 76 | AC11: 70 | AD11: >82 | AE11: 0
A12: Escherichia coli | B12: =VLOOKUP(Table1[[#This Row],[Organism]],'GN and GP categories'!A:B,2,) -> Gram-negative | C12: Specific | D12: Inpatient (ICU) | E12: 18-64 | F12: Toronto Central | G12: 2016 | H12: 33 | I12: 100 | J12: 61 | K12: 39 | L12: 45 | M12: 76 | N12: 73 | O12: 61 | P12: 0 | Q12: 0 | R12: 0 | S12: 58 | T12: 100 | U12: 0 | V12: >82 | W12: 58 | X12: 0 | Y12: 100 | Z12: 59 | AA12: 0 | AB12: 67 | AC12: 64 | AD12: 82 | AE12: 0
A13: Escherichia coli | B13: =VLOOKUP(Table1[[#This Row],[Organism]],'GN and GP categories'!A:B,2,) -> Gram-negative | C13: Specific | D13: Inpatient (ICU) | E13: 18-64 | F13: Toronto Central | G13: 2018 | H13: 38 | I13: >84 | J13: 68 | K13: 26 | L13: 45 | M13: 74 | N13: 74 | O13: 68 | P13: 0 | Q13: 0 | R13: 0 | S13: 61 | T13: 100 | U13: 0 | V13: >84 | W13: 68 | X13: 0 | Y13: 100 | Z13: 70 | AA13: 0 | AB13: 66 | AC13: 58 | AD13: >84 | AE13: 0
A14: Escherichia coli | B14: =VLOOKUP(Table1[[#This Row],[Organism]],'GN and GP categories'!A:B,2,) -> Gram-negative | C14: Specific | D14: Inpatient (ICU) | E14: 18-64 | F14: Toronto Central | G14: 2019 | H14: 34 | I14: 100 | J14: 59 | K14: 38 | L14: 50 | M14: 76 | N14: 71 | O14: 59 | P14: 0 | Q14: 0 | R14: 0 | S14: 71 | T14: >82 | U14: 0 | V14: >82 | W14: 68 | X14: 0 | Y14: 100 | Z14: 66 | AA14: 0 | AB14: 65 | AC14: 59 | AD14: 82 | AE14: 0
A15: Escherichia coli | B15: =VLOOKUP(Table1[[#This Row],[Organism]],'GN and GP categories'!A:B,2,) -> Gram-negative | C15: Specific | D15: Inpatient (ICU) | E15: 18-64 | F15: Toronto Central | G15: 2020 | H15: 43 | I15: >86 | J15: 72 | K15: 28 | L15: 70 | M15: 74 | N15: 81 | O15: 60 | P15: 0 | Q15: 0 | R15: 0 | S15: 60 | T15: >86 | U15: 0 | V15: >86 | W15: 63 | X15: 0 | Y15: 100 | Z15: 63 | AA15: 0 | AB15: 77 | AC15: 70 | AD15: >86 | AE15: 0
A16: Escherichia coli | B16: =VLOOKUP(Table1[[#This Row],[Organism]],'GN and GP categories'!A:B,2,) -> Gram-negative | C16: Specific | D16: Inpatient (ICU) | E16: 18-64 | F16: Central | G16: 2017 | H16: 33 | I16: 100 | J16: 45 | K16: 33 | L16: 42 | M16: 67 | N16: 55 | O16: 45 | P16: 0 | Q16: 0 | R16: 0 | S16: 67 | T16: 100 | U16: 0 | V16: >82 | W16: 45 | X16: 0 | Y16: 100 | Z16: 48 | AA16: 0 | AB16: 58 | AC16: 64 | AD16: 76 | AE16: 0
A17: Escherichia coli | B17: =VLOOKUP(Table1[[#This Row],[Organism]],'GN and GP categories'!A:B,2,) -> Gram-negative | C17: Specific | D17: Inpatient (ICU) | E17: 18-64 | F17: Central | G17: 2019 | H17: 50 | I17: >88 | J17: 64 | K17: 22 | L17: 30 | M17: 72 | N17: 68 | O17: 56 | P17: 0 | Q17: 0 | R17: 0 | S17: 62 | T17: >88 | U17: 0 | V17: >88 | W17: 56 | X17: 0 | Y17: 100 | Z17: 55 | AA17: 0 | AB17: 62 | AC17: 64 | AD17: >88 | AE17: 0
A18: Escherichia coli | B18: =VLOOKUP(Table1[[#This Row],[Organism]],'GN and GP categories'!A:B,2,) -> Gram-negative | C18: Specific | D18: Inpatient (ICU) | E18: 18-64 | F18: Central | G18: 2020 | H18: 32 | I18: >81 | J18: 69 | K18: 50 | L18: 56 | M18: 72 | N18: 72 | O18: 66 | P18: 0 | Q18: 0 | R18: 0 | S18: 69 | T18: >81 | U18: 0 | V18: >81 | W18: 63 | X18: 0 | Y18: 100 | Z18: 69 | AA18: 0 | AB18: 66 | AC18: 75 | AD18: >81 | AE18: 0
A19: Escherichia coli | B19: =VLOOKUP(Table1[[#This Row],[Organism]],'GN and GP categories'!A:B,2,) -> Gram-negative | C19: Specific | D19: Inpatient (ICU) | E19: 18-64 | F19: Central East | G19: 2016 | H19: 31 | I19: 100 | J19: >81 | K19: 65 | L19: 74 | M19: >81 | N19: >81 | O19: 81 | P19: 0 | Q19: 0 | R19: 0 | S19: 45 | T19: >81 | U19: 0 | V19: >81 | W19: 81 | X19: 0 | Y19: 100 | Z19: 81 | AA19: 0 | AB19: >81 | AC19: 81 | AD19: 81 | AE19: 0
A20: Escherichia coli | B20: =VLOOKUP(Table1[[#This Row],[Organism]],'GN and GP categories'!A:B,2,) -> Gram-negative | C20: Specific | D20: Inpatient (ICU) | E20: 18-64 | F20: Central East | G20: 2017 | H20: 53 | I20: >89 | J20: 79 | K20: 42 | L20: 55 | M20: 75 | N20: 77 | O20: 70 | P20: 0 | Q20: 0 | R20: 0 | S20: 60 | T20: 100 | U20: 0 | V20: >89 | W20: 70 | X20: 0 | Y20: 100 | Z20: 70 | AA20: 0 | AB20: 74 | AC20: 62 | AD20: 79 | AE20: 0
A21: Escherichia coli | B21: =VLOOKUP(Table1[[#This Row],[Organism]],'GN and GP categories'!A:B,2,) -> Gram-negative | C21: Specific | D21: Inpatient (ICU) | E21: 18-64 | F21: Central East | G21: 2018 | H21: 37 | I21: >84 | J21: 78 | K21: 59 | L21: 68 | M21: 84 | N21: 81 | O21: 81 | P21: 0 | Q21: 0 | R21: 0 | S21: 59 | T21: 100 | U21: 0 | V21: >84 | W21: 81 | X21: 0 | Y21: 100 | Z21: 81 | AA21: 0 | AB21: 78 | AC21: 78 | AD21: >84 | AE21: 0
A22: Escherichia coli | B22: =VLOOKUP(Table1[[#This Row],[Organism]],'GN and GP categories'!A:B,2,) -> Gram-negative | C22: Specific | D22: Inpatient (ICU) | E22: 18-64 | F22: Central East | G22: 2019 | H22: 40 | I22: 100 | J22: 83 | K22: 48 | L22: 63 | M22: 85 | N22: 83 | O22: 70 | P22: 0 | Q22: 0 | R22: 0 | S22: 78 | T22: 100 | U22: 0 | V22: >85 | W22: 75 | X22: 0 | Y22: 100 | Z22: 73 | AA22: 0 | AB22: 78 | AC22: 70 | AD22: >85 | AE22: 0
A23: Escherichia coli | B23: =VLOOKUP(Table1[[#This Row],[Organism]],'GN and GP categories'!A:B,2,) -> Gram-negative | C23: Specific | D23: Inpatient (ICU) | E23: 18-64 | F23: Central East | G23: 2020 | H23: 39 | I23: >85 | J23: 64 | K23: 46 | L23: 54 | M23: 85 | N23: 77 | O23: 59 | P23: 0 | Q23: 0 | R23: 0 | S23: 77 | T23: 100 | U23: 0 | V23: >85 | W23: 56 | X23: 0 | Y23: 100 | Z23: 61 | AA23: 0 | AB23: 72 | AC23: 62 | AD23: >85 | AE23: 0
A24: Escherichia coli | B24: =VLOOKUP(Table1[[#This Row],[Organism]],'GN and GP categories'!A:B,2,) -> Gram-negative | C24: Specific | D24: Inpatient (ICU) | E24: 18-64 | F24: South East | G24: 2019 | H24: 32 | I24: 100 | J24: 47 | K24: 31 | L24: 34 | M24: 63 | N24: 63 | O24: 59 | P24: 0 | Q24: 0 | R24: 0 | S24: 78 | T24: >81 | U24: 0 | V24: 100 | W24: 44 | X24: 0 | Y24: 100 | Z24: 46 | AA24: 0 | AB24: 63 | AC24: 75 | AD24: 63 | AE24: 0
A25: Escherichia coli | B25: =VLOOKUP(Table1[[#This Row],[Organism]],'GN and GP categories'!A:B,2,) -> Gram-negative | C25: Specific | D25: Inpatient (ICU) | E25: 18-64 | F25: Champlain | G25: 2017 | H25: 37 | I25: >84 | J25: 78 | K25: 65 | L25: 73 | M25: 84 | N25: >84 | O25: 73 | P25: 0 | Q25: 0 | R25: 0 | S25: 57 | T25: >84 | U25: 0 | V25: >84 | W25: 76 | X25: 0 | Y25: >84 | Z25: 75 | AA25: 0 | AB25: >84 | AC25: 62 | AD25: 81 | AE25: 0
A26: Escherichia coli | B26: =VLOOKUP(Table1[[#This Row],[Organism]],'GN and GP categories'!A:B,2,) -> Gram-negative | C26: Specific | D26: Inpatient (ICU) | E26: 18-64 | F26: Champlain | G26: 2018 | H26: 41 | I26: >85 | J26: 76 | K26: 41 | L26: 76 | M26: >85 | N26: >85 | O26: 85 | P26: 0 | Q26: 0 | R26: 0 | S26: 59 | T26: 100 | U26: 0 | V26: >85 | W26: 85 | X26: 0 | Y26: 100 | Z26: 85 | AA26: 0 | AB26: >85 | AC26: 68 | AD26: >85 | AE26: 0
A27: Escherichia coli | B27: =VLOOKUP(Table1[[#This Row],[Organism]],'GN and GP categories'!A:B,2,) -> Gram-negative | C27: Specific | D27: Inpatient (ICU) | E27: 18-64 | F27: Champlain | G27: 2019 | H27: 34 | I27: >82 | J27: 79 | K27: 65 | L27: 76 | M27: >82 | N27: >82 | O27: 76 | P27: 0 | Q27: 0 | R27: 0 | S27: 53 | T27: >82 | U27: 0 | V27: >82 | W27: 76 | X27: 0 | Y27: 100 | Z27: 76 | AA27: 0 | AB27: >82 | AC27: 71 | AD27: >82 | AE27: 0
A28: Escherichia coli | B28: =VLOOKUP(Table1[[#This Row],[Organism]],'GN and GP categories'!A:B,2,) -> Gram-negative | C28: Specific | D28: Inpatient (ICU) | E28: 65+ | F28: Hamilton Niagara Haldimand Brant | G28: 2017 | H28: 59 | I28: 100 | J28: 80 | K28: 49 | L28: 64 | M28: 85 | N28: 88 | O28: 69 | P28: 0 | Q28: 0 | R28: 0 | S28: 64 | T28: 100 | U28: 0 | V28: 86 | W28: 69 | X28: 0 | Y28: 100 | Z28: 69 | AA28: 0 | AB28: 78 | AC28: 76 | AD28: 88 | AE28: 0
A29: Escherichia coli | B29: =VLOOKUP(Table1[[#This Row],[Organism]],'GN and GP categories'!A:B,2,) -> Gram-negative | C29: Specific | D29: Inpatient (ICU) | E29: 65+ | F29: Hamilton Niagara Haldimand Brant | G29: 2018 | H29: 72 | I29: 100 | J29: 78 | K29: 43 | L29: 57 | M29: 81 | N29: 82 | O29: 71 | P29: 0 | Q29: 0 | R29: 0 | S29: 58 | T29: >92 | U29: 0 | V29: 86 | W29: 71 | X29: 0 | Y29: 100 | Z29: 71 | AA29: 0 | AB29: 78 | AC29: 61 | AD29: 89 | AE29: 0
A30: Escherichia coli | B30: =VLOOKUP(Table1[[#This Row],[Organism]],'GN and GP categories'!A:B,2,) -> Gram-negative | C30: Specific | D30: Inpatient (ICU) | E30: 65+ | F30: Hamilton Niagara Haldimand Brant | G30: 2019 | H30: 84 | I30: >93 | J30: 71 | K30: 40 | L30: 50 | M30: 80 | N30: 81 | O30: 64 | P30: 0 | Q30: 0 | R30: 0 | S30: 62 | T30: >93 | U30: 0 | V30: 85 | W30: 64 | X30: 0 | Y30: >93 | Z30: 65 | AA30: 0 | AB30: 76 | AC30: 67 | AD30: 85 | AE30: 0
A31: Escherichia coli | B31: =VLOOKUP(Table1[[#This Row],[Organism]],'GN and GP categories'!A:B,2,) -> Gram-negative | C31: Specific | D31: Inpatient (ICU) | E31: 65+ | F31: Hamilton Niagara Haldimand Brant | G31: 2020 | H31: 82 | I31: >93 | J31: 85 | K31: 61 | L31: 63 | M31: 90 | N31: 89 | O31: 74 | P31: 0 | Q31: 0 | R31: 0 | S31: 63 | T31: >93 | U31: 0 | V31: >93 | W31: 79 | X31: 0 | Y31: 100 | Z31: 79 | AA31: 0 | AB31: 85 | AC31: 82 | AD31: >93 | AE31: 0
A32: Escherichia coli | B32: =VLOOKUP(Table1[[#This Row],[Organism]],'GN and GP categories'!A:B,2,) -> Gram-negative | C32: Specific | D32: Inpatient (ICU) | E32: 65+ | F32: Central West | G32: 2016 | H32: 41 | I32: >85 | J32: 63 | K32: 46 | L32: 41 | M32: 78 | N32: 71 | O32: 59 | P32: 0 | Q32: 0 | R32: 0 | S32: 61 | T32: >85 | U32: 0 | V32: 85 | W32: 59 | X32: 0 | Y32: 100 | Z32: 59 | AA32: 0 | AB32: 68 | AC32: 71 | AD32: 78 | AE32: 0
A33: Escherichia coli | B33: =VLOOKUP(Table1[[#This Row],[Organism]],'GN and GP categories'!A:B,2,) -> Gram-negative | C33: Specific | D33: Inpatient (ICU) | E33: 65+ | F33: Central West | G33: 2018 | H33: 42 | I33: >86 | J33: 62 | K33: 43 | L33: 50 | M33: 69 | N33: 64 | O33: 69 | P33: 0 | Q33: 0 | R33: 0 | S33: 52 | T33: >86 | U33: 0 | V33: >86 | W33: 69 | X33: 0 | Y33: >86 | Z33: 70 | AA33: 0 | AB33: 64 | AC33: 67 | AD33: 83 | AE33: 0
A34: Escherichia coli | B34: =VLOOKUP(Table1[[#This Row],[Organism]],'GN and GP categories'!A:B,2,) -> Gram-negative | C34: Specific | D34: Inpatient (ICU) | E34: 65+ | F34: Central West | G34: 2019 | H34: 46 | I34: >87 | J34: 63 | K34: 50 | L34: 59 | M34: 74 | N34: 74 | O34: 65 | P34: 0 | Q34: 0 | R34: 0 | S34: 63 | T34: >87 | U34: 0 | V34: 87 | W34: 65 | X34: 0 | Y34: 100 | Z34: 66 | AA34: 0 | AB34: 74 | AC34: 67 | AD34: 78 | AE34: 0
A35: Escherichia coli | B35: =VLOOKUP(Table1[[#This Row],[Organism]],'GN and GP categories'!A:B,2,) -> Gram-negative | C35: Specific | D35: Inpatient (ICU) | E35: 65+ | F35: Central West | G35: 2020 | H35: 42 | I35: >86 | J35: 60 | K35: 50 | L35: 57 | M35: 64 | N35: 64 | O35: 55 | P35: 0 | Q35: 0 | R35: 0 | S35: 64 | T35: >86 | U35: 0 | V35: 83 | W35: 62 | X35: 0 | Y35: >86 | Z35: 66 | AA35: 0 | AB35: 67 | AC35: 74 | AD35: 86 | AE35: 0
A36: Escherichia coli | B36: =VLOOKUP(Table1[[#This Row],[Organism]],'GN and GP categories'!A:B,2,) -> Gram-negative | C36: Specific | D36: Inpatient (ICU) | E36: 65+ | F36: Mississsauga Halton | G36: 2017 | H36: 41 | I36: >85 | J36: 73 | K36: 39 | L36: 49 | M36: 76 | N36: 78 | O36: 54 | P36: 0 | Q36: 0 | R36: 0 | S36: 49 | T36: 100 | U36: 0 | V36: >85 | W36: 54 | X36: 0 | Y36: 100 | Z36: 55 | AA36: 0 | AB36: 68 | AC36: 73 | AD36: 83 | AE36: 0
A37: Escherichia coli | B37: =VLOOKUP(Table1[[#This Row],[Organism]],'GN and GP categories'!A:B,2,) -> Gram-negative | C37: Specific | D37: Inpatient (ICU) | E37: 65+ | F37: Mississsauga Halton | G37: 2018 | H37: 72 | I37: >92 | J37: 82 | K37: 61 | L37: 60 | M37: 85 | N37: 79 | O37: 74 | P37: 0 | Q37: 0 | R37: 0 | S37: 61 | T37: >92 | U37: 0 | V37: 90 | W37: 75 | X37: 0 | Y37: 100 | Z37: 74 | AA37: 0 | AB37: 76 | AC37: 76 | AD37: 89 | AE37: 0
A38: Escherichia coli | B38: =VLOOKUP(Table1[[#This Row],[Organism]],'GN and GP categories'!A:B,2,) -> Gram-negative | C38: Specific | D38: Inpatient (ICU) | E38: 65+ | F38: Mississsauga Halton | G38: 2019 | H38: 61 | I38: 100 | J38: 69 | K38: 48 | L38: 48 | M38: 79 | N38: 77 | O38: 64 | P38: 0 | Q38: 0 | R38: 0 | S38: 59 | T38: >90 | U38: <10 | V38: 80 | W38: 64 | X38: 0 | Y38: 100 | Z38: 64 | AA38: <10 | AB38: 67 | AC38: 74 | AD38: 79 | AE38: <10
A39: Escherichia coli | B39: =VLOOKUP(Table1[[#This Row],[Organism]],'GN and GP categories'!A:B,2,) -> Gram-negative | C39: Specific | D39: Inpatient (ICU) | E39: 65+ | F39: Mississsauga Halton | G39: 2020 | H39: 50 | I39: >88 | J39: 76 | K39: 40 | L39: 40 | M39: 84 | N39: 80 | O39: 54 | P39: 0 | Q39: 0 | R39: 0 | S39: 48 | T39: >88 | U39: 0 | V39: >88 | W39: 54 | X39: 0 | Y39: 100 | Z39: 57 | AA39: 0 | AB39: 66 | AC39: 82 | AD39: >88 | AE39: 0
A40: Escherichia coli | B40: =VLOOKUP(Table1[[#This Row],[Organism]],'GN and GP categories'!A:B,2,) -> Gram-negative | C40: Specific | D40: Inpatient (ICU) | E40: 65+ | F40: Toronto Central | G40: 2016 | H40: 76 | I40: >92 | J40: 80 | K40: 46 | L40: 58 | M40: 86 | N40: 91 | O40: 67 | P40: 0 | Q40: 0 | R40: 0 | S40: 57 | T40: >92 | U40: 0 | V40: 87 | W40: 67 | X40: 0 | Y40: 100 | Z40: 67 | AA40: 0 | AB40: 82 | AC40: 74 | AD40: 84 | AE40: 0
A41: Escherichia coli | B41: =VLOOKUP(Table1[[#This Row],[Organism]],'GN and GP categories'!A:B,2,) -> Gram-negative | C41: Specific | D41: Inpatient (ICU) | E41: 65+ | F41: Toronto Central | G41: 2017 | H41: 53 | I41: >89 | J41: 62 | K41: 34 | L41: 47 | M41: 75 | N41: 81 | O41: 64 | P41: 0 | Q41: 0 | R41: 0 | S41: 66 | T41: 100 | U41: 0 | V41: >89 | W41: 58 | X41: 0 | Y41: 100 | Z41: 62 | AA41: 0 | AB41: 74 | AC41: 66 | AD41: 81 | AE41: 0
...

Sheet GN and GP categories
A1: ~~~GRAM NEGATIVE BACTERIA~~~
A2: Achromobacter species | B2: Gram-negative
A3: Acinetobacter baumannii complex | B3: Gram-negative
A4: Acinetobacter sp. | B4: Gram-negative
A5: Burkholderia cepacia | B5: Gram-negative
A6: Citrobacter braakii | B6: Gram-negative
A7: Citrobacter diversus | B7: Gram-negative
A8: Citrobacter freundii | B8: Gram-negative
A9: Citrobacter koseri | B9: Gram-negative
A10: Citrobacter sp. | B10: Gram-negative
A11: Citrobacter youngae | B11: Gram-negative
A12: Klebsiella aerogenes | B12: Gram-negative
A13: Enterobacter aerogenes | B13: Gram-negative
... A37: Veillonella species | B37: Gram-negative
A38: ~~~GRAM POSITIVE BACTERIA~~~
A39: Enterococcus faecalis | B39: Gram-positive
A40: Enterococcus faecium | B40: Gram-positive
A41: Enterococcus gallinarum | B41: Gram-positive
A42: Enterococcus sp. | B42: Gram-positive
A43: Staphylococcus aureus | B43: Gram-positive
A44: Staphylococcus lugdunensis | B44: Gram-positive
A45: Staphylococcus saprophyticus | B45: Gram-positive
A46: Staphylococcus, coagulase-negative | B46: Gram-positive
A47: Streptococcus agalactiae (GBS) | B47: Gram-positive
A48: Streptococcus pneumoniae | B48: Gram-positive
A49: Streptococcus pyogenes (GAS) | B49: Gram-positive
A50: Streptococcus, anginosis group | B50: Gram-positive
... A114: Moraxella sp. | B114: Gram-negative

Sheet Sheet1

Sheet LHIN
A2: All | B2: All LHINs
A3: 1 | B3: Erie St. Clair
A4: 2 | B4: South West
A5: 3 | B5: Waterloo Wellington
A6: 4 | B6: Hamilton Niagara Brant
A7: 5 | B7: Central West
A8: 6 | B8: Mississauga Halton
A9: 7 | B9: Toronto Central
A10: 8 | B10: Central
A11: 9 | B11: Central East
A12: 10 | B12: South East
A13: 11 | B13: Champlain
A14: 12 | B14: North Simcoe Muskoka
... A16: 14 | B16: North West
