Workbook
Name age_group: #REF!
Name age_group: #REF!
Name Full_detailed: 'Bloodstream Antibiogram'!$A$6:$AE$766
Name Full_detailed: #REF!
Name lhin: #REF!
Name lhin: #REF!
Name Overall: #REF!
Name Overall: #REF!
Name setting: #REF!
Name setting: #REF!
Name Slicer_age_group: #N/A
Name Slicer_age_group1: #N/A
Name Slicer_Gram_stain: #N/A
Name Slicer_Gram_Stain1: #N/A
Name Slicer_lhin: #N/A
Name Slicer_LHIN_Name: #N/A
Name Slicer_LHIN_Name1: #N/A
Name Slicer_setting: #N/A
Name Slicer_setting1: #N/A
Name Slicer_View: #N/A
Name Slicer_year: #N/A
Name year: #REF!
Name year: #REF!

Sheet DropLists
A1: Service area | B1: Service (unit) | C1: Specimens | D1: Specimens (site-specific) | E1: Species | F1: Species (ARO) | G1: Antibiotic
A2: All Inpatient / Nonspecified | B2: Inpatient (non-ICU) | C2: All specimens / Nonspecified | D2: All Non-Urine | E2: ~~~GRAM NEGATIVE BACTERIA~~~ | F2: non-ESBL | G2: Amikacin
B3: ICU | D3: Urine | E3: Acinetobacter baumannii complex | F3: ESBL | G3: Amoxicillin-Clavulanic acid
D4: All Non-Blood | E4: Acinetobacter sp. | F4: methicillin-susceptible (MSSA) | G4: Ampicillin / Amoxicillin
D5: Blood | E5: Burkholderia cepacia | F5: methicillin-resistant (MRSA) | G5: Ampicillin-Sulbactam
D6: Respiratory | E6: Citrobacter braakii | F6: vancomycin-susceptible | G6: Azithromycin
E7: Citrobacter diversus | F7: vancomycin-resistant (VRE) | G7: Aztreonam
E8: Citrobacter freundii | F8: vancomycin-susceptible (vanA+) | G8: Cefalotin
E9: Citrobacter koseri | G9: Cefazolin
E10: Citrobacter sp. | G10: Cefepime
E11: Citrobacter youngae | G11: Cefixime
E12: Enterobacter aerogenes | G12: Cefotaxime
E13: Enterobacter cloacae complex | G13: Cefotaxime (meningitis)
E14: Enterobacter sp. | G14: Cefotaxime (non-meningitis)
E15: Escherichia coli - non ESBL | G15: Cefotetan
E16: Escherichia coli - ESBL | G16: Cefoxitin
E17: Escherichia coli - ALL | G17: Cefpodoxime
E18: Haemophilus influenzae | G18: Ceftazidime
E19: Klebsiella oxytoca | G19: Ceftriaxone
E20: Klebsiella ozaenae | G20: Ceftriaxone (meningitis)
... E50: Streptococcus, viridans group | G50: Rifampin
G51: Sulfamethoxazole
G52: Tetracycline
G53: Ticarcillin-Clavulanate
G54: Tigecycline
G55: Tobramycin
G56: Trimethoprim-Sulfamethoxazole
G57: Vancomycin

Sheet Antibiogram Entry
A1: Corporation | B1: Hospital | C1: OHA Hospital Type | D1: LHIN Code | E1: LHIN Name | F1: Year | G1: Gram stain | H1: Species | I1: # isolates | J1: Antibiotic | K1: Susceptibility rate (%) | L1: # susceptible isolates | M1: NOTES!!! | N1: #isolates interhospital
A2: Alexandra Marine and General Hospital and Huron Perth Healthcare Alliance | B2: Alexandra Marine and General Hospital and Huron Perth Healthcare Alliance | C2: Small Community | D2: LHIN2 | E2: South West | F2: 2019-20 | G2: =VLOOKUP(H2,'GN and GP categories'!A:B,2,FALSE) -> Gram-negative | H2: Enterobacter sp. | I2: 25 | J2: Ampicillin / Amoxicillin | K2: 0 | L2: =IF(K2="","",K2*I2/100) -> 0
A3: Alexandra Marine and General Hospital and Huron Perth Healthcare Alliance | B3: Alexandra Marine and General Hospital and Huron Perth Healthcare Alliance | C3: Small Community | D3: LHIN2 | E3: South West | F3: 2019-20 | G3: =VLOOKUP(H3,'GN and GP categories'!A:B,2,FALSE) -> Gram-negative | H3: Enterobacter sp. | I3: 25 | J3: Cloxacillin | K3: 0 | L3: =IF(K3="","",K3*I3/100) -> 0
A4: Alexandra Marine and General Hospital and Huron Perth Healthcare Alliance | B4: Alexandra Marine and General Hospital and Huron Perth Healthcare Alliance | C4: Small Community | D4: LHIN2 | E4: South West | F4: 2019-20 | G4: =VLOOKUP(H4,'GN and GP categories'!A:B,2,FALSE) -> Gram-negative | H4: Enterobacter sp. | I4: 25 | J4: penicillin | K4: 0 | L4: =IF(K4="","",K4*I4/100) -> 0
A5: Alexandra Marine and General Hospital and Huron Perth Healthcare Alliance | B5: Alexandra Marine and General Hospital and Huron Perth Healthcare Alliance | C5: Small Community | D5: LHIN2 | E5: South West | F5: 2019-20 | G5: =VLOOKUP(H5,'GN and GP categories'!A:B,2,FALSE) -> Gram-negative | H5: Enterobacter sp. | I5: 25 | J5: Piperacillin-Tazobactam | K5: 67 | L5: =IF(K5="","",K5*I5/100) -> 16.75
A6: Alexandra Marine and General Hospital and Huron Perth Healthcare Alliance | B6: Alexandra Marine and General Hospital and Huron Perth Healthcare Alliance | C6: Small Community | D6: LHIN2 | E6: South West | F6: 2019-20 | G6: =VLOOKUP(H6,'GN and GP categories'!A:B,2,FALSE) -> Gram-negative | H6: Enterobacter sp. | I6: 25 | J6: Cefazolin | K6: 0 | L6: =IF(K6="","",K6*I6/100) -> 0
A7: Alexandra Marine and General Hospital and Huron Perth Healthcare Alliance | B7: Alexandra Marine and General Hospital and Huron Perth Healthcare Alliance | C7: Small Community | D7: LHIN2 | E7: South West | F7: 2019-20 | G7: =VLOOKUP(H7,'GN and GP categories'!A:B,2,FALSE) -> Gram-negative | H7: Enterobacter sp. | I7: 25 | J7: ceftriaxone | K7: 67 | L7: =IF(K7="","",K7*I7/100) -> 16.75
A8: Alexandra Marine and General Hospital and Huron Perth Healthcare Alliance | B8: Alexandra Marine and General Hospital and Huron Perth Healthcare Alliance | C8: Small Community | D8: LHIN2 | E8: South West | F8: 2019-20 | G8: =VLOOKUP(H8,'GN and GP categories'!A:B,2,FALSE) -> Gram-negative | H8: Enterobacter sp. | I8: 25 | J8: Meropenem | K8: 100 | L8: =IF(K8="","",K8*I8/100) -> 25
A9: Alexandra Marine and General Hospital and Huron Perth Healthcare Alliance | B9: Alexandra Marine and General Hospital and Huron Perth Healthcare Alliance | C9: Small Community | D9: LHIN2 | E9: South West | F9: 2019-20 | G9: =VLOOKUP(H9,'GN and GP categories'!A:B,2,FALSE) -> Gram-negative | H9: Enterobacter sp. | I9: 25 | J9: Ciprofloxacin | K9: 92 | L9: =IF(K9="","",K9*I9/100) -> 23
A10: Alexandra Marine and General Hospital and Huron Perth Healthcare Alliance | B10: Alexandra Marine and General Hospital and Huron Perth Healthcare Alliance | C10: Small Community | D10: LHIN2 | E10: South West | F10: 2019-20 | G10: =VLOOKUP(H10,'GN and GP categories'!A:B,2,FALSE) -> Gram-negative | H10: Enterobacter sp. | I10: 25 | J10: Gentamicin | K10: 100 | L10: =IF(K10="","",K10*I10/100) -> 25
A11: Alexandra Marine and General Hospital and Huron Perth Healthcare Alliance | B11: Alexandra Marine and General Hospital and Huron Perth Healthcare Alliance | C11: Small Community | D11: LHIN2 | E11: South West | F11: 2019-20 | G11: =VLOOKUP(H11,'GN and GP categories'!A:B,2,FALSE) -> Gram-negative | H11: Enterobacter sp. | I11: 25 | J11: Tobramycin | K11: 96 | L11: =IF(K11="","",K11*I11/100) -> 24
A12: Alexandra Marine and General Hospital and Huron Perth Healthcare Alliance | B12: Alexandra Marine and General Hospital and Huron Perth Healthcare Alliance | C12: Small Community | D12: LHIN2 | E12: South West | F12: 2019-20 | G12: =VLOOKUP(H12,'GN and GP categories'!A:B,2,FALSE) -> Gram-negative | H12: Enterobacter sp. | I12: 25 | J12: Trimethoprim-Sulfamethoxazole | K12: 96 | L12: =IF(K12="","",K12*I12/100) -> 24
A13: Alexandra Marine and General Hospital and Huron Perth Healthcare Alliance | B13: Alexandra Marine and General Hospital and Huron Perth Healthcare Alliance | C13: Small Community | D13: LHIN2 | E13: South West | F13: 2019-20 | G13: =VLOOKUP(H13,'GN and GP categories'!A:B,2,FALSE) -> Gram-negative | H13: Escherichia coli - ALL | I13: 151 | J13: Amoxicillin-Clavulanic acid | K13: 75 | L13: =IF(K13="","",K13*I13/100) -> 113.25
... A148: Alexandra Marine and General Hospital and Huron Perth Healthcare Alliance | B148: Alexandra Marine and General Hospital and Huron Perth Healthcare Alliance | C148: Small Community | D148: LHIN2 | E148: South West | F148: 2019-20 | G148: =VLOOKUP(H148,'GN and GP categories'!A:B,2,FALSE) -> Gram-positive | H148: Staphylococcus aureus | I148: 171 | J148: Vancomycin | K148: 100 | L148: =IF(K148="","",K148*I148/100) -> 171
A149: MICs Group | B149: Anson General Hospital, Lady Minto, Bingham Memorial | C149: Small community | D149: LHIN13 | E149: North East | F149: 2018 | G149: =VLOOKUP(H149,'GN and GP categories'!A:B,2,FALSE) -> Gram-negative | H149: Escherichia coli - ALL | I149: 498 | J149: Ampicillin / Amoxicillin | K149: 55 | L149: =IF(K149="","",K149*I149/100) -> 273.9
A150: MICs Group | B150: Anson General Hospital, Lady Minto, Bingham Memorial | C150: Small community | D150: LHIN13 | E150: North East | F150: 2018 | G150: =VLOOKUP(H150,'GN and GP categories'!A:B,2,FALSE) -> Gram-negative | H150: Escherichia coli - ALL | I150: 242 | J150: Amoxicillin-Clavulanic acid | K150: 88 | L150: =IF(K150="","",K150*I150/100) -> 212.96
A151: MICs Group | B151: Anson General Hospital, Lady Minto, Bingham Memorial | C151: Small community | D151: LHIN13 | E151: North East | F151: 2018 | G151: =VLOOKUP(H151,'GN and GP categories'!A:B,2,FALSE) -> Gram-negative | H151: Escherichia coli - ALL | I151: 492 | J151: cephalexin | K151: 91 | L151: =IF(K151="","",K151*I151/100) -> 447.72
A152: MICs Group | B152: Anson General Hospital, Lady Minto, Bingham Memorial | C152: Small community | D152: LHIN13 | E152: North East | F152: 2018 | G152: =VLOOKUP(H152,'GN and GP categories'!A:B,2,FALSE) -> Gram-negative | H152: Escherichia coli - ALL | I152: 499 | J152: Cefazolin | K152: 91 | L152: =IF(K152="","",K152*I152/100) -> 454.09
A153: MICs Group | B153: Anson General Hospital, Lady Minto, Bingham Memorial | C153: Small community | D153: LHIN13 | E153: North East | F153: 2018 | G153: =VLOOKUP(H153,'GN and GP categories'!A:B,2,FALSE) -> Gram-negative | H153: Escherichia coli - ALL | I153: 483 | J153: Ciprofloxacin | K153: 75 | L153: =IF(K153="","",K153*I153/100) -> 362.25
A154: MICs Group | B154: Anson General Hospital, Lady Minto, Bingham Memorial | C154: Small community | D154: LHIN13 | E154: North East | F154: 2018 | G154: =VLOOKUP(H154,'GN and GP categories'!A:B,2,FALSE) -> Gram-negative | H154: Escherichia coli - ALL | I154: 500 | J154: Nitrofurantoin (urine) | K154: 97 | L154: =IF(K154="","",K154*I154/100) -> 485
A155: MICs Group | B155: Anson General Hospital, Lady Minto, Bingham Memorial | C155: Small community | D155: LHIN13 | E155: North East | F155: 2018 | G155: =VLOOKUP(H155,'GN and GP categories'!A:B,2,FALSE) -> Gram-negative | H155: Escherichia coli - ALL | I155: 513 | J155: Trimethoprim-Sulfamethoxazole | K155: 70 | L155: =IF(K155="","",K155*I155/100) -> 359.1
A156: MICs Group | B156: Anson General Hospital, Lady Minto, Bingham Memorial | C156: Small community | D156: LHIN13 | E156: North East | F156: 2018 | G156: =VLOOKUP(H156,'GN and GP categories'!A:B,2,FALSE) -> Gram-negative | H156: Escherichia coli - ALL | I156: 508 | J156: Gentamicin | K156: 96 | L156: =IF(K156="","",K156*I156/100) -> 487.68
A157: MICs Group | B157: Anson General Hospital, Lady Minto, Bingham Memorial | C157: Small community | D157: LHIN13 | E157: North East | F157: 2018 | G157: =VLOOKUP(H157,'GN and GP categories'!A:B,2,FALSE) -> Gram-negative | H157: Klebsiella sp. | I157: 24 | J157: Amoxicillin-Clavulanic acid | K157: 96 | L157: =IF(K157="","",K157*I157/100) -> 23.04
A158: MICs Group | B158: Anson General Hospital, Lady Minto, Bingham Memorial | C158: Small community | D158: LHIN13 | E158: North East | F158: 2018 | G158: =VLOOKUP(H158,'GN and GP categories'!A:B,2,FALSE) -> Gram-negative | H158: Klebsiella sp. | I158: 54 | J158: cephalexin | K158: 91 | L158: =IF(K158="","",K158*I158/100) -> 49.14
A159: MICs Group | B159: Anson General Hospital, Lady Minto, Bingham Memorial | C159: Small community | D159: LHIN13 | E159: North East | F159: 2018 | G159: =VLOOKUP(H159,'GN and GP categories'!A:B,2,FALSE) -> Gram-negative | H159: Klebsiella sp. | I159: 56 | J159: Cefazolin | K159: 91 | L159: =IF(K159="","",K159*I159/100) -> 50.96
A160: MICs Group | B160: Anson General Hospital, Lady Minto, Bingham Memorial | C160: Small community | D160: LHIN13 | E160: North East | F160: 2018 | G160: =VLOOKUP(H160,'GN and GP categories'!A:B,2,FALSE) -> Gram-negative | H160: Klebsiella sp. | I160: 58 | J160: Ciprofloxacin | K160: 95 | L160: =IF(K160="","",K160*I160/100) -> 55.1
... A173: MICs Group | B173: Anson General Hospital, Lady Minto, Bingham Memorial | C173: Small community | D173: LHIN13 | E173: North East | F173: 2018 | G173: =VLOOKUP(H173,'GN and GP categories'!A:B,2,FALSE) -> Gram-positive | H173: Enterococcus faecalis | I173: 28 | J173: Nitrofurantoin (urine) | K173: 96 | L173: =IF(K173="","",K173*I173/100) -> 26.88
A174: Baycrest Hospital | B174: Baycrest Hospital | C174: Ccc & Rehab | D174: LHIN7 | E174: Toronto Central | F174: 2020 | G174: =VLOOKUP(H174,'GN and GP categories'!A:B,2,FALSE) -> Gram-negative | H174: Escherichia coli - ALL | I174: 120 | J174: Ampicillin / Amoxicillin | K174: 5 | L174: =IF(K174="","",K174*I174/100) -> 6 | M174: urine only antibiogram for baycrest
A175: Baycrest Hospital | B175: Baycrest Hospital | C175: Ccc & Rehab | D175: LHIN7 | E175: Toronto Central | F175: 2020 | G175: =VLOOKUP(H175,'GN and GP categories'!A:B,2,FALSE) -> Gram-negative | H175: Escherichia coli - ALL | I175: 120 | J175: Amoxicillin-Clavulanic acid | K175: 63 | L175: =IF(K175="","",K175*I175/100) -> 75.6
A176: Baycrest Hospital | B176: Baycrest Hospital | C176: Ccc & Rehab | D176: LHIN7 | E176: Toronto Central | F176: 2020 | G176: =VLOOKUP(H176,'GN and GP categories'!A:B,2,FALSE) -> Gram-negative | H176: Escherichia coli - ALL | I176: 120 | J176: Piperacillin-Tazobactam | K176: 71 | L176: =IF(K176="","",K176*I176/100) -> 85.2
A177: Baycrest Hospital | B177: Baycrest Hospital | C177: Ccc & Rehab | D177: LHIN7 | E177: Toronto Central | F177: 2020 | G177: =VLOOKUP(H177,'GN and GP categories'!A:B,2,FALSE) -> Gram-negative | H177: Escherichia coli - ALL | I177: 120 | J177: Meropenem | K177: 99 | L177: =IF(K177="","",K177*I177/100) -> 118.8
A178: Baycrest Hospital | B178: Baycrest Hospital | C178: Ccc & Rehab | D178: LHIN7 | E178: Toronto Central | F178: 2020 | G178: =VLOOKUP(H178,'GN and GP categories'!A:B,2,FALSE) -> Gram-negative | H178: Escherichia coli - ALL | I178: 120 | J178: ertapenem | K178: 100 | L178: =IF(K178="","",K178*I178/100) -> 120
A179: Baycrest Hospital | B179: Baycrest Hospital | C179: Ccc & Rehab | D179: LHIN7 | E179: Toronto Central | F179: 2020 | G179: =VLOOKUP(H179,'GN and GP categories'!A:B,2,FALSE) -> Gram-negative | H179: Escherichia coli - ALL | I179: 120 | J179: Cefazolin | K179: 70 | L179: =IF(K179="","",K179*I179/100) -> 84
A180: Baycrest Hospital | B180: Baycrest Hospital | C180: Ccc & Rehab | D180: LHIN7 | E180: Toronto Central | F180: 2020 | G180: =VLOOKUP(H180,'GN and GP categories'!A:B,2,FALSE) -> Gram-negative | H180: Escherichia coli - ALL | I180: 120 | J180: ceftriaxone | K180: 73 | L180: =IF(K180="","",K180*I180/100) -> 87.6
A181: Baycrest Hospital | B181: Baycrest Hospital | C181: Ccc & Rehab | D181: LHIN7 | E181: Toronto Central | F181: 2020 | G181: =VLOOKUP(H181,'GN and GP categories'!A:B,2,FALSE) -> Gram-negative | H181: Escherichia coli - ALL | I181: 120 | J181: Ceftazidime | K181: 73 | L181: =IF(K181="","",K181*I181/100) -> 87.6
A182: Baycrest Hospital | B182: Baycrest Hospital | C182: Ccc & Rehab | D182: LHIN7 | E182: Toronto Central | F182: 2020 | G182: =VLOOKUP(H182,'GN and GP categories'!A:B,2,FALSE) -> Gram-negative | H182: Escherichia coli - ALL | I182: 120 | J182: doxycycline | K182: 75 | L182: =IF(K182="","",K182*I182/100) -> 90
A183: Baycrest Hospital | B183: Baycrest Hospital | C183: Ccc & Rehab | D183: LHIN7 | E183: Toronto Central | F183: 2020 | G183: =VLOOKUP(H183,'GN and GP categories'!A:B,2,FALSE) -> Gram-negative | H183: Escherichia coli - ALL | I183: 120 | J183: Ciprofloxacin | K183: 61 | L183: =IF(K183="","",K183*I183/100) -> 73.2
A184: Baycrest Hospital | B184: Baycrest Hospital | C184: Ccc & Rehab | D184: LHIN7 | E184: Toronto Central | F184: 2020 | G184: =VLOOKUP(H184,'GN and GP categories'!A:B,2,FALSE) -> Gram-negative | H184: Escherichia coli - ALL | I184: 120 | J184: Trimethoprim-Sulfamethoxazole | K184: 67 | L184: =IF(K184="","",K184*I184/100) -> 80.4
A185: Baycrest Hospital | B185: Baycrest Hospital | C185: Ccc & Rehab | D185: LHIN7 | E185: Toronto Central | F185: 2020 | G185: =VLOOKUP(H185,'GN and GP categories'!A:B,2,FALSE) -> Gram-negative | H185: Escherichia coli - ALL | I185: 120 | J185: Nitrofurantoin (urine) | K185: 92 | L185: =IF(K185="","",K185*I185/100) -> 110.4
A186: Baycrest Hospital | B186: Baycrest Hospital | C186: Ccc & Rehab | D186: LHIN7 | E186: Toronto Central | F186: 2020 | G186: =VLOOKUP(H186,'GN and GP categories'!A:B,2,FALSE) -> Gram-negative | H186: Escherichia coli - ALL | I186: 120 | J186: Gentamicin | K186: 84 | L186: =IF(K186="","",K186*I186/100) -> 100.8
... A975: Brockville General Hospital | B975: Brockville General Hospital | C975: Large Community | D975: LHIN10 | E975: South East | F975: 2020 | G975: =VLOOKUP(H975,'GN and GP categories'!A:B,2,FALSE) -> Gram-negative | H975: Pseudomonas aeruginosa | I975: 48 | J975: Piperacillin-Tazobactam | K975: 94 | L975: =IF(K975="","",K975*I975/100) -> 45.12
A976: Cambridge Memorial Hospital | B976: Cambridge Memorial Hospital | C976: Large Community | D976: LHIN3 | E976: Waterloo Wellington | F976: 2020-21 | G976: =VLOOKUP(H976,'GN and GP categories'!A:B,2,FALSE) -> Gram-negative | H976: Escherichia coli - ALL | I976: 564 | J976: Ampicillin / Amoxicillin | K976: 60 | L976: =IF(K976="","",K976*I976/100) -> 338.4
A977: Cambridge Memorial Hospital | B977: Cambridge Memorial Hospital | C977: Large Community | D977: LHIN3 | E977: Waterloo Wellington | F977: 2020-21 | G977: =VLOOKUP(H977,'GN and GP categories'!A:B,2,FALSE) -> Gram-negative | H977: Escherichia coli - ALL | I977: 564 | J977: ceftriaxone | K977: 88 | L977: =IF(K977="","",K977*I977/100) -> 496.32
A978: Cambridge Memorial Hospital | B978: Cambridge Memorial Hospital | C978: Large Community | D978: LHIN3 | E978: Waterloo Wellington | F978: 2020-21 | G978: =VLOOKUP(H978,'GN and GP categories'!A:B,2,FALSE) -> Gram-negative | H978: Escherichia coli - ALL | I978: 564 | J978: Ciprofloxacin | K978: 75 | L978: =IF(K978="","",K978*I978/100) -> 423
A979: Cambridge Memorial Hospital | B979: Cambridge Memorial Hospital | C979: Large Community | D979: LHIN3 | E979: Waterloo Wellington | F979: 2020-21 | G979: =VLOOKUP(H979,'GN and GP categories'!A:B,2,FALSE) -> Gram-negative | H979: Escherichia coli - ALL | I979: 564 | J979: ertapenem | K979: 100 | L979: =IF(K979="","",K979*I979/100) -> 564
A980: Cambridge Memorial Hospital | B980: Cambridge Memorial Hospital | C980: Large Community | D980: LHIN3 | E980: Waterloo Wellington | F980: 2020-21 | G980: =VLOOKUP(H980,'GN and GP categories'!A:B,2,FALSE) -> Gram-negative | H980: Escherichia coli - ALL | I980: 564 | J980: Gentamicin | K980: 93 | L980: =IF(K980="","",K980*I980/100) -> 524.52
A981: Cambridge Memorial Hospital | B981: Cambridge Memorial Hospital | C981: Large Community | D981: LHIN3 | E981: Waterloo Wellington | F981: 2020-21 | G981: =VLOOKUP(H981,'GN and GP categories'!A:B,2,FALSE) -> Gram-negative | H981: Escherichia coli - ALL | I981: 564 | J981: Meropenem | K981: 100 | L981: =IF(K981="","",K981*I981/100) -> 564
A982: Cambridge Memorial Hospital | B982: Cambridge Memorial Hospital | C982: Large Community | D982: LHIN3 | E982: Waterloo Wellington | F982: 2020-21 | G982: =VLOOKUP(H982,'GN and GP categories'!A:B,2,FALSE) -> Gram-negative | H982: Escherichia coli - ALL | I982: 564 | J982: Piperacillin-Tazobactam | K982: 97 | L982: =IF(K982="","",K982*I982/100) -> 547.08
A983: Cambridge Memorial Hospital | B983: Cambridge Memorial Hospital | C983: Large Community | D983: LHIN3 | E983: Waterloo Wellington | F983: 2020-21 | G983: =VLOOKUP(H983,'GN and GP categories'!A:B,2,FALSE) -> Gram-negative | H983: Escherichia coli - ALL | I983: 564 | J983: Tobramycin | K983: 93 | L983: =IF(K983="","",K983*I983/100) -> 524.52
A984: Cambridge Memorial Hospital | B984: Cambridge Memorial Hospital | C984: Large Community | D984: LHIN3 | E984: Waterloo Wellington | F984: 2020-21 | G984: =VLOOKUP(H984,'GN and GP categories'!A:B,2,FALSE) -> Gram-negative | H984: Escherichia coli - ALL | I984: 564 | J984: Trimethoprim-Sulfamethoxazole | K984: 80 | L984: =IF(K984="","",K984*I984/100) -> 451.2
A985: Cambridge Memorial Hospital | B985: Cambridge Memorial Hospital | C985: Large Community | D985: LHIN3 | E985: Waterloo Wellington | F985: 2020-21 | G985: =VLOOKUP(H985,'GN and GP categories'!A:B,2,FALSE) -> Gram-negative | H985: Klebsiella sp. | I985: 116 | J985: ceftriaxone | K985: 96 | L985: =IF(K985="","",K985*I985/100) -> 111.36
A986: Cambridge Memorial Hospital | B986: Cambridge Memorial Hospital | C986: Large Community | D986: LHIN3 | E986: Waterloo Wellington | F986: 2020-21 | G986: =VLOOKUP(H986,'GN and GP categories'!A:B,2,FALSE) -> Gram-negative | H986: Klebsiella sp. | I986: 116 | J986: Ciprofloxacin | K986: 90 | L986: =IF(K986="","",K986*I986/100) -> 104.4
A987: Cambridge Memorial Hospital | B987: Cambridge Memorial Hospital | C987: Large Community | D987: LHIN3 | E987: Waterloo Wellington | F987: 2020-21 | G987: =VLOOKUP(H987,'GN and GP categories'!A:B,2,FALSE) -> Gram-negative | H987: Klebsiella sp. | I987: 116 | J987: ertapenem | K987: 99 | L987: =IF(K987="","",K987*I987/100) -> 114.84
... A1038: Cambridge Memorial Hospital | B1038: Cambridge Memorial Hospital | C1038: Large Community | D1038: LHIN3 | E1038: Waterloo Wellington | F1038: 2020-21 | G1038: =VLOOKUP(H1038,'GN and GP categories'!A:B,2,FALSE) -> Gram-positive | H1038: Streptococcus pneumoniae | I1038: 14 | J1038: Vancomycin | K1038: 100 | L1038: =IF(K1038="","",K1038*I1038/100) -> 14
A1039: Cambridge Memorial Hospital | B1039: Cambridge Memorial Hospital | C1039: Large Community | D1039: LHIN3 | E1039: Waterloo Wellington | F1039: 2020 | G1039: =VLOOKUP(H1039,'GN and GP categories'!A:B,2,FALSE) -> Gram-negative | H1039: Escherichia coli - ALL | I1039: 490 | J1039: Ampicillin / Amoxicillin | K1039: 55.7 | L1039: =IF(K1039="","",K1039*I1039/100) -> 272.93
A1040: Cambridge Memorial Hospital | B1040: Cambridge Memorial Hospital | C1040: Large Community | D1040: LHIN3 | E1040: Waterloo Wellington | F1040: 2020 | G1040: =VLOOKUP(H1040,'GN and GP categories'!A:B,2,FALSE) -> Gram-negative | H1040: Escherichia coli - ALL | I1040: 490 | J1040: ceftriaxone | K1040: 86.5 | L1040: =IF(K1040="","",K1040*I1040/100) -> 423.85
A1041: Cambridge Memorial Hospital | B1041: Cambridge Memorial Hospital | C1041: Large Community | D1041: LHIN3 | E1041: Waterloo Wellington | F1041: 2020 | G1041: =VLOOKUP(H1041,'GN and GP categories'!A:B,2,FALSE) -> Gram-negative | H1041: Escherichia coli - ALL | I1041: 490 | J1041: Ciprofloxacin | K1041: 73.7 | L1041: =IF(K1041="","",K1041*I1041/100) -> 361.13
A1042: Cambridge Memorial Hospital | B1042: Cambridge Memorial Hospital | C1042: Large Community | D1042: LHIN3 | E1042: Waterloo Wellington | F1042: 2020 | G1042: =VLOOKUP(H1042,'GN and GP categories'!A:B,2,FALSE) -> Gram-negative | H1042: Escherichia coli - ALL | I1042: 490 | J1042: Ertapenem | K1042: 99.8 | L1042: =IF(K1042="","",K1042*I1042/100) -> 489.02
A1043: Cambridge Memorial Hospital | B1043: Cambridge Memorial Hospital | C1043: Large Community | D1043: LHIN3 | E1043: Waterloo Wellington | F1043: 2020 | G1043: =VLOOKUP(H1043,'GN and GP categories'!A:B,2,FALSE) -> Gram-negative | H1043: Escherichia coli - ALL | I1043: 490 | J1043: Gentamicin | K1043: 92.9 | L1043: =IF(K1043="","",K1043*I1043/100) -> 455.21
A1044: Cambridge Memorial Hospital | B1044: Cambridge Memorial Hospital | C1044: Large Community | D1044: LHIN3 | E1044: Waterloo Wellington | F1044: 2020 | G1044: =VLOOKUP(H1044,'GN and GP categories'!A:B,2,FALSE) -> Gram-negative | H1044: Escherichia coli - ALL | I1044: 490 | J1044: Meropenem | K1044: 100 | L1044: =IF(K1044="","",K1044*I1044/100) -> 490
A1045: Cambridge Memorial Hospital | B1045: Cambridge Memorial Hospital | C1045: Large Community | D1045: LHIN3 | E1045: Waterloo Wellington | F1045: 2020 | G1045: =VLOOKUP(H1045,'GN and GP categories'!A:B,2,FALSE) -> Gram-negative | H1045: Escherichia coli - ALL | I1045: 490 | J1045: Piperacillin-Tazobactam | K1045: 94 | L1045: =IF(K1045="","",K1045*I1045/100) -> 460.6
A1046: Cambridge Memorial Hospital | B1046: Cambridge Memorial Hospital | C1046: Large Community | D1046: LHIN3 | E1046: Waterloo Wellington | F1046: 2020 | G1046: =VLOOKUP(H1046,'GN and GP categories'!A:B,2,FALSE) -> Gram-negative | H1046: Escherichia coli - ALL | I1046: 490 | J1046: Tobramycin | K1046: 92.2 | L1046: =IF(K1046="","",K1046*I1046/100) -> 451.78
A1047: Cambridge Memorial Hospital | B1047: Cambridge Memorial Hospital | C1047: Large Community | D1047: LHIN3 | E1047: Waterloo Wellington | F1047: 2020 | G1047: =VLOOKUP(H1047,'GN and GP categories'!A:B,2,FALSE) -> Gram-negative | H1047: Escherichia coli - ALL | I1047: 490 | J1047: Trimethoprim-Sulfamethoxazole | K1047: 75.7 | L1047: =IF(K1047="","",K1047*I1047/100) -> 370.93
A1048: Cambridge Memorial Hospital | B1048: Cambridge Memorial Hospital | C1048: Large Community | D1048: LHIN3 | E1048: Waterloo Wellington | F1048: 2020 | G1048: =VLOOKUP(H1048,'GN and GP categories'!A:B,2,FALSE) -> Gram-negative | H1048: Klebsiella sp. | I1048: 104 | J1048: ceftriaxone | K1048: 90.4 | L1048: =IF(K1048="","",K1048*I1048/100) -> 94.016
A1049: Cambridge Memorial Hospital | B1049: Cambridge Memorial Hospital | C1049: Large Community | D1049: LHIN3 | E1049: Waterloo Wellington | F1049: 2020 | G1049: =VLOOKUP(H1049,'GN and GP categories'!A:B,2,FALSE) -> Gram-negative | H1049: Klebsiella sp. | I1049: 104 | J1049: Ciprofloxacin | K1049: 86.5 | L1049: =IF(K1049="","",K1049*I1049/100) -> 89.96
A1050: Cambridge Memorial Hospital | B1050: Cambridge Memorial Hospital | C1050: Large Community | D1050: LHIN3 | E1050: Waterloo Wellington | F1050: 2020 | G1050: =VLOOKUP(H1050,'GN and GP categories'!A:B,2,FALSE) -> Gram-negative | H1050: Klebsiella sp. | I1050: 104 | J1050: Ertapenem | K1050: 100 | L1050: =IF(K1050="","",K1050*I1050/100) -> 104
... A1087: Cambridge Memorial Hospital | B1087: Cambridge Memorial Hospital | C1087: Large Community | D1087: LHIN3 | E1087: Waterloo Wellington | F1087: 2020 | G1087: =VLOOKUP(H1087,'GN and GP categories'!A:B,2,FALSE) -> Gram-positive | H1087: Streptococcus pneumoniae | I1087: 13 | J1087: Trimethoprim-Sulfamethoxazole | K1087: 84.6 | L1087: =IF(K1087="","",K1087*I1087/100) -> 10.998
A1088: Chapleau Health Services | B1088: Chapleau Health Services | C1088: Small Community | D1088: LHIN13 | E1088: North East | F1088: 2019-2020 | G1088: =VLOOKUP(H1088,'GN and GP categories'!A:B,2,FALSE) -> Gram-negative | H1088: Citrobacter sp. | I1088: 2 | J1088: Amoxicillin-Clavulanic acid | K1088: 0 | L1088: =IF(K1088="","",K1088*I1088/100) -> 0
A1089: Chapleau Health Services | B1089: Chapleau Health Services | C1089: Small Community | D1089: LHIN13 | E1089: North East | F1089: 2019-2020 | G1089: =VLOOKUP(H1089,'GN and GP categories'!A:B,2,FALSE) -> Gram-negative | H1089: Citrobacter sp. | I1089: 2 | J1089: piperacillin-tazobactam | K1089: 0 | L1089: =IF(K1089="","",K1089*I1089/100) -> 0
A1090: Chapleau Health Services | B1090: Chapleau Health Services | C1090: Small Community | D1090: LHIN13 | E1090: North East | F1090: 2019-2020 | G1090: =VLOOKUP(H1090,'GN and GP categories'!A:B,2,FALSE) -> Gram-negative | H1090: Citrobacter sp. | I1090: 2 | J1090: cefazolin | K1090: 0 | L1090: =IF(K1090="","",K1090*I1090/100) -> 0
A1091: Chapleau Health Services | B1091: Chapleau Health Services | C1091: Small Community | D1091: LHIN13 | E1091: North East | F1091: 2019-2020 | G1091: =VLOOKUP(H1091,'GN and GP categories'!A:B,2,FALSE) -> Gram-negative | H1091: Citrobacter sp. | I1091: 2 | J1091: ceftazidime | K1091: 0 | L1091: =IF(K1091="","",K1091*I1091/100) -> 0
A1092: Chapleau Health Services | B1092: Chapleau Health Services | C1092: Small Community | D1092: LHIN13 | E1092: North East | F1092: 2019-2020 | G1092: =VLOOKUP(H1092,'GN and GP categories'!A:B,2,FALSE) -> Gram-negative | H1092: Citrobacter sp. | I1092: 2 | J1092: ceftriaxone | K1092: 0 | L1092: =IF(K1092="","",K1092*I1092/100) -> 0
A1093: Chapleau Health Services | B1093: Chapleau Health Services | C1093: Small Community | D1093: LHIN13 | E1093: North East | F1093: 2019-2020 | G1093: =VLOOKUP(H1093,'GN and GP categories'!A:B,2,FALSE) -> Gram-negative | H1093: Citrobacter sp. | I1093: 2 | J1093: ertapenem | K1093: 100 | L1093: =IF(K1093="","",K1093*I1093/100) -> 2
A1094: Chapleau Health Services | B1094: Chapleau Health Services | C1094: Small Community | D1094: LHIN13 | E1094: North East | F1094: 2019-2020 | G1094: =VLOOKUP(H1094,'GN and GP categories'!A:B,2,FALSE) -> Gram-negative | H1094: Citrobacter sp. | I1094: 2 | J1094: meropenem | K1094: 100 | L1094: =IF(K1094="","",K1094*I1094/100) -> 2
A1095: Chapleau Health Services | B1095: Chapleau Health Services | C1095: Small Community | D1095: LHIN13 | E1095: North East | F1095: 2019-2020 | G1095: =VLOOKUP(H1095,'GN and GP categories'!A:B,2,FALSE) -> Gram-negative | H1095: Citrobacter sp. | I1095: 2 | J1095: amikacin | K1095: 100 | L1095: =IF(K1095="","",K1095*I1095/100) -> 2
A1096: Chapleau Health Services | B1096: Chapleau Health Services | C1096: Small Community | D1096: LHIN13 | E1096: North East | F1096: 2019-2020 | G1096: =VLOOKUP(H1096,'GN and GP categories'!A:B,2,FALSE) -> Gram-negative | H1096: Citrobacter sp. | I1096: 2 | J1096: gentamicin | K1096: 100 | L1096: =IF(K1096="","",K1096*I1096/100) -> 2
A1097: Chapleau Health Services | B1097: Chapleau Health Services | C1097: Small Community | D1097: LHIN13 | E1097: North East | F1097: 2019-2020 | G1097: =VLOOKUP(H1097,'GN and GP categories'!A:B,2,FALSE) -> Gram-negative | H1097: Citrobacter sp. | I1097: 2 | J1097: tobramycin | K1097: 100 | L1097: =IF(K1097="","",K1097*I1097/100) -> 2
A1098: Chapleau Health Services | B1098: Chapleau Health Services | C1098: Small Community | D1098: LHIN13 | E1098: North East | F1098: 2019-2020 | G1098: =VLOOKUP(H1098,'GN and GP categories'!A:B,2,FALSE) -> Gram-negative | H1098: Citrobacter sp. | I1098: 2 | J1098: ciprofloxacin | K1098: 100 | L1098: =IF(K1098="","",K1098*I1098/100) -> 2
A1099: Chapleau Health Services | B1099: Chapleau Health Services | C1099: Small Community | D1099: LHIN13 | E1099: North East | F1099: 2019-2020 | G1099: =VLOOKUP(H1099,'GN and GP categories'!A:B,2,FALSE) -> Gram-negative | H1099: Citrobacter sp. | I1099: 2 | J1099: tetracycline | K1099: 100 | L1099: =IF(K1099="","",K1099*I1099/100) -> 2
... A1216: Chapleau Health Services | B1216: Chapleau Health Services | C1216: Small Community | D1216: LHIN13 | E1216: North East | F1216: 2019-2020 | G1216: =VLOOKUP(H1216,'GN and GP categories'!A:B,2,FALSE) -> Gram-positive | H1216: Staphylococcus aureus | I1216: 27 | J1216: Trimethoprim-Sulfamethoxazole | K1216: 100 | L1216: =IF(K1216="","",K1216*I1216/100) -> 27
A1217: Chatham-Kent Health Alliance | B1217: Chatham-Kent Health Alliance | C1217: Large Community | D1217: LHIN1 | E1217: Erie St. Clair | F1217: 2020 | G1217: =VLOOKUP(H1217,'GN and GP categories'!A:B,2,FALSE) -> Gram-negative | H1217: Escherichia coli - ALL | I1217: 1014 | J1217: Ampicillin / Amoxicillin | K1217: 60 | L1217: =IF(K1217="","",K1217*I1217/100) -> 608.4
A1218: Chatham-Kent Health Alliance | B1218: Chatham-Kent Health Alliance | C1218: Large Community | D1218: LHIN1 | E1218: Erie St. Clair | F1218: 2020 | G1218: =VLOOKUP(H1218,'GN and GP categories'!A:B,2,FALSE) -> Gram-negative | H1218: Escherichia coli - ALL | I1218: 1014 | J1218: Amoxicillin-Clavulanic acid | K1218: 88 | L1218: =IF(K1218="","",K1218*I1218/100) -> 892.32
A1219: Chatham-Kent Health Alliance | B1219: Chatham-Kent Health Alliance | C1219: Large Community | D1219: LHIN1 | E1219: Erie St. Clair | F1219: 2020 | G1219: =VLOOKUP(H1219,'GN and GP categories'!A:B,2,FALSE) -> Gram-negative | H1219: Escherichia coli - ALL | I1219: 1014 | J1219: cephalexin | K1219: 90 | L1219: =IF(K1219="","",K1219*I1219/100) -> 912.6
A1220: Chatham-Kent Health Alliance | B1220: Chatham-Kent Health Alliance | C1220: Large Community | D1220: LHIN1 | E1220: Erie St. Clair | F1220: 2020 | G1220: =VLOOKUP(H1220,'GN and GP categories'!A:B,2,FALSE) -> Gram-negative | H1220: Escherichia coli - ALL | I1220: 1014 | J1220: cefazolin | K1220: 77 | L1220: =IF(K1220="","",K1220*I1220/100) -> 780.78
A1221: Chatham-Kent Health Alliance | B1221: Chatham-Kent Health Alliance | C1221: Large Community | D1221: LHIN1 | E1221: Erie St. Clair | F1221: 2020 | G1221: =VLOOKUP(H1221,'GN and GP categories'!A:B,2,FALSE) -> Gram-negative | H1221: Escherichia coli - ALL | I1221: 1014 | J1221: ceftriaxone | K1221: 91 | L1221: =IF(K1221="","",K1221*I1221/100) -> 922.74
A1222: Chatham-Kent Health Alliance | B1222: Chatham-Kent Health Alliance | C1222: Large Community | D1222: LHIN1 | E1222: Erie St. Clair | F1222: 2020 | G1222: =VLOOKUP(H1222,'GN and GP categories'!A:B,2,FALSE) -> Gram-negative | H1222: Escherichia coli - ALL | I1222: 1014 | J1222: imipenem | K1222: 99 | L1222: =IF(K1222="","",K1222*I1222/100) -> 1003.86
A1223: Chatham-Kent Health Alliance | B1223: Chatham-Kent Health Alliance | C1223: Large Community | D1223: LHIN1 | E1223: Erie St. Clair | F1223: 2020 | G1223: =VLOOKUP(H1223,'GN and GP categories'!A:B,2,FALSE) -> Gram-negative | H1223: Escherichia coli - ALL | I1223: 1014 | J1223: ciprofloxacin | K1223: 79 | L1223: =IF(K1223="","",K1223*I1223/100) -> 801.06
A1224: Chatham-Kent Health Alliance | B1224: Chatham-Kent Health Alliance | C1224: Large Community | D1224: LHIN1 | E1224: Erie St. Clair | F1224: 2020 | G1224: =VLOOKUP(H1224,'GN and GP categories'!A:B,2,FALSE) -> Gram-negative | H1224: Escherichia coli - ALL | I1224: 1014 | J1224: gentamicin | K1224: 94 | L1224: =IF(K1224="","",K1224*I1224/100) -> 953.16
A1225: Chatham-Kent Health Alliance | B1225: Chatham-Kent Health Alliance | C1225: Large Community | D1225: LHIN1 | E1225: Erie St. Clair | F1225: 2020 | G1225: =VLOOKUP(H1225,'GN and GP categories'!A:B,2,FALSE) -> Gram-negative | H1225: Escherichia coli - ALL | I1225: 1014 | J1225: tobramycin | K1225: 93 | L1225: =IF(K1225="","",K1225*I1225/100) -> 943.02
A1226: Chatham-Kent Health Alliance | B1226: Chatham-Kent Health Alliance | C1226: Large Community | D1226: LHIN1 | E1226: Erie St. Clair | F1226: 2020 | G1226: =VLOOKUP(H1226,'GN and GP categories'!A:B,2,FALSE) -> Gram-negative | H1226: Escherichia coli - ALL | I1226: 1014 | J1226: Trimethoprim-Sulfamethoxazole | K1226: 83 | L1226: =IF(K1226="","",K1226*I1226/100) -> 841.62
A1227: Chatham-Kent Health Alliance | B1227: Chatham-Kent Health Alliance | C1227: Large Community | D1227: LHIN1 | E1227: Erie St. Clair | F1227: 2020 | G1227: =VLOOKUP(H1227,'GN and GP categories'!A:B,2,FALSE) -> Gram-negative | H1227: Klebsiella sp. | I1227: 171 | J1227: Amoxicillin-Clavulanic acid | K1227: 98 | L1227: =IF(K1227="","",K1227*I1227/100) -> 167.58
A1228: Chatham-Kent Health Alliance | B1228: Chatham-Kent Health Alliance | C1228: Large Community | D1228: LHIN1 | E1228: Erie St. Clair | F1228: 2020 | G1228: =VLOOKUP(H1228,'GN and GP categories'!A:B,2,FALSE) -> Gram-negative | H1228: Klebsiella sp. | I1228: 171 | J1228: cephalexin | K1228: 98 | L1228: =IF(K1228="","",K1228*I1228/100) -> 167.58
... A1497: William Osler | B1497: Etobicoke General Hospital | C1497: Large Community | D1497: LHIN5 | E1497: Central West | F1497: 2020 | G1497: =VLOOKUP(H1497,'GN and GP categories'!A:B,2,FALSE) -> Gram-negative | H1497: Pseudomonas aeruginosa | I1497: 86 | J1497: Meropenem | K1497: 90 | L1497: =IF(K1497="","",K1497*I1497/100) -> 77.4
A1498: Georgian Bay General Hospital | B1498: Georgian Bay General Hospital - Midland Site | C1498: Large Community | D1498: LHIN12 | E1498: North Simcoe Muskoka | F1498: 2020-2021 | G1498: =VLOOKUP(H1498,'GN and GP categories'!A:B,2,FALSE) -> Gram-negative | H1498: Escherichia coli - ALL | I1498: 815 | J1498: Ampicillin / Amoxicillin | K1498: 67 | L1498: =K1498*I1498/100 -> 546.05 | M1498: NEW
A1499: Georgian Bay General Hospital | B1499: Georgian Bay General Hospital - Midland Site | C1499: Large Community | D1499: LHIN12 | E1499: North Simcoe Muskoka | F1499: 2020-2021 | G1499: =VLOOKUP(H1499,'GN and GP categories'!A:B,2,FALSE) -> Gram-negative | H1499: Escherichia coli - ALL | I1499: 815 | J1499: Cefazolin | K1499: 94 | L1499: =K1499*I1499/100 -> 766.1 | M1499: NEW
A1500: Georgian Bay General Hospital | B1500: Georgian Bay General Hospital - Midland Site | C1500: Large Community | D1500: LHIN12 | E1500: North Simcoe Muskoka | F1500: 2020-2021 | G1500: =VLOOKUP(H1500,'GN and GP categories'!A:B,2,FALSE) -> Gram-negative | H1500: Escherichia coli - ALL | I1500: 815 | J1500: Ceftriaxone | K1500: 98 | L1500: =K1500*I1500/100 -> 798.7 | M1500: NEW
A1501: Georgian Bay General Hospital | B1501: Georgian Bay General Hospital - Midland Site | C1501: Large Community | D1501: LHIN12 | E1501: North Simcoe Muskoka | F1501: 2020-2021 | G1501: =VLOOKUP(H1501,'GN and GP categories'!A:B,2,FALSE) -> Gram-negative | H1501: Escherichia coli - ALL | I1501: 815 | J1501: Ciprofloxacin | K1501: 81 | L1501: =K1501*I1501/100 -> 660.15
A1502: Georgian Bay General Hospital | B1502: Georgian Bay General Hospital - Midland Site | C1502: Large Community | D1502: LHIN12 | E1502: North Simcoe Muskoka | F1502: 2020-2021 | G1502: =VLOOKUP(H1502,'GN and GP categories'!A:B,2,FALSE) -> Gram-negative | H1502: Escherichia coli - ALL | I1502: 815 | J1502: Tobramycin | K1502: 94 | L1502: =K1502*I1502/100 -> 766.1
A1503: Georgian Bay General Hospital | B1503: Georgian Bay General Hospital - Midland Site | C1503: Large Community | D1503: LHIN12 | E1503: North Simcoe Muskoka | F1503: 2020-2021 | G1503: =VLOOKUP(H1503,'GN and GP categories'!A:B,2,FALSE) -> Gram-negative | H1503: Escherichia coli - ALL | I1503: 815 | J1503: gentamicin | K1503: 93 | L1503: =K1503*I1503/100 -> 757.95
A1504: Georgian Bay General Hospital | B1504: Georgian Bay General Hospital - Midland Site | C1504: Large Community | D1504: LHIN12 | E1504: North Simcoe Muskoka | F1504: 2020-2021 | G1504: =VLOOKUP(H1504,'GN and GP categories'!A:B,2,FALSE) -> Gram-negative | H1504: Escherichia coli - ALL | I1504: 815 | J1504: Meropenem | K1504: 100 | L1504: =K1504*I1504/100 -> 815
...

Sheet Hospital Antibiogram
A1: Ontario Hospital Antibiogram
A2: % Susceptible 2018-2021 Data
A3: Consult the Technical Notes for details about how this antibiogram was prepared
C5: amikacin | E5: Amoxicillin-Clavulanic acid | G5: Ampicillin / Amoxicillin | I5: Cefazolin | K5: Ceftazidime | M5: Ceftriaxone | O5: Ciprofloxacin | Q5: Cloxacillin | S5: Doxycycline | U5: ertapenem | W5: Fosfomycin (urine) | Y5: Gentamicin | AA5: levofloxacin | AC5: Meropenem | AE5: Nitrofurantoin (urine) | AG5: Penicillin | AI5: Piperacillin-Tazobactam | AK5: tetracycline | AM5: Tobramycin | AO5: Trimethoprim-Sulfamethoxazole
C6: # | D6: % S | E6: # | F6: % S | G6: # | H6: % S | I6: # | J6: % S | K6: # | L6: % S | M6: # | N6: % S | O6: # | P6: % S | Q6: # | R6: % S | S6: # | T6: % S | U6: # | V6: % S | W6: # | X6: % S | Y6: # | Z6: % S | AA6: # | AB6: % S | AC6: # | AD6: % S | AE6: # | AF6: % S | AG6: # | AH6: % S | AI6: # | AJ6: % S | AK6: # | AL6: % S | AM6: # | AN6: % S | AO6: # | AP6: % S
B7: Acinetobacter sp. | C7: 115 | D7: 95.278261 | E7: 3 | F7: 0 | G7: 3 | H7: 0 | I7: 3 | J7: 0 | K7: 122 | L7: 89.540984 | M7: 3 | N7: 0 | O7: 124 | P7: 86.016129 | Y7: 79 | Z7: 93.468354 | AC7: 124 | AD7: 95.08871 | AE7: 3 | AF7: 0 | AI7: 121 | AJ7: 87.77686 | AK7: 7 | AL7: 100 | AM7: 122 | AN7: 94.459016 | AO7: 79 | AP7: 87.291139
B8: Citrobacter sp. | C8: 539 | D8: 100 | E8: 288 | F8: 1.3993056 | G8: 493 | H8: 0.16227181 | I8: 500 | J8: 0 | K8: 374 | L8: 29.433155 | M8: 468 | N8: 18.559829 | O8: 1421 | P8: 89.707952 | S8: 15 | T8: 87 | U8: 618 | V8: 98.404531 | Y8: 1334 | Z8: 95.497001 | AA8: 22 | AB8: 81.863636 | AC8: 1425 | AD8: 99.586667 | AE8: 834 | AF8: 85.119904 | AI8: 565 | AJ8: 31.40885 | AK8: 59 | AL8: 81.271186 | AM8: 1096 | AN8: 96.32573 | AO8: 1425 | AP8: 89.672281
B9: Enterobacter sp. | C9: 1661 | D9: 99.731487 | E9: 842 | F9: 0 | G9: 1492 | H9: 0 | I9: 1583 | J9: 0 | K9: 952 | L9: 41.840336 | M9: 1534 | N9: 40.016949 | O9: 4148 | P9: 91.641562 | Q9: 25 | R9: 0 | S9: 41 | T9: 34.146341 | U9: 1855 | V9: 89.047224 | Y9: 3846 | Z9: 96.845554 | AA9: 253 | AB9: 92.573123 | AC9: 3957 | AD9: 97.890826 | AE9: 1903 | AF9: 38.650552 | AG9: 25 | AH9: 0 | AI9: 1967 | AJ9: 36.120488 | AK9: 240 | AL9: 92.675 | AM9: 3425 | AN9: 96.220438 | AO9: 3969 | AP9: 91.922499
B10: Escherichia coli - ALL | C10: 23299 | D10: 99.754706 | E10: 35967 | F10: 78.864737 | G10: 59083 | H10: 55.251477 | I10: 51558 | J10: 82.238818 | K10: 30018 | L10: 85.904957 | M10: 53179 | N10: 87.176179 | O10: 59570 | P10: 74.857848 | S10: 643 | T10: 32.099533 | U10: 26570 | V10: 99.744976 | W10: 748 | X10: 98.589572 | Y10: 55422 | Z10: 92.596965 | AA10: 1638 | AB10: 76.111111 | AC10: 51932 | AD10: 99.669687 | AE10: 38624 | AF10: 96.51745 | AI10: 52799 | AJ10: 89.650088 | AK10: 5355 | AL10: 94.069281 | AM10: 46885 | AN10: 92.190807 | AO10: 58316 | AP10: 77.875712
B11: Haemophilus influenzae | E11: 14 | F11: 100 | G11: 228 | H11: 68.732456 | K11: 14 | L11: 100 | M11: 14 | N11: 100 | AC11: 14 | AD11: 100 | AI11: 14 | AJ11: 100
B12: Klebsiella sp. | C12: 5880 | D12: 99.66932 | E12: 8393 | F12: 91.944716 | G12: 8581 | H12: 0.4162685 | I12: 12230 | J12: 79.422976 | K12: 7930 | L12: 90.935561 | M12: 13387 | N12: 90.914439 | O12: 14443 | P12: 89.888389 | S12: 47 | T12: 95.659574 | U12: 6308 | V12: 98.6487 | Y12: 13270 | Z12: 96.732645 | AA12: 580 | AB12: 91.868966 | AC12: 13152 | AD12: 98.97392 | AE12: 7840 | AF12: 45.790179 | AI12: 13479 | AJ12: 92.076905 | AK12: 422 | AL12: 86.938389 | AM12: 11681 | AN12: 95.690489 | AO12: 13815 | AP12: 90.673398
B13: Morganella morganii | C13: 239 | D13: 99.690377 | E13: 62 | F13: 0 | G13: 273 | H13: 0 | I13: 265 | J13: 0 | K13: 92 | L13: 25.108696 | M13: 270 | N13: 10.333333 | O13: 398 | P13: 76.582915 | U13: 152 | V13: 100 | Y13: 272 | Z13: 89.694853 | AA13: 30 | AB13: 72 | AC13: 398 | AD13: 99.41206 | AE13: 50 | AF13: 0 | AI13: 270 | AJ13: 29.925926 | AK13: 18 | AL13: 16.444444 | AM13: 365 | AN13: 91.676712 | AO13: 398 | AP13: 78.389447
B14: Pseudomonas aeruginosa | C14: 5481 | D14: 97.117132 | E14: 240 | F14: 0 | G14: 240 | H14: 0 | I14: 645 | J14: 4.0372093 | K14: 11170 | L14: 89.582041 | M14: 376 | N14: 3.4574468 | O14: 11068 | P14: 84.661673 | U14: 123 | V14: 0 | Y14: 10244 | Z14: 93.791234 | AA14: 444 | AB14: 80.358108 | AC14: 10875 | AD14: 89.099825 | AE14: 277 | AF14: 12.956679 | AI14: 11100 | AJ14: 88.696955 | AK14: 197 | AL14: 87 | AM14: 9351 | AN14: 97.313314 | AO14: 422 | AP14: 10.168246
B15: Serratia sp. | C15: 630 | D15: 99.687302 | E15: 132 | F15: 0 | G15: 521 | H15: 0 | I15: 546 | J15: 0 | K15: 109 | L15: 14.697248 | M15: 389 | N15: 25.809769 | O15: 956 | P15: 94.26046 | U15: 325 | V15: 97.676923 | Y15: 848 | Z15: 99.668632 | AC15: 923 | AD15: 99.329361 | AE15: 169 | AF15: 0 | AI15: 481 | AJ15: 57.723493 | AK15: 7 | AL15: 14 | AM15: 810 | AN15: 96.453086 | AO15: 956 | AP15: 99.212343
B16: Stenotrophomonas maltophilia | K16: 17 | L16: 71 | AA16: 18 | AB16: 94 | AO16: 18 | AP16: 94
A20: Last updated: March 2022

Sheet Urine WISCA
A1: setting | B1: age_group | C1: lhin | D1: LHIN Name | E1: organism2 | F1: count | G1: Amoxicillin | H1: Nitrofurantoin | I1: TMP-SMX | J1: Ciprofloxacin | K1: AMINOGLYCOSIDES | L1: Cefazolin
A2: Inpatient | B2: <18 | C2: All | D2: =VLOOKUP(C2,LHIN!$A$2:$C$16,2,FALSE) -> All LHINs | E2: Escherichia coli | F2: 797 | G2: 50.690088 | H2: 97.741531 | I2: 72.521957 | J2: 61.104141 | K2: 91.091593 | L2: 86.449184
A3: Inpatient | B3: 18-64 | C3: All | D3: =VLOOKUP(C3,LHIN!$A$2:$C$16,2,FALSE) -> All LHINs | E3: Escherichia coli | F3: 4672 | G3: 50.021404 | H3: 96.767979 | I3: 74.785959 | J3: 77.183219 | K3: 88.505993 | L3: 79.837329
A4: Inpatient | B4: 65+ | C4: All | D4: =VLOOKUP(C4,LHIN!$A$2:$C$16,2,FALSE) -> All LHINs | E4: Escherichia coli | F4: 14381 | G4: 54.724984 | H4: 96.27286 | I4: 78.84709 | J4: 72.762673 | K4: 89.79904 | L4: 81.253042
A5: LTC | B5: 18-64 | C5: All | D5: =VLOOKUP(C5,LHIN!$A$2:$C$16,2,FALSE) -> All LHINs | E5: Escherichia coli | F5: 954 | G5: 44.025157 | H5: 93.291405 | I5: 70.230608 | J5: 53.144654 | K5: 85.220126 | L5: 78.616352
A6: LTC | B6: 65+ | C6: All | D6: =VLOOKUP(C6,LHIN!$A$2:$C$16,2,FALSE) -> All LHINs | E6: Escherichia coli | F6: 22256 | G6: 47.079439 | H6: 94.711538 | I6: 72.313084 | J6: 55.69734 | K6: 86.542955 | L6: 81.029835
A7: Outpatient | B7: <18 | C7: All | D7: =VLOOKUP(C7,LHIN!$A$2:$C$16,2,FALSE) -> All LHINs | E7: Escherichia coli | F7: 30040 | G7: 57.969374 | H7: 98.418775 | I7: 78.781625 | J7: 70.016644 | K7: 92.473369 | L7: 91.900799
A8: Outpatient | B8: 18-64 | C8: All | D8: =VLOOKUP(C8,LHIN!$A$2:$C$16,2,FALSE) -> All LHINs | E8: Escherichia coli | F8: 273881 | G8: 59.63758 | H8: 97.988542 | I8: 79.228935 | J8: 89.47134 | K8: 92.710338 | L8: 91.746415
A9: Outpatient | B9: 65+ | C9: All | D9: =VLOOKUP(C9,LHIN!$A$2:$C$16,2,FALSE) -> All LHINs | E9: Escherichia coli | F9: 150665 | G9: 60.166595 | H9: 96.838018 | I9: 81.052003 | J9: 82.071483 | K9: 91.937079 | L9: 89.870242
A10: Inpatient | B10: 18-64 | C10: All | D10: =VLOOKUP(C10,LHIN!$A$2:$C$16,2,FALSE) -> All LHINs | E10: Klebsiella sp. Other | F10: 9 | G10: 0 | H10: 33.333333 | I10: 100 | J10: 100 | K10: 100 | L10: 88.888889
A11: Inpatient | B11: 65+ | C11: All | D11: =VLOOKUP(C11,LHIN!$A$2:$C$16,2,FALSE) -> All LHINs | E11: Klebsiella sp. Other | F11: 26 | G11: 0 | H11: 53.846154 | I11: 96.153846 | J11: 92.307692 | K11: 96.153846 | L11: 57.692308
A12: LTC | B12: 18-64 | C12: All | D12: =VLOOKUP(C12,LHIN!$A$2:$C$16,2,FALSE) -> All LHINs | E12: Klebsiella sp. Other | F12: 30 | G12: 0 | H12: 40 | I12: 86.666667 | J12: 86.666667 | K12: 90 | L12: 86.666667
A13: LTC | B13: 65+ | C13: All | D13: =VLOOKUP(C13,LHIN!$A$2:$C$16,2,FALSE) -> All LHINs | E13: Klebsiella sp. Other | F13: 731 | G13: 0 | H13: 49.384405 | I13: 94.254446 | J13: 95.485636 | K13: 97.53762 | L13: 93.570451
... A157: Outpatient | B157: 65+ | C157: All | D157: =VLOOKUP(C157,LHIN!$A$2:$C$16,2,FALSE) -> All LHINs | E157: All organisms | F157: 233391 | G157: 44.735658 | H157: 77.395015 | I157: 80.690772 | J157: 85.379471 | K157: 89.689405 | L157: 77.906175
A158: Inpatient | B158: <18 | C158: 10 | D158: =VLOOKUP(C158,LHIN!$A$2:$C$16,2,FALSE) -> South East | E158: All organisms | F158: 7 | G158: 14.285714 | H158: 85.714286 | I158: 71.428571 | J158: 71.428571 | K158: 57.142857 | L158: 57.142857
A159: Inpatient | B159: <18 | C159: 11 | D159: =VLOOKUP(C159,LHIN!$A$2:$C$16,2,FALSE) -> Champlain | E159: All organisms | F159: 16 | G159: 43.75 | H159: 68.75 | I159: 56.25 | J159: 62.5 | K159: 50 | L159: 43.75
A160: Inpatient | B160: <18 | C160: 12 | D160: =VLOOKUP(C160,LHIN!$A$2:$C$16,2,FALSE) -> North Simcoe Muskoka | E160: All organisms | F160: 24 | G160: 50 | H160: 83.333333 | I160: 66.666667 | J160: 75 | K160: 62.5 | L160: 54.166667
A161: Inpatient | B161: <18 | C161: 13 | D161: =VLOOKUP(C161,LHIN!$A$2:$C$16,2,FALSE) -> North East | E161: All organisms | F161: 57 | G161: 40.350877 | H161: 87.719298 | I161: 66.666667 | J161: 70.175439 | K161: 84.210526 | L161: 63.157895
A162: Inpatient | B162: <18 | C162: 14 | D162: =VLOOKUP(C162,LHIN!$A$2:$C$16,2,FALSE) -> North West | E162: All organisms | F162: 8 | G162: 12.5 | H162: 87.5 | I162: 50 | J162: 50 | K162: 75 | L162: 100
A163: Inpatient | B163: <18 | C163: 2 | D163: =VLOOKUP(C163,LHIN!$A$2:$C$16,2,FALSE) -> South West | E163: All organisms | F163: 49 | G163: 61.22449 | H163: 93.877551 | I163: 85.714286 | J163: 91.836735 | K163: 85.714286 | L163: 75.510204
A164: Inpatient | B164: <18 | C164: 3 | D164: =VLOOKUP(C164,LHIN!$A$2:$C$16,2,FALSE) -> Waterloo Wellington | E164: All organisms | F164: 78 | G164: 47.435897 | H164: 88.461538 | I164: 73.076923 | J164: 69.230769 | K164: 78.205128 | L164: 76.923077
A165: Inpatient | B165: <18 | C165: 4 | D165: =VLOOKUP(C165,LHIN!$A$2:$C$16,2,FALSE) -> Hamilton Niagara Brant | E165: All organisms | F165: 123 | G165: 65.04065 | H165: 83.739837 | I165: 66.666667 | J165: 69.105691 | K165: 80.487805 | L165: 70.731707
A166: Inpatient | B166: <18 | C166: 5 | D166: =VLOOKUP(C166,LHIN!$A$2:$C$16,2,FALSE) -> Central West | E166: All organisms | F166: 236 | G166: 42.79661 | H166: 85.59322 | I166: 67.372881 | J166: 60.169492 | K166: 78.389831 | L166: 67.372881
A167: Inpatient | B167: <18 | C167: 6 | D167: =VLOOKUP(C167,LHIN!$A$2:$C$16,2,FALSE) -> Mississauga Halton | E167: All organisms | F167: 214 | G167: 42.056075 | H167: 80.373832 | I167: 64.485981 | J167: 69.626168 | K167: 80.373832 | L167: 62.616822
A168: Inpatient | B168: <18 | C168: 7 | D168: =VLOOKUP(C168,LHIN!$A$2:$C$16,2,FALSE) -> Toronto Central | E168: All organisms | F168: 55 | G168: 38.181818 | H168: 83.636364 | I168: 80 | J168: 69.090909 | K168: 78.181818 | L168: 65.454545
A169: Inpatient | B169: <18 | C169: 8 | D169: =VLOOKUP(C169,LHIN!$A$2:$C$16,2,FALSE) -> Central | E169: All organisms | F169: 85 | G169: 40 | H169: 80 | I169: 65.882353 | J169: 63.529412 | K169: 80 | L169: 69.411765
... A1645: Outpatient | B1645: 65+ | C1645: 9 | D1645: =VLOOKUP(C1645,LHIN!$A$2:$C$16,2,FALSE) -> Central East | E1645: Acinetobacter sp. | F1645: 55 | G1645: 0 | H1645: 0 | I1645: 90.909091 | J1645: 98.181818 | K1645: 96.363636 | L1645: 0

Sheet Urinary Antibiogram
B1: Ontario Urinary Antibiogram
B2: % Susceptible, 2016-2017 Data
B3: Consult the Technical Notes for details about how this antibiogram was prepared
B11: Row Labels | C11: # isolates | D11: Amoxicillin | E11: Cephalexin | F11: Nitrofurantoin | G11: Ciprofloxacin | H11: TMP-SMX
B12: All organisms | C12: 233391 | D12: 44.735658 | E12: 77.906175 | F12: 77.395015 | G12: 85.379471 | H12: 80.690772
B13: Acinetobacter sp. | C13: 348 | D13: 0 | E13: 0 | F13: 0 | G13: 92.241379 | H13: 92.241379
B14: Citrobacter freundii | C14: 3440 | D14: 0.029069767 | E14: 0.029069767 | F14: 94.476744 | G14: 95.581395 | H14: 87.55814
B15: Citrobacter koseri | C15: 3545 | D15: 0 | E15: 0.62059238 | F15: 79.520451 | G15: 99.492243 | H15: 99.125529
B16: Citrobacter sp. Other | C16: 890 | D16: 0.11235955 | E16: 0.2247191 | F16: 80 | G16: 96.966292 | H16: 94.719101
B17: Enterobacter cloacae | C17: 4810 | D17: 0 | E17: 0.020790021 | F17: 39.87526 | G17: 96.174636 | H17: 89.459459
B18: Enterococcus faecalis | C18: 2350 | D18: 99.574468 | E18: 0 | F18: 98.893617 | G18: 74.765957 | H18: 0.17021277
B19: Enterococcus faecium | C19: 196 | D19: 16.326531 | E19: 0.51020408 | F19: 22.959184 | G19: 9.1836735 | H19: 0.51020408
B20: Enterococcus sp. Other | C20: 2884 | D20: 95.110957 | E20: 0 | F20: 94.556172 | G20: 52.565881 | H20: 0.069348128
B21: Escherichia coli | C21: 150665 | D21: 60.166595 | E21: 89.870242 | F21: 96.838018 | G21: 82.071483 | H21: 81.052003
B22: Klebsiella aerogenes | C22: 2495 | D22: 0 | E22: 0 | F22: 17.314629 | G22: 98.316633 | H22: 97.675351
B23: Klebsiella oxytoca | C23: 4671 | D23: 0 | E23: 48.790409 | F23: 82.915864 | G23: 97.002783 | H23: 95.225862
... B32: Staphylococcus sp. Other | C32: 893 | D32: 24.74804 | E32: 66.181411 | F32: 82.530795 | G32: 40.761478 | H32: 76.819709
B34: Last Updated: March 2022

Sheet Bloodstream Antibiogram
A1: Ontario Bloodstream Antibiogram
A2: % Susceptible, 2016-2020 Data
A4: Consult the Technical Notes for details about how this antibiogram was prepared
S5: Last Updated: March 2022
A6: Organism | B6: Gram Stain | C6: View | D6: Setting | E6: Age Group | F6: Region | G6: Year | H6: Count | I6: Amikacin | J6: Amoxicillin-Clav | K6: Ampicillin | L6: Cefazolin | M6: Ceftazidime | N6: Ceftriaxone | O6: Ciprofloxacin | P6: Clindamycin | Q6: Cloxacillin | R6: Daptomycin | S6: Doxycycline | T6: Ertapenem | U6: Erythromycin | V6: Gentamicin | W6: Levofloxacin | X6: Linezolid | Y6: Meropenem | Z6: Moxifloxacin | AA6: Penicillin | AB6: Piperacillin-Tazo | AC6: TMP-SMX | AD6: Tobramycin | AE6: Vancomycin
A7: Escherichia coli | B7: =VLOOKUP(Table1[[#This Row],[Organism]],'GN and GP categories'!A:B,2,) -> Gram-negative | C7: Specific | D7: Inpatient (ICU) | E7: 18-64 | F7: Hamilton Niagara Haldimand Brant | G7: 2017 | H7: 31 | I7: >81 | J7: 71 | K7: 35 | L7: 52 | M7: >81 | N7: >81 | O7: 58 | P7: 0 | Q7: 0 | R7: 0 | S7: 61 | T7: >81 | U7: 0 | V7: 81 | W7: 58 | X7: 0 | Y7: >81 | Z7: 58 | AA7: 0 | AB7: 65 | AC7: 61 | AD7: 77 | AE7: 0
A8: Escherichia coli | B8: =VLOOKUP(Table1[[#This Row],[Organism]],'GN and GP categories'!A:B,2,) -> Gram-negative | C8: Specific | D8: Inpatient (ICU) | E8: 18-64 | F8: Hamilton Niagara Haldimand Brant | G8: 2018 | H8: 39 | I8: >85 | J8: >85 | K8: 62 | L8: 72 | M8: >85 | N8: >85 | O8: 74 | P8: 0 | Q8: 0 | R8: 0 | S8: 59 | T8: >85 | U8: 0 | V8: >85 | W8: 74 | X8: 0 | Y8: 100 | Z8: 74 | AA8: 0 | AB8: >85 | AC8: 72 | AD8: >85 | AE8: 0
A9: Escherichia coli | B9: =VLOOKUP(Table1[[#This Row],[Organism]],'GN and GP categories'!A:B,2,) -> Gram-negative | C9: Specific | D9: Inpatient (ICU) | E9: 18-64 | F9: Hamilton Niagara Haldimand Brant | G9: 2020 | H9: 44 | I9: >86 | J9: 73 | K9: 48 | L9: 55 | M9: 82 | N9: 82 | O9: 70 | P9: 0 | Q9: 0 | R9: 0 | S9: 55 | T9: >86 | U9: 0 | V9: 77 | W9: 70 | X9: 0 | Y9: >86 | Z9: 72 | AA9: 0 | AB9: 73 | AC9: 64 | AD9: 77 | AE9: 0
A10: Escherichia coli | B10: =VLOOKUP(Table1[[#This Row],[Organism]],'GN and GP categories'!A:B,2,) -> Gram-negative | C10: Specific | D10: Inpatient (ICU) | E10: 18-64 | F10: Central West | G10: 2020 | H10: 34 | I10: 100 | J10: 56 | K10: 50 | L10: 50 | M10: 68 | N10: 68 | O10: 53 | P10: 0 | Q10: 0 | R10: 0 | S10: 53 | T10: 100 | U10: 0 | V10: >82 | W10: 53 | X10: 0 | Y10: 100 | Z10: 55 | AA10: 0 | AB10: 65 | AC10: 59 | AD10: 76 | AE10: 0
A11: Escherichia coli | B11: =VLOOKUP(Table1[[#This Row],[Organism]],'GN and GP categories'!A:B,2,) -> Gram-negative | C11: Specific | D11: Inpatient (ICU) | E11: 18-64 | F11: Mississsauga Halton | G11: 2017 | H11: 33 | I11: >82 | J11: 73 | K11: 52 | L11: 58 | M11: 82 | N11: 79 | O11: 67 | P11: 0 | Q11: 0 | R11: 0 | S11: 64 | T11: >82 | U11: 0 | V11: >82 | W11: 70 | X11: 0 | Y11: >82 | Z11: 68 | AA11: 0 | AB11: 76 | AC11: 70 | AD11: >82 | AE11: 0
A12: Escherichia coli | B12: =VLOOKUP(Table1[[#This Row],[Organism]],'GN and GP categories'!A:B,2,) -> Gram-negative | C12: Specific | D12: Inpatient (ICU) | E12: 18-64 | F12: Toronto Central | G12: 2016 | H12: 33 | I12: 100 | J12: 61 | K12: 39 | L12: 45 | M12: 76 | N12: 73 | O12: 61 | P12: 0 | Q12: 0 | R12: 0 | S12: 58 | T12: 100 | U12: 0 | V12: >82 | W12: 58 | X12: 0 | Y12: 100 | Z12: 59 | AA12: 0 | AB12: 67 | AC12: 64 | AD12: 82 | AE12: 0
A13: Escherichia coli | B13: =VLOOKUP(Table1[[#This Row],[Organism]],'GN and GP categories'!A:B,2,) -> Gram-negative | C13: Specific | D13: Inpatient (ICU) | E13: 18-64 | F13: Toronto Central | G13: 2018 | H13: 38 | I13: >84 | J13: 68 | K13: 26 | L13: 45 | M13: 74 | N13: 74 | O13: 68 | P13: 0 | Q13: 0 | R13: 0 | S13: 61 | T13: 100 | U13: 0 | V13: >84 | W13: 68 | X13: 0 | Y13: 100 | Z13: 70 | AA13: 0 | AB13: 66 | AC13: 58 | AD13: >84 | AE13: 0
A14: Escherichia coli | B14: =VLOOKUP(Table1[[#This Row],[Organism]],'GN and GP categories'!A:B,2,) -> Gram-negative | C14: Specific | D14: Inpatient (ICU) | E14: 18-64 | F14: Toronto Central | G14: 2019 | H14: 34 | I14: 100 | J14: 59 | K14: 38 | L14: 50 | M14: 76 | N14: 71 | O14: 59 | P14: 0 | Q14: 0 | R14: 0 | S14: 71 | T14: >82 | U14: 0 | V14: >82 | W14: 68 | X14: 0 | Y14: 100 | Z14: 66 | AA14: 0 | AB14: 65 | AC14: 59 | AD14: 82 | AE14: 0
A15: Escherichia coli | B15: =VLOOKUP(Table1[[#This Row],[Organism]],'GN and GP categories'!A:B,2,) -> Gram-negative | C15: Specific | D15: Inpatient (ICU) | E15: 18-64 | F15: Toronto Central | G15: 2020 | H15: 43 | I15: >86 | J15: 72 | K15: 28 | L15: 70 | M15: 74 | N15: 81 | O15: 60 | P15: 0 | Q15: 0 | R15: 0 | S15: 60 | T15: >86 | U15: 0 | V15: >86 | W15: 63 | X15: 0 | Y15: 100 | Z15: 63 | AA15: 0 | AB15: 77 | AC15: 70 | AD15: >86 | AE15: 0
A16: Escherichia coli | B16: =VLOOKUP(Table1[[#This Row],[Organism]],'GN and GP categories'!A:B,2,) -> Gram-negative | C16: Specific | D16: Inpatient (ICU) | E16: 18-64 | F16: Central | G16: 2017 | H16: 33 | I16: 100 | J16: 45 | K16: 33 | L16: 42 | M16: 67 | N16: 55 | O16: 45 | P16: 0 | Q16: 0 | R16: 0 | S16: 67 | T16: 100 | U16: 0 | V16: >82 | W16: 45 | X16: 0 | Y16: 100 | Z16: 48 | AA16: 0 | AB16: 58 | AC16: 64 | AD16: 76 | AE16: 0
A17: Escherichia coli | B17: =VLOOKUP(Table1[[#This Row],[Organism]],'GN and GP categories'!A:B,2,) -> Gram-negative | C17: Specific | D17: Inpatient (ICU) | E17: 18-64 | F17: Central | G17: 2019 | H17: 50 | I17: >88 | J17: 64 | K17: 22 | L17: 30 | M17: 72 | N17: 68 | O17: 56 | P17: 0 | Q17: 0 | R17: 0 | S17: 62 | T17: >88 | U17: 0 | V17: >88 | W17: 56 | X17: 0 | Y17: 100 | Z17: 55 | AA17: 0 | AB17: 62 | AC17: 64 | AD17: >88 | AE17: 0
A18: Escherichia coli | B18: =VLOOKUP(Table1[[#This Row],[Organism]],'GN and GP categories'!A:B,2,) -> Gram-negative | C18: Specific | D18: Inpatient (ICU) | E18: 18-64 | F18: Central | G18: 2020 | H18: 32 | I18: >81 | J18: 69 | K18: 50 | L18: 56 | M18: 72 | N18: 72 | O18: 66 | P18: 0 | Q18: 0 | R18: 0 | S18: 69 | T18: >81 | U18: 0 | V18: >81 | W18: 63 | X18: 0 | Y18: 100 | Z18: 69 | AA18: 0 | AB18: 66 | AC18: 75 | AD18: >81 | AE18: 0
A19: Escherichia coli | B19: =VLOOKUP(Table1[[#This Row],[Organism]],'GN and GP categories'!A:B,2,) -> Gram-negative | C19: Specific | D19: Inpatient (ICU) | E19: 18-64 | F19: Central East | G19: 2016 | H19: 31 | I19: 100 | J19: >81 | K19: 65 | L19: 74 | M19: >81 | N19: >81 | O19: 81 | P19: 0 | Q19: 0 | R19: 0 | S19: 45 | T19: >81 | U19: 0 | V19: >81 | W19: 81 | X19: 0 | Y19: 100 | Z19: 81 | AA19: 0 | AB19: >81 | AC19: 81 | AD19: 81 | AE19: 0
A20: Escherichia coli | B20: =VLOOKUP(Table1[[#This Row],[Organism]],'GN and GP categories'!A:B,2,) -> Gram-negative | C20: Specific | D20: Inpatient (ICU) | E20: 18-64 | F20: Central East | G20: 2017 | H20: 53 | I20: >89 | J20: 79 | K20: 42 | L20: 55 | M20: 75 | N20: 77 | O20: 70 | P20: 0 | Q20: 0 | R20: 0 | S20: 60 | T20: 100 | U20: 0 | V20: >89 | W20: 70 | X20: 0 | Y20: 100 | Z20: 70 | AA20: 0 | AB20: 74 | AC20: 62 | AD20: 79 | AE20: 0
A21: Escherichia coli | B21: =VLOOKUP(Table1[[#This Row],[Organism]],'GN and GP categories'!A:B,2,) -> Gram-negative | C21: Specific | D21: Inpatient (ICU) | E21: 18-64 | F21: Central East | G21: 2018 | H21: 37 | I21: >84 | J21: 78 | K21: 59 | L21: 68 | M21: 84 | N21: 81 | O21: 81 | P21: 0 | Q21: 0 | R21: 0 | S21: 59 | T21: 100 | U21: 0 | V21: >84 | W21: 81 | X21: 0 | Y21: 100 | Z21: 81 | AA21: 0 | AB21: 78 | AC21: 78 | AD21: >84 | AE21: 0
A22: Escherichia coli | B22: =VLOOKUP(Table1[[#This Row],[Organism]],'GN and GP categories'!A:B,2,) -> Gram-negative | C22: Specific | D22: Inpatient (ICU) | E22: 18-64 | F22: Central East | G22: 2019 | H22: 40 | I22: 100 | J22: 83 | K22: 48 | L22: 63 | M22: 85 | N22: 83 | O22: 70 | P22: 0 | Q22: 0 | R22: 0 | S22: 78 | T22: 100 | U22: 0 | V22: >85 | W22: 75 | X22: 0 | Y22: 100 | Z22: 73 | AA22: 0 | AB22: 78 | AC22: 70 | AD22: >85 | AE22: 0
A23: Escherichia coli | B23: =VLOOKUP(Table1[[#This Row],[Organism]],'GN and GP categories'!A:B,2,) -> Gram-negative | C23: Specific | D23: Inpatient (ICU) | E23: 18-64 | F23: Central East | G23: 2020 | H23: 39 | I23: >85 | J23: 64 | K23: 46 | L23: 54 | M23: 85 | N23: 77 | O23: 59 | P23: 0 | Q23: 0 | R23: 0 | S23: 77 | T23: 100 | U23: 0 | V23: >85 | W23: 56 | X23: 0 | Y23: 100 | Z23: 61 | AA23: 0 | AB23: 72 | AC23: 62 | AD23: >85 | AE23: 0
A24: Escherichia coli | B24: =VLOOKUP(Table1[[#This Row],[Organism]],'GN and GP categories'!A:B,2,) -> Gram-negative | C24: Specific | D24: Inpatient (ICU) | E24: 18-64 | F24: South East | G24: 2019 | H24: 32 | I24: 100 | J24: 47 | K24: 31 | L24: 34 | M24: 63 | N24: 63 | O24: 59 | P24: 0 | Q24: 0 | R24: 0 | S24: 78 | T24: >81 | U24: 0 | V24: 100 | W24: 44 | X24: 0 | Y24: 100 | Z24: 46 | AA24: 0 | AB24: 63 | AC24: 75 | AD24: 63 | AE24: 0
A25: Escherichia coli | B25: =VLOOKUP(Table1[[#This Row],[Organism]],'GN and GP categories'!A:B,2,) -> Gram-negative | C25: Specific | D25: Inpatient (ICU) | E25: 18-64 | F25: Champlain | G25: 2017 | H25: 37 | I25: >84 | J25: 78 | K25: 65 | L25: 73 | M25: 84 | N25: >84 | O25: 73 | P25: 0 | Q25: 0 | R25: 0 | S25: 57 | T25: >84 | U25: 0 | V25: >84 | W25: 76 | X25: 0 | Y25: >84 | Z25: 75 | AA25: 0 | AB25: >84 | AC25: 62 | AD25: 81 | AE25: 0
A26: Escherichia coli | B26: =VLOOKUP(Table1[[#This Row],[Organism]],'GN and GP categories'!A:B,2,) -> Gram-negative | C26: Specific | D26: Inpatient (ICU) | E26: 18-64 | F26: Champlain | G26: 2018 | H26: 41 | I26: >85 | J26: 76 | K26: 41 | L26: 76 | M26: >85 | N26: >85 | O26: 85 | P26: 0 | Q26: 0 | R26: 0 | S26: 59 | T26: 100 | U26: 0 | V26: >85 | W26: 85 | X26: 0 | Y26: 100 | Z26: 85 | AA26: 0 | AB26: >85 | AC26: 68 | AD26: >85 | AE26: 0
A27: Escherichia coli | B27: =VLOOKUP(Table1[[#This Row],[Organism]],'GN and GP categories'!A:B,2,) -> Gram-negative | C27: Specific | D27: Inpatient (ICU) | E27: 18-64 | F27: Champlain | G27: 2019 | H27: 34 | I27: >82 | J27: 79 | K27: 65 | L27: 76 | M27: >82 | N27: >82 | O27: 76 | P27: 0 | Q27: 0 | R27: 0 | S27: 53 | T27: >82 | U27: 0 | V27: >82 | W27: 76 | X27: 0 | Y27: 100 | Z27: 76 | AA27: 0 | AB27: >82 | AC27: 71 | AD27: >82 | AE27: 0
A28: Escherichia coli | B28: =VLOOKUP(Table1[[#This Row],[Organism]],'GN and GP categories'!A:B,2,) -> Gram-negative | C28: Specific | D28: Inpatient (ICU) | E28: 65+ | F28: Hamilton Niagara Haldimand Brant | G28: 2017 | H28: 59 | I28: 100 | J28: 80 | K28: 49 | L28: 64 | M28: 85 | N28: 88 | O28: 69 | P28: 0 | Q28: 0 | R28: 0 | S28: 64 | T28: 100 | U28: 0 | V28: 86 | W28: 69 | X28: 0 | Y28: 100 | Z28: 69 | AA28: 0 | AB28: 78 | AC28: 76 | AD28: 88 | AE28: 0
A29: Escherichia coli | B29: =VLOOKUP(Table1[[#This Row],[Organism]],'GN and GP categories'!A:B,2,) -> Gram-negative | C29: Specific | D29: Inpatient (ICU) | E29: 65+ | F29: Hamilton Niagara Haldimand Brant | G29: 2018 | H29: 72 | I29: 100 | J29: 78 | K29: 43 | L29: 57 | M29: 81 | N29: 82 | O29: 71 | P29: 0 | Q29: 0 | R29: 0 | S29: 58 | T29: >92 | U29: 0 | V29: 86 | W29: 71 | X29: 0 | Y29: 100 | Z29: 71 | AA29: 0 | AB29: 78 | AC29: 61 | AD29: 89 | AE29: 0
A30: Escherichia coli | B30: =VLOOKUP(Table1[[#This Row],[Organism]],'GN and GP categories'!A:B,2,) -> Gram-negative | C30: Specific | D30: Inpatient (ICU) | E30: 65+ | F30: Hamilton Niagara Haldimand Brant | G30: 2019 | H30: 84 | I30: >93 | J30: 71 | K30: 40 | L30: 50 | M30: 80 | N30: 81 | O30: 64 | P30: 0 | Q30: 0 | R30: 0 | S30: 62 | T30: >93 | U30: 0 | V30: 85 | W30: 64 | X30: 0 | Y30: >93 | Z30: 65 | AA30: 0 | AB30: 76 | AC30: 67 | AD30: 85 | AE30: 0
A31: Escherichia coli | B31: =VLOOKUP(Table1[[#This Row],[Organism]],'GN and GP categories'!A:B,2,) -> Gram-negative | C31: Specific | D31: Inpatient (ICU) | E31: 65+ | F31: Hamilton Niagara Haldimand Brant | G31: 2020 | H31: 82 | I31: >93 | J31: 85 | K31: 61 | L31: 63 | M31: 90 | N31: 89 | O31: 74 | P31: 0 | Q31: 0 | R31: 0 | S31: 63 | T31: >93 | U31: 0 | V31: >93 | W31: 79 | X31: 0 | Y31: 100 | Z31: 79 | AA31: 0 | AB31: 85 | AC31: 82 | AD31: >93 | AE31: 0
A32: Escherichia coli | B32: =VLOOKUP(Table1[[#This Row],[Organism]],'GN and GP categories'!A:B,2,) -> Gram-negative | C32: Specific | D32: Inpatient (ICU) | E32: 65+ | F32: Central West | G32: 2016 | H32: 41 | I32: >85 | J32: 63 | K32: 46 | L32: 41 | M32: 78 | N32: 71 | O32: 59 | P32: 0 | Q32: 0 | R32: 0 | S32: 61 | T32: >85 | U32: 0 | V32: 85 | W32: 59 | X32: 0 | Y32: 100 | Z32: 59 | AA32: 0 | AB32: 68 | AC32: 71 | AD32: 78 | AE32: 0
A33: Escherichia coli | B33: =VLOOKUP(Table1[[#This Row],[Organism]],'GN and GP categories'!A:B,2,) -> Gram-negative | C33: Specific | D33: Inpatient (ICU) | E33: 65+ | F33: Central West | G33: 2018 | H33: 42 | I33: >86 | J33: 62 | K33: 43 | L33: 50 | M33: 69 | N33: 64 | O33: 69 | P33: 0 | Q33: 0 | R33: 0 | S33: 52 | T33: >86 | U33: 0 | V33: >86 | W33: 69 | X33: 0 | Y33: >86 | Z33: 70 | AA33: 0 | AB33: 64 | AC33: 67 | AD33: 83 | AE33: 0
A34: Escherichia coli | B34: =VLOOKUP(Table1[[#This Row],[Organism]],'GN and GP categories'!A:B,2,) -> Gram-negative | C34: Specific | D34: Inpatient (ICU) | E34: 65+ | F34: Central West | G34: 2019 | H34: 46 | I34: >87 | J34: 63 | K34: 50 | L34: 59 | M34: 74 | N34: 74 | O34: 65 | P34: 0 | Q34: 0 | R34: 0 | S34: 63 | T34: >87 | U34: 0 | V34: 87 | W34: 65 | X34: 0 | Y34: 100 | Z34: 66 | AA34: 0 | AB34: 74 | AC34: 67 | AD34: 78 | AE34: 0
A35: Escherichia coli | B35: =VLOOKUP(Table1[[#This Row],[Organism]],'GN and GP categories'!A:B,2,) -> Gram-negative | C35: Specific | D35: Inpatient (ICU) | E35: 65+ | F35: Central West | G35: 2020 | H35: 42 | I35: >86 | J35: 60 | K35: 50 | L35: 57 | M35: 64 | N35: 64 | O35: 55 | P35: 0 | Q35: 0 | R35: 0 | S35: 64 | T35: >86 | U35: 0 | V35: 83 | W35: 62 | X35: 0 | Y35: >86 | Z35: 66 | AA35: 0 | AB35: 67 | AC35: 74 | AD35: 86 | AE35: 0
A36: Escherichia coli | B36: =VLOOKUP(Table1[[#This Row],[Organism]],'GN and GP categories'!A:B,2,) -> Gram-negative | C36: Specific | D36: Inpatient (ICU) | E36: 65+ | F36: Mississsauga Halton | G36: 2017 | H36: 41 | I36: >85 | J36: 73 | K36: 39 | L36: 49 | M36: 76 | N36: 78 | O36: 54 | P36: 0 | Q36: 0 | R36: 0 | S36: 49 | T36: 100 | U36: 0 | V36: >85 | W36: 54 | X36: 0 | Y36: 100 | Z36: 55 | AA36: 0 | AB36: 68 | AC36: 73 | AD36: 83 | AE36: 0
A37: Escherichia coli | B37: =VLOOKUP(Table1[[#This Row],[Organism]],'GN and GP categories'!A:B,2,) -> Gram-negative | C37: Specific | D37: Inpatient (ICU) | E37: 65+ | F37: Mississsauga Halton | G37: 2018 | H37: 72 | I37: >92 | J37: 82 | K37: 61 | L37: 60 | M37: 85 | N37: 79 | O37: 74 | P37: 0 | Q37: 0 | R37: 0 | S37: 61 | T37: >92 | U37: 0 | V37: 90 | W37: 75 | X37: 0 | Y37: 100 | Z37: 74 | AA37: 0 | AB37: 76 | AC37: 76 | AD37: 89 | AE37: 0
A38: Escherichia coli | B38: =VLOOKUP(Table1[[#This Row],[Organism]],'GN and GP categories'!A:B,2,) -> Gram-negative | C38: Specific | D38: Inpatient (ICU) | E38: 65+ | F38: Mississsauga Halton | G38: 2019 | H38: 61 | I38: 100 | J38: 69 | K38: 48 | L38: 48 | M38: 79 | N38: 77 | O38: 64 | P38: 0 | Q38: 0 | R38: 0 | S38: 59 | T38: >90 | U38: <10 | V38: 80 | W38: 64 | X38: 0 | Y38: 100 | Z38: 64 | AA38: <10 | AB38: 67 | AC38: 74 | AD38: 79 | AE38: <10
A39: Escherichia coli | B39: =VLOOKUP(Table1[[#This Row],[Organism]],'GN and GP categories'!A:B,2,) -> Gram-negative | C39: Specific | D39: Inpatient (ICU) | E39: 65+ | F39: Mississsauga Halton | G39: 2020 | H39: 50 | I39: >88 | J39: 76 | K39: 40 | L39: 40 | M39: 84 | N39: 80 | O39: 54 | P39: 0 | Q39: 0 | R39: 0 | S39: 48 | T39: >88 | U39: 0 | V39: >88 | W39: 54 | X39: 0 | Y39: 100 | Z39: 57 | AA39: 0 | AB39: 66 | AC39: 82 | AD39: >88 | AE39: 0
A40: Escherichia coli | B40: =VLOOKUP(Table1[[#This Row],[Organism]],'GN and GP categories'!A:B,2,) -> Gram-negative | C40: Specific | D40: Inpatient (ICU) | E40: 65+ | F40: Toronto Central | G40: 2016 | H40: 76 | I40: >92 | J40: 80 | K40: 46 | L40: 58 | M40: 86 | N40: 91 | O40: 67 | P40: 0 | Q40: 0 | R40: 0 | S40: 57 | T40: >92 | U40: 0 | V40: 87 | W40: 67 | X40: 0 | Y40: 100 | Z40: 67 | AA40: 0 | AB40: 82 | AC40: 74 | AD40: 84 | AE40: 0
A41: Escherichia coli | B41: =VLOOKUP(Table1[[#This Row],[Organism]],'GN and GP categories'!A:B,2,) -> Gram-negative | C41: Specific | D41: Inpatient (ICU) | E41: 65+ | F41: Toronto Central | G41: 2017 | H41: 53 | I41: >89 | J41: 62 | K41: 34 | L41: 47 | M41: 75 | N41: 81 | O41: 64 | P41: 0 | Q41: 0 | R41: 0 | S41: 66 | T41: 100 | U41: 0 | V41: >89 | W41: 58 | X41: 0 | Y41: 100 | Z41: 62 | AA41: 0 | AB41: 74 | AC41: 66 | AD41: 81 | AE41: 0
A42: Escherichia coli | B42: =VLOOKUP(Table1[[#This Row],[Organism]],'GN and GP categories'!A:B,2,) -> Gram-negative | C42: Specific | D42: Inpatient (ICU) | E42: 65+ | F42: Toronto Central | G42: 2018 | H42: 47 | I42: >87 | J42: 81 | K42: 43 | L42: 62 | M42: 85 | N42: 87 | O42: 77 | P42: 0 | Q42: 0 | R42: 0 | S42: 62 | T42: >87 | U42: 0 | V42: >87 | W42: 77 | X42: 0 | Y42: 100 | Z42: 78 | AA42: 0 | AB42: 81 | AC42: 74 | AD42: >87 | AE42: 0
A43: Escherichia coli | B43: =VLOOKUP(Table1[[#This Row],[Organism]],'GN and GP categories'!A:B,2,) -> Gram-negative | C43: Specific | D43: Inpatient (ICU) | E43: 65+ | F43: Toronto Central | G43: 2019 | H43: 54 | I43: 100 | J43: 70 | K43: 54 | L43: 59 | M43: 78 | N43: 78 | O43: 69 | P43: 0 | Q43: 0 | R43: 0 | S43: 63 | T43: 100 | U43: 0 | V43: 89 | W43: 70 | X43: 0 | Y43: 100 | Z43: 71 | AA43: 0 | AB43: 74 | AC43: 74 | AD43: 89 | AE43: 0
A44: Escherichia coli | B44: =VLOOKUP(Table1[[#This Row],[Organism]],'GN and GP categories'!A:B,2,) -> Gram-negative | C44: Specific | D44: Inpatient (ICU) | E44: 65+ | F44: Toronto Central | G44: 2020 | H44: 54 | I44: >89 | J44: 59 | K44: 30 | L44: 54 | M44: 69 | N44: 78 | O44: 50 | P44: 0 | Q44: 0 | R44: 0 | S44: 43 | T44: >89 | U44: 0 | V44: >89 | W44: 56 | X44: 0 | Y44: 100 | Z44: 54 | AA44: 0 | AB44: 70 | AC44: 61 | AD44: 89 | AE44: 0
A45: Escherichia coli | B45: =VLOOKUP(Table1[[#This Row],[Organism]],'GN and GP categories'!A:B,2,) -> Gram-negative | C45: Specific | D45: Inpatient (ICU) | E45: 65+ | F45: Central | G45: 2016 | H45: 54 | I45: >89 | J45: 78 | K45: 41 | L45: 54 | M45: 69 | N45: 81 | O45: 70 | P45: 0 | Q45: 0 | R45: 0 | S45: 67 | T45: 100 | U45: 0 | V45: >89 | W45: 76 | X45: 0 | Y45: 100 | Z45: 80 | AA45: 0 | AB45: 81 | AC45: 72 | AD45: >89 | AE45: 0
A46: Escherichia coli | B46: =VLOOKUP(Table1[[#This Row],[Organism]],'GN and GP categories'!A:B,2,) -> Gram-negative | C46: Specific | D46: Inpatient (ICU) | E46: 65+ | F46: Central | G46: 2017 | H46: 55 | I46: >89 | J46: 71 | K46: 38 | L46: 60 | M46: 73 | N46: 75 | O46: 56 | P46: 0 | Q46: 0 | R46: 0 | S46: 56 | T46: >89 | U46: 0 | V46: 87 | W46: 60 | X46: 0 | Y46: 100 | Z46: 58 | AA46: 0 | AB46: 75 | AC46: 71 | AD46: 82 | AE46: 0
A47: Escherichia coli | B47: =VLOOKUP(Table1[[#This Row],[Organism]],'GN and GP categories'!A:B,2,) -> Gram-negative | C47: Specific | D47: Inpatient (ICU) | E47: 65+ | F47: Central | G47: 2018 | H47: 54 | I47: 100 | J47: 70 | K47: 37 | L47: 57 | M47: 78 | N47: 80 | O47: 63 | P47: 0 | Q47: 0 | R47: 0 | S47: 41 | T47: >89 | U47: 0 | V47: >89 | W47: 65 | X47: 0 | Y47: 100 | Z47: 68 | AA47: 0 | AB47: 76 | AC47: 78 | AD47: >89 | AE47: 0
A48: Escherichia coli | B48: =VLOOKUP(Table1[[#This Row],[Organism]],'GN and GP categories'!A:B,2,) -> Gram-negative | C48: Specific | D48: Inpatient (ICU) | E48: 65+ | F48: Central | G48: 2019 | H48: 64 | I48: >91 | J48: 78 | K48: 34 | L48: 61 | M48: 80 | N48: 80 | O48: 64 | P48: 0 | Q48: 0 | R48: 0 | S48: 56 | T48: 100 | U48: 0 | V48: >91 | W48: 75 | X48: 0 | Y48: 100 | Z48: 76 | AA48: 0 | AB48: 83 | AC48: 72 | AD48: >91 | AE48: 0
A49: Escherichia coli | B49: =VLOOKUP(Table1[[#This Row],[Organism]],'GN and GP categories'!A:B,2,) -> Gram-negative | C49: Specific | D49: Inpatient (ICU) | E49: 65+ | F49: Central | G49: 2020 | H49: 61 | I49: >90 | J49: 75 | K49: 49 | L49: 59 | M49: 80 | N49: 79 | O49: 62 | P49: 0 | Q49: 0 | R49: 0 | S49: 66 | T49: >90 | U49: 0 | V49: >90 | W49: 72 | X49: 0 | Y49: 100 | Z49: 72 | AA49: 0 | AB49: 84 | AC49: 79 | AD49: >90 | AE49: 0
A50: Escherichia coli | B50: =VLOOKUP(Table1[[#This Row],[Organism]],'GN and GP categories'!A:B,2,) -> Gram-negative | C50: Specific | D50: Inpatient (ICU) | E50: 65+ | F50: Central East | G50: 2016 | H50: 95 | I50: >94 | J50: 87 | K50: 66 | L50: 79 | M50: 93 | N50: 88 | O50: 81 | P50: 0 | Q50: 0 | R50: 0 | S50: 61 | T50: >94 | U50: 0 | V50: >94 | W50: 81 | X50: 0 | Y50: 100 | Z50: 82 | AA50: 0 | AB50: 89 | AC50: 89 | AD50: >94 | AE50: 0
A51: Escherichia coli | B51: =VLOOKUP(Table1[[#This Row],[Organism]],'GN and GP categories'!A:B,2,) -> Gram-negative | C51: Specific | D51: Inpatient (ICU) | E51: 65+ | F51: Central East | G51: 2017 | H51: 89 | I51: >93 | J51: 85 | K51: 61 | L51: 65 | M51: 88 | N51: 87 | O51: 73 | P51: 0 | Q51: 0 | R51: 0 | S51: 49 | T51: >93 | U51: 0 | V51: 89 | W51: 74 | X51: 0 | Y51: 100 | Z51: 75 | AA51: 0 | AB51: 83 | AC51: 74 | AD51: 84 | AE51: 0
A52: Escherichia coli | B52: =VLOOKUP(Table1[[#This Row],[Organism]],'GN and GP categories'!A:B,2,) -> Gram-negative | C52: Specific | D52: Inpatient (ICU) | E52: 65+ | F52: Central East | G52: 2018 | H52: 81 | I52: >93 | J52: 77 | K52: 31 | L52: 58 | M52: 84 | N52: 80 | O52: 65 | P52: 0 | Q52: 0 | R52: 0 | S52: 58 | T52: >93 | U52: 0 | V52: 90 | W52: 65 | X52: 0 | Y52: >93 | Z52: 65 | AA52: 0 | AB52: 78 | AC52: 73 | AD52: 86 | AE52: 0
A53: Escherichia coli | B53: =VLOOKUP(Table1[[#This Row],[Organism]],'GN and GP categories'!A:B,2,) -> Gram-negative | C53: Specific | D53: Inpatient (ICU) | E53: 65+ | F53: Central East | G53: 2019 | H53: 94 | I53: >94 | J53: 72 | K53: 46 | L53: 52 | M53: 76 | N53: 76 | O53: 71 | P53: 0 | Q53: 0 | R53: 0 | S53: 61 | T53: >94 | U53: 0 | V53: 87 | W53: 72 | X53: 0 | Y53: 100 | Z53: 73 | AA53: 0 | AB53: 69 | AC53: 74 | AD53: 85 | AE53: 0
A54: Escherichia coli | B54: =VLOOKUP(Table1[[#This Row],[Organism]],'GN and GP categories'!A:B,2,) -> Gram-negative | C54: Specific | D54: Inpatient (ICU) | E54: 65+ | F54: Central East | G54: 2020 | H54: 83 | I54: >93 | J54: 69 | K54: 42 | L54: 58 | M54: 77 | N54: 73 | O54: 54 | P54: 0 | Q54: 0 | R54: 0 | S54: 55 | T54: >93 | U54: 0 | V54: 87 | W54: 58 | X54: 0 | Y54: 100 | Z54: 58 | AA54: 0 | AB54: 73 | AC54: 59 | AD54: 89 | AE54: 0
A55: Escherichia coli | B55: =VLOOKUP(Table1[[#This Row],[Organism]],'GN and GP categories'!A:B,2,) -> Gram-negative | C55: Specific | D55: Inpatient (ICU) | E55: 65+ | F55: South East | G55: 2019 | H55: 31 | I55: >81 | J55: 81 | K55: 32 | L55: 32 | M55: >81 | N55: >81 | O55: 77 | P55: 0 | Q55: 0 | R55: 0 | S55: 71 | T55: 100 | U55: 0 | V55: >81 | W55: 58 | X55: 0 | Y55: 100 | Z55: 70 | AA55: 0 | AB55: >81 | AC55: 74 | AD55: >81 | AE55: 0
A56: Escherichia coli | B56: =VLOOKUP(Table1[[#This Row],[Organism]],'GN and GP categories'!A:B,2,) -> Gram-negative | C56: Specific | D56: Inpatient (ICU) | E56: 65+ | F56: South East | G56: 2020 | H56: 44 | I56: >86 | J56: 73 | K56: 52 | L56: 52 | M56: >86 | N56: 84 | O56: 61 | P56: 0 | Q56: 0 | R56: 0 | S56: 50 | T56: >86 | U56: 0 | V56: >86 | W56: 66 | X56: 0 | Y56: 100 | Z56: 52 | AA56: 0 | AB56: 82 | AC56: 77 | AD56: >86 | AE56: 0
A57: Escherichia coli | B57: =VLOOKUP(Table1[[#This Row],[Organism]],'GN and GP categories'!A:B,2,) -> Gram-negative | C57: Specific | D57: Inpatient (ICU) | E57: 65+ | F57: Champlain | G57: 2017 | H57: 60 | I57: 100 | J57: 72 | K57: 55 | L57: 77 | M57: 85 | N57: >90 | O57: 72 | P57: 0 | Q57: 0 | R57: 0 | S57: 68 | T57: >90 | U57: 0 | V57: 88 | W57: 70 | X57: 0 | Y57: 100 | Z57: 71 | AA57: 0 | AB57: >90 | AC57: 75 | AD57: 83 | AE57: 0
A58: Escherichia coli | B58: =VLOOKUP(Table1[[#This Row],[Organism]],'GN and GP categories'!A:B,2,) -> Gram-negative | C58: Specific | D58: Inpatient (ICU) | E58: 65+ | F58: Champlain | G58: 2018 | H58: 81 | I58: >93 | J58: 78 | K58: 52 | L58: 77 | M58: 90 | N58: 93 | O58: 73 | P58: 0 | Q58: 0 | R58: 0 | S58: 70 | T58: 100 | U58: 0 | V58: 89 | W58: 73 | X58: 0 | Y58: 100 | Z58: 73 | AA58: 0 | AB58: >93 | AC58: 74 | AD58: 85 | AE58: 0
A59: Escherichia coli | B59: =VLOOKUP(Table1[[#This Row],[Organism]],'GN and GP categories'!A:B,2,) -> Gram-negative | C59: Specific | D59: Inpatient (ICU) | E59: 65+ | F59: Champlain | G59: 2019 | H59: 85 | I59: 93 | J59: 80 | K59: 56 | L59: 76 | M59: 91 | N59: >93 | O59: 78 | P59: 0 | Q59: 0 | R59: 0 | S59: 62 | T59: >93 | U59: 0 | V59: 93 | W59: 76 | X59: 0 | Y59: >93 | Z59: 77 | AA59: 0 | AB59: >93 | AC59: 74 | AD59: 92 | AE59: 0
A60: Escherichia coli | B60: =VLOOKUP(Table1[[#This Row],[Organism]],'GN and GP categories'!A:B,2,) -> Gram-negative | C60: Specific | D60: Inpatient (ICU) | E60: 65+ | F60: Champlain | G60: 2020 | H60: 76 | I60: >92 | J60: 84 | K60: 58 | L60: 68 | M60: 84 | N60: >92 | O60: 72 | P60: 0 | Q60: 0 | R60: 0 | S60: 66 | T60: >92 | U60: 0 | V60: >92 | W60: 74 | X60: 0 | Y60: 100 | Z60: 74 | AA60: 0 | AB60: 92 | AC60: 67 | AD60: >92 | AE60: 0
A61: Escherichia coli | B61: =VLOOKUP(Table1[[#This Row],[Organism]],'GN and GP categories'!A:B,2,) -> Gram-negative | C61: Specific | D61: Inpatient (ICU) | E61: 65+ | F61: North East | G61: 2017 | H61: 36 | I61: >83 | J61: >83 | K61: 61 | L61: 64 | M61: 64 | N61: 81 | O61: 72 | P61: 0 | Q61: 0 | R61: 0 | S61: 56 | T61: 100 | U61: 0 | V61: >83 | W61: 72 | X61: 0 | Y61: 100 | Z61: 72 | AA61: 0 | AB61: >83 | AC61: >83 | AD61: 81 | AE61: 0
A62: Escherichia coli | B62: =VLOOKUP(Table1[[#This Row],[Organism]],'GN and GP categories'!A:B,2,) -> Gram-negative | C62: Specific | D62: Inpatient (ICU) | E62: 65+ | F62: North East | G62: 2018 | H62: 31 | I62: >81 | J62: 77 | K62: 52 | L62: 61 | M62: 74 | N62: >81 | O62: 74 | P62: 0 | Q62: 0 | R62: 0 | S62: 52 | T62: 100 | U62: 0 | V62: >81 | W62: 71 | X62: 0 | Y62: 100 | Z62: 80 | AA62: 0 | AB62: >81 | AC62: 81 | AD62: 100 | AE62: 0
A63: Escherichia coli | B63: =VLOOKUP(Table1[[#This Row],[Organism]],'GN and GP categories'!A:B,2,) -> Gram-negative | C63: Specific | D63: Inpatient (ICU) | E63: 65+ | F63: North East | G63: 2019 | H63: 46 | I63: >87 | J63: 87 | K63: 52 | L63: 70 | M63: >87 | N63: >87 | O63: >87 | P63: 0 | Q63: 0 | R63: 0 | S63: 54 | T63: >87 | U63: 0 | V63: >87 | W63: 76 | X63: 0 | Y63: 100 | Z63: 83 | AA63: 0 | AB63: >87 | AC63: 83 | AD63: >87 | AE63: 0
A64: Escherichia coli | B64: =VLOOKUP(Table1[[#This Row],[Organism]],'GN and GP categories'!A:B,2,) -> Gram-negative | C64: Specific | D64: Inpatient (ICU) | E64: 65+ | F64: North East | G64: 2020 | H64: 40 | I64: >85 | J64: >85 | K64: 75 | L64: 73 | M64: >85 | N64: >85 | O64: 80 | P64: 0 | Q64: 0 | R64: 0 | S64: 60 | T64: 100 | U64: 0 | V64: >85 | W64: 78 | X64: 0 | Y64: 100 | Z64: 85 | AA64: 0 | AB64: >85 | AC64: >85 | AD64: >85 | AE64: 0
A65: Escherichia coli | B65: =VLOOKUP(Table1[[#This Row],[Organism]],'GN and GP categories'!A:B,2,) -> Gram-negative | C65: Specific | D65: Inpatient (non-ICU) | E65: 18-64 | F65: South West | G65: 2018 | H65: 32 | I65: 100 | J65: 81 | K65: 63 | L65: >81 | M65: >81 | N65: >81 | O65: >81 | P65: 0 | Q65: 0 | R65: 0 | S65: 78 | T65: >81 | U65: 0 | V65: >81 | W65: >81 | X65: 0 | Y65: 100 | Z65: >81 | AA65: 0 | AB65: >81 | AC65: 81 | AD65: >81 | AE65: 0
A66: Escherichia coli | B66: =VLOOKUP(Table1[[#This Row],[Organism]],'GN and GP categories'!A:B,2,) -> Gram-negative | C66: Specific | D66: Inpatient (non-ICU) | E66: 18-64 | F66: South West | G66: 2019 | H66: 34 | I66: >82 | J66: 79 | K66: 38 | L66: 74 | M66: 79 | N66: 82 | O66: >82 | P66: 0 | Q66: 0 | R66: 0 | S66: 53 | T66: 100 | U66: 0 | V66: >82 | W66: >82 | X66: 0 | Y66: 100 | Z66: >82 | AA66: 0 | AB66: 76 | AC66: 76 | AD66: >82 | AE66: 0
A67: Escherichia coli | B67: =VLOOKUP(Table1[[#This Row],[Organism]],'GN and GP categories'!A:B,2,) -> Gram-negative | C67: Specific | D67: Inpatient (non-ICU) | E67: 18-64 | F67: Waterloo Wellington | G67: 2018 | H67: 46 | I67: 100 | J67: 76 | K67: 41 | L67: 35 | M67: >87 | N67: 87 | O67: >87 | P67: 0 | Q67: 0 | R67: 0 | S67: 59 | T67: >87 | U67: 0 | V67: >87 | W67: >87 | X67: 0 | Y67: 100 | Z67: >87 | AA67: 0 | AB67: 83 | AC67: 72 | AD67: >87 | AE67: 0
A68: Escherichia coli | B68: =VLOOKUP(Table1[[#This Row],[Organism]],'GN and GP categories'!A:B,2,) -> Gram-negative | C68: Specific | D68: Inpatient (non-ICU) | E68: 18-64 | F68: Waterloo Wellington | G68: 2019 | H68: 33 | I68: >82 | J68: >82 | K68: 55 | L68: 67 | M68: >82 | N68: >82 | O68: 79 | P68: 0 | Q68: 0 | R68: 0 | S68: 64 | T68: >82 | U68: 0 | V68: >82 | W68: 79 | X68: 0 | Y68: 100 | Z68: 79 | AA68: 0 | AB68: >82 | AC68: 79 | AD68: >82 | AE68: 0
A69: Escherichia coli | B69: =VLOOKUP(Table1[[#This Row],[Organism]],'GN and GP categories'!A:B,2,) -> Gram-negative | C69: Specific | D69: Inpatient (non-ICU) | E69: 18-64 | F69: Waterloo Wellington | G69: 2020 | H69: 37 | I69: 100 | J69: >84 | K69: 46 | L69: 49 | M69: >84 | N69: >84 | O69: 73 | P69: 0 | Q69: 0 | R69: 0 | S69: 57 | T69: 100 | U69: 0 | V69: >84 | W69: 78 | X69: 0 | Y69: 100 | Z69: 77 | AA69: 0 | AB69: 84 | AC69: 65 | AD69: >84 | AE69: 0
A70: Escherichia coli | B70: =VLOOKUP(Table1[[#This Row],[Organism]],'GN and GP categories'!A:B,2,) -> Gram-negative | C70: Specific | D70: Inpatient (non-ICU) | E70: 18-64 | F70: Hamilton Niagara Haldimand Brant | G70: 2017 | H70: 86 | I70: >93 | J70: 81 | K70: 47 | L70: 58 | M70: 85 | N70: 88 | O70: 74 | P70: 0 | Q70: 0 | R70: 0 | S70: 60 | T70: >93 | U70: 0 | V70: 86 | W70: 74 | X70: 0 | Y70: 100 | Z70: 75 | AA70: 0 | AB70: 78 | AC70: 64 | AD70: 85 | AE70: 0
A71: Escherichia coli | B71: =VLOOKUP(Table1[[#This Row],[Organism]],'GN and GP categories'!A:B,2,) -> Gram-negative | C71: Specific | D71: Inpatient (non-ICU) | E71: 18-64 | F71: Hamilton Niagara Haldimand Brant | G71: 2018 | H71: 111 | I71: >95 | J71: 78 | K71: 53 | L71: 65 | M71: 84 | N71: 87 | O71: 72 | P71: 0 | Q71: 0 | R71: 0 | S71: 58 | T71: >95 | U71: 0 | V71: 86 | W71: 73 | X71: 0 | Y71: 100 | Z71: 72 | AA71: 0 | AB71: 79 | AC71: 69 | AD71: 85 | AE71: 0
A72: Escherichia coli | B72: =VLOOKUP(Table1[[#This Row],[Organism]],'GN and GP categories'!A:B,2,) -> Gram-negative | C72: Specific | D72: Inpatient (non-ICU) | E72: 18-64 | F72: Hamilton Niagara Haldimand Brant | G72: 2019 | H72: 120 | I72: >95 | J72: 76 | K72: 55 | L72: 63 | M72: 91 | N72: 86 | O72: 83 | P72: 0 | Q72: 0 | R72: 0 | S72: 66 | T72: >95 | U72: 0 | V72: 88 | W72: 82 | X72: 0 | Y72: 100 | Z72: 83 | AA72: 0 | AB72: 84 | AC72: 73 | AD72: 92 | AE72: 0
A73: Escherichia coli | B73: =VLOOKUP(Table1[[#This Row],[Organism]],'GN and GP categories'!A:B,2,) -> Gram-negative | C73: Specific | D73: Inpatient (non-ICU) | E73: 18-64 | F73: Hamilton Niagara Haldimand Brant | G73: 2020 | H73: 132 | I73: >95 | J73: 77 | K73: 51 | L73: 55 | M73: 83 | N73: 79 | O73: 62 | P73: 0 | Q73: 0 | R73: 0 | S73: 59 | T73: >95 | U73: 0 | V73: 88 | W73: 67 | X73: 0 | Y73: 100 | Z73: 68 | AA73: 0 | AB73: 77 | AC73: 75 | AD73: 90 | AE73: 0
A74: Escherichia coli | B74: =VLOOKUP(Table1[[#This Row],[Organism]],'GN and GP categories'!A:B,2,) -> Gram-negative | C74: Specific | D74: Inpatient (non-ICU) | E74: 18-64 | F74: Central West | G74: 2016 | H74: 106 | I74: >94 | J74: 69 | K74: 35 | L74: 34 | M74: 83 | N74: 76 | O74: 59 | P74: 0 | Q74: 0 | R74: 0 | S74: 59 | T74: 100 | U74: 0 | V74: 80 | W74: 59 | X74: 0 | Y74: 100 | Z74: 59 | AA74: 0 | AB74: 75 | AC74: 57 | AD74: 74 | AE74: 0
A75: Escherichia coli | B75: =VLOOKUP(Table1[[#This Row],[Organism]],'GN and GP categories'!A:B,2,) -> Gram-negative | C75: Specific | D75: Inpatient (non-ICU) | E75: 18-64 | F75: Central West | G75: 2017 | H75: 97 | I75: >94 | J75: 62 | K75: 37 | L75: 36 | M75: 75 | N75: 67 | O75: 56 | P75: 0 | Q75: 0 | R75: 0 | S75: 52 | T75: >94 | U75: 0 | V75: 82 | W75: 55 | X75: 0 | Y75: 100 | Z75: 57 | AA75: 0 | AB75: 67 | AC75: 60 | AD75: 68 | AE75: 0
A76: Escherichia coli | B76: =VLOOKUP(Table1[[#This Row],[Organism]],'GN and GP categories'!A:B,2,) -> Gram-negative | C76: Specific | D76: Inpatient (non-ICU) | E76: 18-64 | F76: Central West | G76: 2018 | H76: 112 | I76: >95 | J76: 54 | K76: 35 | L76: 39 | M76: 69 | N76: 61 | O76: 59 | P76: 0 | Q76: 0 | R76: 0 | S76: 69 | T76: >95 | U76: 0 | V76: 83 | W76: 63 | X76: 0 | Y76: >95 | Z76: 61 | AA76: 0 | AB76: 60 | AC76: 56 | AD76: 75 | AE76: 0
A77: Escherichia coli | B77: =VLOOKUP(Table1[[#This Row],[Organism]],'GN and GP categories'!A:B,2,) -> Gram-negative | C77: Specific | D77: Inpatient (non-ICU) | E77: 18-64 | F77: Central West | G77: 2019 | H77: 131 | I77: >95 | J77: 57 | K77: 30 | L77: 50 | M77: 73 | N77: 69 | O77: 50 | P77: 0 | Q77: 0 | R77: 0 | S77: 66 | T77: >95 | U77: 0 | V77: 84 | W77: 52 | X77: 0 | Y77: >95 | Z77: 51 | AA77: 0 | AB77: 69 | AC77: 54 | AD77: 74 | AE77: 0
A78: Escherichia coli | B78: =VLOOKUP(Table1[[#This Row],[Organism]],'GN and GP categories'!A:B,2,) -> Gram-negative | C78: Specific | D78: Inpatient (non-ICU) | E78: 18-64 | F78: Central West | G78: 2020 | H78: 115 | I78: 95 | J78: 64 | K78: 40 | L78: 57 | M78: 72 | N78: 70 | O78: 59 | P78: 0 | Q78: 0 | R78: 0 | S78: 64 | T78: >95 | U78: 0 | V78: 90 | W78: 63 | X78: 0 | Y78: >95 | Z78: 66 | AA78: 0 | AB78: 69 | AC78: 65 | AD78: 83 | AE78: 0
A79: Escherichia coli | B79: =VLOOKUP(Table1[[#This Row],[Organism]],'GN and GP categories'!A:B,2,) -> Gram-negative | C79: Specific | D79: Inpatient (non-ICU) | E79: 18-64 | F79: Mississsauga Halton | G79: 2016 | H79: 79 | I79: >92 | J79: 76 | K79: 52 | L79: 58 | M79: 81 | N79: 86 | O79: 61 | P79: 0 | Q79: 0 | R79: 0 | S79: 65 | T79: 100 | U79: 0 | V79: 90 | W79: 56 | X79: 0 | Y79: 100 | Z79: 58 | AA79: 0 | AB79: 82 | AC79: 68 | AD79: 87 | AE79: 0
A80: Escherichia coli | B80: =VLOOKUP(Table1[[#This Row],[Organism]],'GN and GP categories'!A:B,2,) -> Gram-negative | C80: Specific | D80: Inpatient (non-ICU) | E80: 18-64 | F80: Mississsauga Halton | G80: 2017 | H80: 72 | I80: >92 | J80: 86 | K80: 44 | L80: 50 | M80: 90 | N80: 88 | O80: 71 | P80: 0 | Q80: 0 | R80: 0 | S80: 53 | T80: >92 | U80: 0 | V80: 88 | W80: 69 | X80: 0 | Y80: 100 | Z80: 70 | AA80: 0 | AB80: 81 | AC80: 63 | AD80: 88 | AE80: 0
A81: Escherichia coli | B81: =VLOOKUP(Table1[[#This Row],[Organism]],'GN and GP categories'!A:B,2,) -> Gram-negative | C81: Specific | D81: Inpatient (non-ICU) | E81: 18-64 | F81: Mississsauga Halton | G81: 2018 | H81: 134 | I81: >96 | J81: 79 | K81: 43 | L81: 54 | M81: 87 | N81: 83 | O81: 68 | P81: 0 | Q81: 0 | R81: 0 | S81: 54 | T81: >96 | U81: 0 | V81: 86 | W81: 68 | X81: 0 | Y81: >96 | Z81: 69 | AA81: 0 | AB81: 78 | AC81: 67 | AD81: 84 | AE81: 0
A82: Escherichia coli | B82: =VLOOKUP(Table1[[#This Row],[Organism]],'GN and GP categories'!A:B,2,) -> Gram-negative | C82: Specific | D82: Inpatient (non-ICU) | E82: 18-64 | F82: Mississsauga Halton | G82: 2019 | H82: 106 | I82: >94 | J82: 73 | K82: 43 | L82: 51 | M82: 84 | N82: 78 | O82: 69 | P82: <6 | Q82: 0 | R82: 0 | S82: 60 | T82: >94 | U82: 0 | V82: 86 | W82: 69 | X82: 0 | Y82: 100 | Z82: 70 | AA82: <6 | AB82: 74 | AC82: 65 | AD82: 84 | AE82: 0
A83: Escherichia coli | B83: =VLOOKUP(Table1[[#This Row],[Organism]],'GN and GP categories'!A:B,2,) -> Gram-negative | C83: Specific | D83: Inpatient (non-ICU) | E83: 18-64 | F83: Mississsauga Halton | G83: 2020 | H83: 120 | I83: 94 | J83: 73 | K83: 38 | L83: 49 | M83: 81 | N83: 81 | O83: 61 | P83: 0 | Q83: 0 | R83: 0 | S83: 60 | T83: 94 | U83: 0 | V83: 90 | W83: 63 | X83: 0 | Y83: >95 | Z83: 63 | AA83: 0 | AB83: 74 | AC83: 63 | AD83: 89 | AE83: 0
A84: Escherichia coli | B84: =VLOOKUP(Table1[[#This Row],[Organism]],'GN and GP categories'!A:B,2,) -> Gram-negative | C84: Specific | D84: Inpatient (non-ICU) | E84: 18-64 | F84: Toronto Central | G84: 2016 | H84: 87 | I84: 100 | J84: 77 | K84: 38 | L84: 67 | M84: 87 | N84: 86 | O84: 75 | P84: 0 | Q84: 0 | R84: 0 | S84: 56 | T84: 100 | U84: 0 | V84: 87 | W84: 74 | X84: 0 | Y84: 100 | Z84: 75 | AA84: 0 | AB84: 85 | AC84: 62 | AD84: 87 | AE84: 0
A85: Escherichia coli | B85: =VLOOKUP(Table1[[#This Row],[Organism]],'GN and GP categories'!A:B,2,) -> Gram-negative | C85: Specific | D85: Inpatient (non-ICU) | E85: 18-64 | F85: Toronto Central | G85: 2017 | H85: 103 | I85: >94 | J85: 71 | K85: 42 | L85: 58 | M85: 84 | N85: 83 | O85: 71 | P85: 0 | Q85: 0 | R85: 0 | S85: 58 | T85: >94 | U85: 0 | V85: 86 | W85: 68 | X85: 0 | Y85: >94 | Z85: 71 | AA85: 0 | AB85: 77 | AC85: 71 | AD85: 86 | AE85: 0
A86: Escherichia coli | B86: =VLOOKUP(Table1[[#This Row],[Organism]],'GN and GP categories'!A:B,2,) -> Gram-negative | C86: Specific | D86: Inpatient (non-ICU) | E86: 18-64 | F86: Toronto Central | G86: 2018 | H86: 102 | I86: >94 | J86: 76 | K86: 31 | L86: 50 | M86: 86 | N86: 84 | O86: 68 | P86: 0 | Q86: <6 | R86: 0 | S86: 61 | T86: >94 | U86: 0 | V86: 94 | W86: 69 | X86: 0 | Y86: 100 | Z86: 70 | AA86: 0 | AB86: 80 | AC86: 67 | AD86: 92 | AE86: <6
A87: Escherichia coli | B87: =VLOOKUP(Table1[[#This Row],[Organism]],'GN and GP categories'!A:B,2,) -> Gram-negative | C87: Specific | D87: Inpatient (non-ICU) | E87: 18-64 | F87: Toronto Central | G87: 2019 | H87: 97 | I87: >94 | J87: 75 | K87: 35 | L87: 59 | M87: 88 | N87: 90 | O87: 68 | P87: 0 | Q87: 0 | R87: 0 | S87: 69 | T87: >94 | U87: 0 | V87: 90 | W87: 67 | X87: 0 | Y87: 100 | Z87: 70 | AA87: 0 | AB87: 82 | AC87: 64 | AD87: 93 | AE87: 0
A88: Escherichia coli | B88: =VLOOKUP(Table1[[#This Row],[Organism]],'GN and GP categories'!A:B,2,) -> Gram-negative | C88: Specific | D88: Inpatient (non-ICU) | E88: 18-64 | F88: Toronto Central | G88: 2020 | H88: 116 | I88: >95 | J88: 63 | K88: 37 | L88: 66 | M88: 72 | N88: 79 | O88: 55 | P88: 0 | Q88: 0 | R88: 0 | S88: 59 | T88: 100 | U88: 0 | V88: 91 | W88: 60 | X88: 0 | Y88: 100 | Z88: 62 | AA88: 0 | AB88: 76 | AC88: 62 | AD88: 89 | AE88: 0
A89: Escherichia coli | B89: =VLOOKUP(Table1[[#This Row],[Organism]],'GN and GP categories'!A:B,2,) -> Gram-negative | C89: Specific | D89: Inpatient (non-ICU) | E89: 18-64 | F89: Central | G89: 2016 | H89: 104 | I89: >94 | J89: 79 | K89: 44 | L89: 65 | M89: 85 | N89: 89 | O89: 68 | P89: 0 | Q89: 0 | R89: 0 | S89: 63 | T89: 100 | U89: 0 | V89: 92 | W89: 71 | X89: 0 | Y89: 100 | Z89: 71 | AA89: 0 | AB89: 81 | AC89: 69 | AD89: 91 | AE89: <6
A90: Escherichia coli | B90: =VLOOKUP(Table1[[#This Row],[Organism]],'GN and GP categories'!A:B,2,) -> Gram-negative | C90: Specific | D90: Inpatient (non-ICU) | E90: 18-64 | F90: Central | G90: 2017 | H90: 132 | I90: 95 | J90: 70 | K90: 33 | L90: 53 | M90: 68 | N90: 77 | O90: 67 | P90: 0 | Q90: 0 | R90: 0 | S90: 63 | T90: >95 | U90: 0 | V90: 89 | W90: 65 | X90: 0 | Y90: >95 | Z90: 66 | AA90: 0 | AB90: 76 | AC90: 61 | AD90: 87 | AE90: 0
A91: Escherichia coli | B91: =VLOOKUP(Table1[[#This Row],[Organism]],'GN and GP categories'!A:B,2,) -> Gram-negative | C91: Specific | D91: Inpatient (non-ICU) | E91: 18-64 | F91: Central | G91: 2018 | H91: 133 | I91: >95 | J91: 80 | K91: 53 | L91: 64 | M91: 83 | N91: 83 | O91: 74 | P91: 0 | Q91: 0 | R91: 0 | S91: 56 | T91: >95 | U91: 0 | V91: 88 | W91: 72 | X91: 0 | Y91: >95 | Z91: 75 | AA91: 0 | AB91: 80 | AC91: 74 | AD91: 88 | AE91: 0
A92: Escherichia coli | B92: =VLOOKUP(Table1[[#This Row],[Organism]],'GN and GP categories'!A:B,2,) -> Gram-negative | C92: Specific | D92: Inpatient (non-ICU) | E92: 18-64 | F92: Central | G92: 2019 | H92: 137 | I92: >96 | J92: 74 | K92: 42 | L92: 55 | M92: 79 | N92: 82 | O92: 66 | P92: 0 | Q92: 0 | R92: 0 | S92: 59 | T92: >96 | U92: 0 | V92: 91 | W92: 67 | X92: 0 | Y92: >96 | Z92: 69 | AA92: 0 | AB92: 80 | AC92: 68 | AD92: 91 | AE92: 0
A93: Escherichia coli | B93: =VLOOKUP(Table1[[#This Row],[Organism]],'GN and GP categories'!A:B,2,) -> Gram-negative | C93: Specific | D93: Inpatient (non-ICU) | E93: 18-64 | F93: Central | G93: 2020 | H93: 153 | I93: >96 | J93: 77 | K93: 54 | L93: 66 | M93: 84 | N93: 90 | O93: 61 | P93: 0 | Q93: 0 | R93: 0 | S93: 59 | T93: >96 | U93: 0 | V93: 91 | W93: 71 | X93: 0 | Y93: 100 | Z93: 74 | AA93: 0 | AB93: 88 | AC93: 70 | AD93: 95 | AE93: 0
A94: Escherichia coli | B94: =VLOOKUP(Table1[[#This Row],[Organism]],'GN and GP categories'!A:B,2,) -> Gram-negative | C94: Specific | D94: Inpatient (non-ICU) | E94: 18-64 | F94: Central East | G94: 2016 | H94: 147 | I94: >96 | J94: 82 | K94: 48 | L94: 69 | M94: 86 | N94: 85 | O94: 73 | P94: 0 | Q94: 0 | R94: 0 | S94: 62 | T94: >96 | U94: 0 | V94: 93 | W94: 73 | X94: 0 | Y94: 100 | Z94: 73 | AA94: 0 | AB94: 82 | AC94: 68 | AD94: 92 | AE94: 0
A95: Escherichia coli | B95: =VLOOKUP(Table1[[#This Row],[Organism]],'GN and GP categories'!A:B,2,) -> Gram-negative | C95: Specific | D95: Inpatient (non-ICU) | E95: 18-64 | F95: Central East | G95: 2017 | H95: 148 | I95: >96 | J95: 86 | K95: 47 | L95: 67 | M95: 87 | N95: 87 | O95: 73 | P95: 0 | Q95: 0 | R95: 0 | S95: 64 | T95: >96 | U95: 0 | V95: 93 | W95: 74 | X95: 0 | Y95: 100 | Z95: 74 | AA95: <4 | AB95: 85 | AC95: 70 | AD95: 91 | AE95: 0
A96: Escherichia coli | B96: =VLOOKUP(Table1[[#This Row],[Organism]],'GN and GP categories'!A:B,2,) -> Gram-negative | C96: Specific | D96: Inpatient (non-ICU) | E96: 18-64 | F96: Central East | G96: 2018 | H96: 147 | I96: >96 | J96: 80 | K96: 47 | L96: 63 | M96: 81 | N96: 80 | O96: 75 | P96: 0 | Q96: 0 | R96: 0 | S96: 63 | T96: 95 | U96: 0 | V96: 92 | W96: 75 | X96: 0 | Y96: >96 | Z96: 74 | AA96: 0 | AB96: 78 | AC96: 72 | AD96: 88 | AE96: 0
A97: Escherichia coli | B97: =VLOOKUP(Table1[[#This Row],[Organism]],'GN and GP categories'!A:B,2,) -> Gram-negative | C97: Specific | D97: Inpatient (non-ICU) | E97: 18-64 | F97: Central East | G97: 2019 | H97: 144 | I97: >96 | J97: 76 | K97: 40 | L97: 60 | M97: 76 | N97: 74 | O97: 59 | P97: 0 | Q97: 0 | R97: 0 | S97: 66 | T97: >96 | U97: 0 | V97: 86 | W97: 65 | X97: 0 | Y97: 100 | Z97: 63 | AA97: 0 | AB97: 72 | AC97: 56 | AD97: 85 | AE97: 0
A98: Escherichia coli | B98: =VLOOKUP(Table1[[#This Row],[Organism]],'GN and GP categories'!A:B,2,) -> Gram-negative | C98: Specific | D98: Inpatient (non-ICU) | E98: 18-64 | F98: Central East | G98: 2020 | H98: 162 | I98: >96 | J98: 75 | K98: 40 | L98: 64 | M98: 84 | N98: 80 | O98: 62 | P98: 0 | Q98: 0 | R98: 0 | S98: 59 | T98: >96 | U98: 0 | V98: 83 | W98: 65 | X98: 0 | Y98: 100 | Z98: 65 | AA98: 0 | AB98: 77 | AC98: 71 | AD98: 85 | AE98: 0
A99: Escherichia coli | B99: =VLOOKUP(Table1[[#This Row],[Organism]],'GN and GP categories'!A:B,2,) -> Gram-negative | C99: Specific | D99: Inpatient (non-ICU) | E99: 18-64 | F99: South East | G99: 2018 | H99: 37 | I99: 100 | J99: 68 | K99: 35 | L99: 41 | M99: 81 | N99: 81 | O99: 59 | P99: 0 | Q99: 0 | R99: 0 | S99: 68 | T99: >84 | U99: 0 | V99: >84 | W99: 59 | X99: 0 | Y99: 100 | Z99: 50 | AA99: 0 | AB99: 81 | AC99: 59 | AD99: 84 | AE99: 0
A100: Escherichia coli | B100: =VLOOKUP(Table1[[#This Row],[Organism]],'GN and GP categories'!A:B,2,) -> Gram-negative | C100: Specific | D100: Inpatient (non-ICU) | E100: 18-64 | F100: South East | G100: 2019 | H100: 31 | I100: 100 | J100: 74 | K100: 35 | L100: 39 | M100: 81 | N100: 81 | O100: 71 | P100: 0 | Q100: 0 | R100: 0 | S100: 58 | T100: 100 | U100: 0 | V100: >81 | W100: 65 | X100: 0 | Y100: 100 | Z100: 64 | AA100: 0 | AB100: 74 | AC100: 58 | AD100: 77 | AE100: 0
A101: Escherichia coli | B101: =VLOOKUP(Table1[[#This Row],[Organism]],'GN and GP categories'!A:B,2,) -> Gram-negative | C101: Specific | D101: Inpatient (non-ICU) | E101: 18-64 | F101: South East | G101: 2020 | H101: 48 | I101: >88 | J101: 56 | K101: 27 | L101: 27 | M101: 77 | N101: 77 | O101: 56 | P101: 0 | Q101: 0 | R101: 0 | S101: 63 | T101: >88 | U101: 0 | V101: >88 | W101: 52 | X101: 0 | Y101: 100 | Z101: 46 | AA101: 0 | AB101: 65 | AC101: 77 | AD101: 83 | AE101: 0
...

Sheet GN and GP categories
A1: ~~~GRAM NEGATIVE BACTERIA~~~
A2: Achromobacter species | B2: Gram-negative
A3: Acinetobacter baumannii complex | B3: Gram-negative
A4: Acinetobacter sp. | B4: Gram-negative
A5: Burkholderia cepacia | B5: Gram-negative
A6: Citrobacter braakii | B6: Gram-negative
A7: Citrobacter diversus | B7: Gram-negative
A8: Citrobacter freundii | B8: Gram-negative
A9: Citrobacter koseri | B9: Gram-negative
A10: Citrobacter sp. | B10: Gram-negative
A11: Citrobacter youngae | B11: Gram-negative
A12: Klebsiella aerogenes | B12: Gram-negative
A13: Enterobacter aerogenes | B13: Gram-negative
... A37: Veillonella species | B37: Gram-negative
A38: ~~~GRAM POSITIVE BACTERIA~~~
A39: Enterococcus faecalis | B39: Gram-positive
A40: Enterococcus faecium | B40: Gram-positive
A41: Enterococcus gallinarum | B41: Gram-positive
A42: Enterococcus sp. | B42: Gram-positive
A43: Staphylococcus aureus | B43: Gram-positive
A44: Staphylococcus lugdunensis | B44: Gram-positive
A45: Staphylococcus saprophyticus | B45: Gram-positive
A46: Staphylococcus, coagulase-negative | B46: Gram-positive
A47: Streptococcus agalactiae (GBS) | B47: Gram-positive
A48: Streptococcus pneumoniae | B48: Gram-positive
A49: Streptococcus pyogenes (GAS) | B49: Gram-positive
A50: Streptococcus, anginosis group | B50: Gram-positive
... A114: Moraxella sp. | B114: Gram-negative

Sheet Sheet1

Sheet LHIN
A2: All | B2: All LHINs
A3: 1 | B3: Erie St. Clair
A4: 2 | B4: South West
A5: 3 | B5: Waterloo Wellington
A6: 4 | B6: Hamilton Niagara Brant
A7: 5 | B7: Central West
A8: 6 | B8: Mississauga Halton
A9: 7 | B9: Toronto Central
A10: 8 | B10: Central
A11: 9 | B11: Central East
A12: 10 | B12: South East
A13: 11 | B13: Champlain
A14: 12 | B14: North Simcoe Muskoka
... A16: 14 | B16: North West
